BEGIN:VCALENDAR
VERSION:2.0
PRODID:-//Bindus vzw - ECPv6.15.20//NONSGML v1.0//EN
CALSCALE:GREGORIAN
METHOD:PUBLISH
X-WR-CALNAME:Bindus vzw
X-ORIGINAL-URL:https://bindusvzw.be
X-WR-CALDESC:Evenementen voor Bindus vzw
REFRESH-INTERVAL;VALUE=DURATION:PT1H
X-Robots-Tag:noindex
X-PUBLISHED-TTL:PT1H
BEGIN:VTIMEZONE
TZID:Europe/Helsinki
BEGIN:DAYLIGHT
TZOFFSETFROM:+0200
TZOFFSETTO:+0300
TZNAME:EEST
DTSTART:20250330T010000
END:DAYLIGHT
BEGIN:STANDARD
TZOFFSETFROM:+0300
TZOFFSETTO:+0200
TZNAME:EET
DTSTART:20251026T010000
END:STANDARD
BEGIN:DAYLIGHT
TZOFFSETFROM:+0200
TZOFFSETTO:+0300
TZNAME:EEST
DTSTART:20260329T010000
END:DAYLIGHT
BEGIN:STANDARD
TZOFFSETFROM:+0300
TZOFFSETTO:+0200
TZNAME:EET
DTSTART:20261025T010000
END:STANDARD
BEGIN:DAYLIGHT
TZOFFSETFROM:+0200
TZOFFSETTO:+0300
TZNAME:EEST
DTSTART:20270328T010000
END:DAYLIGHT
BEGIN:STANDARD
TZOFFSETFROM:+0300
TZOFFSETTO:+0200
TZNAME:EET
DTSTART:20271031T010000
END:STANDARD
END:VTIMEZONE
BEGIN:VEVENT
DTSTART;TZID=Europe/Helsinki:20260421T140000
DTEND;TZID=Europe/Helsinki:20260421T163000
DTSTAMP:20260421T014206
CREATED:20250916T121517Z
LAST-MODIFIED:20250916T121517Z
UID:10001680-1776780000-1776789000@bindusvzw.be
SUMMARY:Gesprekken op dinsdag met Dusod
DESCRIPTION:Bewustwordingsgesprek met de coaches van Dusod\nIedere dinsdag organiseert coach Yurdagül een online\ngespreksmoment dat gericht is op persoonlijke groei\nen de verbinding met jezelf. Creëer meer bewustzijn\nbij jezelf en de wereld om je heen. \n🗓️ Iedere dinsdag \n🕑 start om 14u \n📍online via Zoom \n💶 Deelname: gratis  \n✨ Iedereen is welkom \n🌍 DUSOD HOLISTISCHE ADEMHALINGSACADEMIDIE is ICF gecertificeerd 🌍 \n🖊️ Meer informatie en inschrijven via Yurdagulcengiz@hotmail.com \n 
URL:https://bindusvzw.be/activiteiten/gesprekken-op-dinsdag-met-dusod-32/
LOCATION:Online\, België
CATEGORIES:Activiteit Leden
ATTACH;FMTTYPE=image/webp:https://bindusvzw.be/wp-content/uploads/2025/04/logo-dusod.webp
END:VEVENT
BEGIN:VEVENT
DTSTART;TZID=Europe/Helsinki:20260421T173000
DTEND;TZID=Europe/Helsinki:20260421T213000
DTSTAMP:20260421T014206
CREATED:20250729T083550Z
LAST-MODIFIED:20250729T083550Z
UID:10001388-1776792600-1776807000@bindusvzw.be
SUMMARY:Svetulka: Bulgaarse folkloregroep
DESCRIPTION:Danslessen Bulgaarse folklore\n🗓️ Iedere dinsdag\, donderdag en zondag met uitzondering van de zomervakantie (juli en augustus) \n⏰ Dinsdag: 17u30-21u30\n⏰Donderdag: 17u30-21u30\n ⏰ Zondag: 14u30-19u00\n \n📍 Bindus\, Brederodestraat 188\, 2018 Antwerpen \n❗Afhankelijk van optredens in het binnen en buitenland kunnen er wijzigingen zijn in de planning \n✨ Mee te nemen: dansschoenen en comfortabele danskleding en een flesje water \n🖊️ inschrijven en meer informatie via Svetulka@skynet.be
URL:https://bindusvzw.be/activiteiten/svetulka-bulgaarse-folkloregroep-179/
LOCATION:Bindus Antwerpen\, Brederodestraat 188\, Antwerpen\, antwerpen\, 2000\, België
CATEGORIES:Activiteit Leden
ATTACH;FMTTYPE=image/jpeg:https://bindusvzw.be/wp-content/uploads/2024/12/341b5fe5-4e47-4669-9182-fa176066e9c5.jpg
ORGANIZER;CN="Svetulka":MAILTO:Svetulka@skynet.be
END:VEVENT
BEGIN:VEVENT
DTSTART;TZID=Europe/Helsinki:20260421T190000
DTEND;TZID=Europe/Helsinki:20260421T210000
DTSTAMP:20260421T014206
CREATED:20250512T132452Z
LAST-MODIFIED:20250512T132452Z
UID:10000760-1776798000-1776805200@bindusvzw.be
SUMMARY:Saz lessen voor volwassenen
DESCRIPTION:Sazlessen voor volwassenen \nWanneer: Elke dinsdag van 19.00 – 21.00 \nWaar: Bindus Limburg Teutenweg 13 – 3550 Heusden Zolder \ngratis \nDe bağlama of saz is een snaarinstrument\, met twee dubbelkorige snaren en een tripelkorige snaar. Het is een muziekinstrument uit de familie van langhalsluiten. De benaming bağlama duidt exact het instrument aan\, terwijl de bekendere naam saz feitelijk eerder snaarinstrument betekent. \nDe houten klankkast van de saz bestaat uit een stuk en wordt soms aan de zijkant rondom ingelegd met andere houtsoorten ter versiering. De stempinnen staan niet in een vlak maar staan zowel dwars op de hals (zoals bij een viool) als aan de onderzijde van de hals. \nHet instrument wordt bespeeld met een dun langwerpig plectrum. \nDe bağlama is niet alleen in Turkije een zeer populair instrument\, en wordt gemaakt in een groot aantal afmetingen. Van klein naar groot: \nCursus wordt gegeven door Ismail Erdogdu van Music Club Beringen \nDe bağlama of saz is een snaarinstrument\, met twee dubbelkorige snaren en een tripelkorige snaar. Het is een muziekinstrument uit de familie van langhalsluiten. De benaming bağlama duidt exact het instrument aan\, terwijl de bekendere naam saz feitelijk eerder snaarinstrument betekent. \nDe bağlama is niet alleen in Turkije een zeer populair instrument\, maar ook in het Midden-Oosten
URL:https://bindusvzw.be/activiteiten/saz-lessen-voor-volwassenen/2026-04-21/
LOCATION:Bindus Limburg\, Teutenweg 13\, Heusden-Zolder\, Limburg\, 3550\, België
CATEGORIES:Activiteit Leden,Regionale Activiteit Limburg
ATTACH;FMTTYPE=image/png:https://bindusvzw.be/wp-content/uploads/2025/05/MusicClub.png
END:VEVENT
END:VCALENDAR