BEGIN:VCALENDAR
VERSION:2.0
PRODID:-//Bindus vzw - ECPv6.15.20//NONSGML v1.0//EN
CALSCALE:GREGORIAN
METHOD:PUBLISH
X-ORIGINAL-URL:https://bindusvzw.be
X-WR-CALDESC:Evenementen voor Bindus vzw
REFRESH-INTERVAL;VALUE=DURATION:PT1H
X-Robots-Tag:noindex
X-PUBLISHED-TTL:PT1H
BEGIN:VTIMEZONE
TZID:Europe/Helsinki
BEGIN:DAYLIGHT
TZOFFSETFROM:+0200
TZOFFSETTO:+0300
TZNAME:EEST
DTSTART:20240331T010000
END:DAYLIGHT
BEGIN:STANDARD
TZOFFSETFROM:+0300
TZOFFSETTO:+0200
TZNAME:EET
DTSTART:20241027T010000
END:STANDARD
BEGIN:DAYLIGHT
TZOFFSETFROM:+0200
TZOFFSETTO:+0300
TZNAME:EEST
DTSTART:20250330T010000
END:DAYLIGHT
BEGIN:STANDARD
TZOFFSETFROM:+0300
TZOFFSETTO:+0200
TZNAME:EET
DTSTART:20251026T010000
END:STANDARD
BEGIN:DAYLIGHT
TZOFFSETFROM:+0200
TZOFFSETTO:+0300
TZNAME:EEST
DTSTART:20260329T010000
END:DAYLIGHT
BEGIN:STANDARD
TZOFFSETFROM:+0300
TZOFFSETTO:+0200
TZNAME:EET
DTSTART:20261025T010000
END:STANDARD
END:VTIMEZONE
BEGIN:VEVENT
DTSTART;TZID=Europe/Helsinki:20250702T130000
DTEND;TZID=Europe/Helsinki:20250702T170000
DTSTAMP:20260422T125433
CREATED:20251006T131739Z
LAST-MODIFIED:20251006T131739Z
UID:10001753-1751461200-1751475600@bindusvzw.be
SUMMARY:Workshop spelenderwijs Nederlands leren
DESCRIPTION:Inclusion Lab organiseert\neen workshop spelenderwijs Nederlands leren\n  \n✨ Inclusion lab staat gekend voor hun innovatieve aanpak\nom de integratie van jonge vluchtelingen in Brussel\nte bevorderen. In samenwerking met verschillende\nBrusselse vluchtelingencentra werkt de organisatie\neen aanbod uit op maat. \n❗thema: Het leren van de Nederlandse taal met gebruik van games \n🗓️ woensdag 2 juli  \n📍Samu Social: Ernest Masoinlaan 95\n1020 Brussel \n🤝 In samenwerking met Samu Social Laken \n🖊️ Meer informatie: inclusionlab07@gmail.com
URL:https://bindusvzw.be/activiteiten/workshop-spelenderwijs-nederlands-leren-2/
LOCATION:Samu Social\, Ernest Masoinlaan 95\, 1020
CATEGORIES:Activiteit Leden,Regionale Activiteit Brussel
ATTACH;FMTTYPE=image/jpeg:https://bindusvzw.be/wp-content/uploads/2025/03/goed-logo-inclusion-lab.jpg
ORGANIZER;CN="Inclusion Lab":MAILTO:inclusionlab07@gmail.com
END:VEVENT
BEGIN:VEVENT
DTSTART;TZID=Europe/Helsinki:20250709T130000
DTEND;TZID=Europe/Helsinki:20250709T170000
DTSTAMP:20260422T125433
CREATED:20251006T132904Z
LAST-MODIFIED:20251006T132904Z
UID:10001754-1752066000-1752080400@bindusvzw.be
SUMMARY:Lesaanbod Nederlands
DESCRIPTION:Inclusion Lab organiseert een conversatietafel Nederlands\n  \n✨ Inclusion lab staat gekend voor hun innovatieve aanpak\nom de integratie van jonge vluchtelingen in Brussel\nte bevorderen. In samenwerking met verschillende\nBrusselse vluchtelingencentra werkt de organisatie\neen aanbod uit op maat. \n❗thema: Het leren en oefenen van het Nederlands \n🗓️ woensdag 9 juli \n📍Fedasil: François Sebrechtslaan 40\n1080 Sint-Jans-Molenbeek \n🖊️ Meer informatie: inclusionlab07@gmail.com
URL:https://bindusvzw.be/activiteiten/lesaanbod-nederlands-3/
LOCATION:Fedasil Molenbeek\, François Sebrechtslaan 40\, 1080 Sint-Jans-Molenbeek
CATEGORIES:Activiteit Leden,Regionale Activiteit Brussel
ATTACH;FMTTYPE=image/jpeg:https://bindusvzw.be/wp-content/uploads/2025/03/goed-logo-inclusion-lab.jpg
ORGANIZER;CN="Inclusion Lab":MAILTO:inclusionlab07@gmail.com
END:VEVENT
BEGIN:VEVENT
DTSTART;TZID=Europe/Helsinki:20250716T130000
DTEND;TZID=Europe/Helsinki:20250716T170000
DTSTAMP:20260422T125433
CREATED:20251006T133055Z
LAST-MODIFIED:20251006T133055Z
UID:10001755-1752670800-1752685200@bindusvzw.be
SUMMARY:Workshop STEM met gaming
DESCRIPTION:Inclusion Lab organiseert\neen workshop STEM met gaming 2.0\n \n✨ Inclusion lab staat gekend voor hun innovatieve aanpak om de integratie van jonge vluchtelingen in Brussel te bevorderen.  In samenwerking met verschillende Brusselse vluchtelingencentra werkt de organisatie een aanbod uit op maat. \n❗thema: STEM\nSTEM is een internationaal letterwoord dat staat voor wetenschappen\, technologie\, techniek en wiskunde \n🗓️ woensdag 16 juli \n📍Anderlecht \n🖊️ Meer informatie: inclusionlab07@gmail.com
URL:https://bindusvzw.be/activiteiten/workshop-stem-met-gaming-4/
CATEGORIES:Activiteit Leden,Regionale Activiteit Brussel
ATTACH;FMTTYPE=image/jpeg:https://bindusvzw.be/wp-content/uploads/2025/03/goed-logo-inclusion-lab.jpg
ORGANIZER;CN="Inclusion Lab":MAILTO:inclusionlab07@gmail.com
END:VEVENT
BEGIN:VEVENT
DTSTART;TZID=Europe/Helsinki:20250723T130000
DTEND;TZID=Europe/Helsinki:20250723T170000
DTSTAMP:20260422T125433
CREATED:20251006T133503Z
LAST-MODIFIED:20251006T133503Z
UID:10001756-1753275600-1753290000@bindusvzw.be
SUMMARY:Inclusion lab organiseert een workshop
DESCRIPTION:Inclusion Lab organiseert een workshop met als thema hoe maak je een goede c.v.\n  \n✨ Inclusion lab staat gekend voor hun innovatieve aanpak\nom de integratie van jonge vluchtelingen in Brussel\nte bevorderen. In samenwerking met verschillende\nBrusselse vluchtelingencentra werkt de organisatie\neen aanbod uit op maat. \n🗓️ woensdag 23  juli \n📍Fedasil: François Sebrechtslaan 40\, 1080 Sint-Jans-Molenbeek \n🖊️ Meer informatie: inclusionlab07@gmail.com
URL:https://bindusvzw.be/activiteiten/inclusion-lab-organiseert-een-workshop-7/
LOCATION:Fedasil Molenbeek\, François Sebrechtslaan 40\, 1080 Sint-Jans-Molenbeek
CATEGORIES:Activiteit Leden,Regionale Activiteit Brussel
ATTACH;FMTTYPE=image/jpeg:https://bindusvzw.be/wp-content/uploads/2025/03/goed-logo-inclusion-lab.jpg
ORGANIZER;CN="Inclusion Lab":MAILTO:inclusionlab07@gmail.com
END:VEVENT
BEGIN:VEVENT
DTSTART;TZID=Europe/Helsinki:20250924T130000
DTEND;TZID=Europe/Helsinki:20250924T170000
DTSTAMP:20260422T125433
CREATED:20251006T134455Z
LAST-MODIFIED:20251006T134455Z
UID:10001757-1758718800-1758733200@bindusvzw.be
SUMMARY:Maak kennis met Inclusion Lab
DESCRIPTION:Inclusion Lab organiseert een Kick off Meeting\n  \n✨ Inclusion lab staat gekend voor hun innovatieve aanpak\nom de integratie van jonge vluchtelingen in Brussel\nte bevorderen. In samenwerking met verschillende\nBrusselse vluchtelingencentra werkt de organisatie\neen aanbod uit op maat. \n🗓️ woensdag 24  september \n📍Fedasil: François Sebrechtslaan 40\, 1080 Sint-Jans-Molenbeek \n🤝 in samenwerking met Fedasil \n🖊️ Meer informatie: inclusionlab07@gmail.com
URL:https://bindusvzw.be/activiteiten/maak-kennis-met-inclusion-lab/
LOCATION:Fedasil Molenbeek\, François Sebrechtslaan 40\, 1080 Sint-Jans-Molenbeek
CATEGORIES:Activiteit Leden,Regionale Activiteit Brussel
ATTACH;FMTTYPE=image/jpeg:https://bindusvzw.be/wp-content/uploads/2025/03/goed-logo-inclusion-lab.jpg
ORGANIZER;CN="Inclusion Lab":MAILTO:inclusionlab07@gmail.com
END:VEVENT
BEGIN:VEVENT
DTSTART;TZID=Europe/Helsinki:20251129T140000
DTEND;TZID=Europe/Helsinki:20251129T170000
DTSTAMP:20260422T125433
CREATED:20251028T135959Z
LAST-MODIFIED:20251028T135959Z
UID:10001768-1764424800-1764435600@bindusvzw.be
SUMMARY:Bindus organiseert een solidariteitsactiviteit in Brussel
DESCRIPTION:Solidariteitsactie “Sweet November”\n\n  \nIn samenwerking met Orbit vzw\, Inclusion Lab en Zone Femmes organiseren we een solidariteitsmarkt ten voordele van een goed doel.\nMet deze activiteit zetten we Brusselse verenigingen en hun aanbod in de kijker en zorgen we voor verbinding met de buurt.\nTijdens deze activiteit zal er zowel een aanbod zijn voor kinderen als volwassen.\nKom en ontdek! \n🗓️ zaterdag 29 november  \n⏰ 14u-17u   \n📍 Zaal Rasquinet\, Josaphatstraat 109 \, 1030 schaarbeek \n🤝 In samenwerking met Dusod\, Karim Library\, ETIO\, VOEM vzw\, The Touch of Love Academy en Galaxy Academy \n💶 Deelname: toegang is gratis\, vrije bijdrage \n  \n 
URL:https://bindusvzw.be/activiteiten/bindus-organiseert-een-solidariteitsactiviteit-in-brussel/
LOCATION:Zaal Rasquinet\, Josaphatstraat 109\, Schaarbeek\, 1030\, België
CATEGORIES:Activiteit Leden,Regionale Activiteit Brussel
ORGANIZER;CN="Bindus vzw":MAILTO:info@bindusvzw.be
END:VEVENT
END:VCALENDAR