BEGIN:VCALENDAR
VERSION:2.0
PRODID:-//Bindus vzw - ECPv6.15.20//NONSGML v1.0//EN
CALSCALE:GREGORIAN
METHOD:PUBLISH
X-WR-CALNAME:Bindus vzw
X-ORIGINAL-URL:https://bindusvzw.be
X-WR-CALDESC:Evenementen voor Bindus vzw
REFRESH-INTERVAL;VALUE=DURATION:PT1H
X-Robots-Tag:noindex
X-PUBLISHED-TTL:PT1H
BEGIN:VTIMEZONE
TZID:Europe/Helsinki
BEGIN:DAYLIGHT
TZOFFSETFROM:+0200
TZOFFSETTO:+0300
TZNAME:EEST
DTSTART:20220327T010000
END:DAYLIGHT
BEGIN:STANDARD
TZOFFSETFROM:+0300
TZOFFSETTO:+0200
TZNAME:EET
DTSTART:20221030T010000
END:STANDARD
BEGIN:DAYLIGHT
TZOFFSETFROM:+0200
TZOFFSETTO:+0300
TZNAME:EEST
DTSTART:20230326T010000
END:DAYLIGHT
BEGIN:STANDARD
TZOFFSETFROM:+0300
TZOFFSETTO:+0200
TZNAME:EET
DTSTART:20231029T010000
END:STANDARD
BEGIN:DAYLIGHT
TZOFFSETFROM:+0200
TZOFFSETTO:+0300
TZNAME:EEST
DTSTART:20240331T010000
END:DAYLIGHT
BEGIN:STANDARD
TZOFFSETFROM:+0300
TZOFFSETTO:+0200
TZNAME:EET
DTSTART:20241027T010000
END:STANDARD
BEGIN:DAYLIGHT
TZOFFSETFROM:+0200
TZOFFSETTO:+0300
TZNAME:EEST
DTSTART:20250330T010000
END:DAYLIGHT
BEGIN:STANDARD
TZOFFSETFROM:+0300
TZOFFSETTO:+0200
TZNAME:EET
DTSTART:20251026T010000
END:STANDARD
END:VTIMEZONE
BEGIN:VEVENT
DTSTART;TZID=Europe/Helsinki:20240226T130000
DTEND;TZID=Europe/Helsinki:20240226T170000
DTSTAMP:20260425T181319
CREATED:20250304T114258Z
LAST-MODIFIED:20250304T114358Z
UID:10000437-1708952400-1708966800@bindusvzw.be
SUMMARY:Workshop STEM met gaming
DESCRIPTION:Inclusion Lab organiseert\neen workshop STEM met gaming\n \n✨ Inclusion lab staat gekend voor hun innovatieve aanpak om de integratie van jonge vluchtelingen in Brussel te bevorderen.  In samenwerking met verschillende Brusselse vluchtelingencentra werkt de organisatie een aanbod uit op maat. \n❗thema: STEM\nSTEM is een internationaal letterwoord dat staat voor wetenschappen\, technologie\, techniek en wiskunde \n🗓️ maandag 26 februari \n📍Anderlecht \n🤝 In samenwerking met Fablab \n🖊️ Meer informatie: inclusionlab07@gmail.com
URL:https://bindusvzw.be/activiteiten/workshop-stem-met-gaming/
CATEGORIES:Activiteit Leden,Regionale Activiteit Brussel
ATTACH;FMTTYPE=image/jpeg:https://bindusvzw.be/wp-content/uploads/2025/03/goed-logo-inclusion-lab.jpg
ORGANIZER;CN="Inclusion Lab":MAILTO:inclusionlab07@gmail.com
END:VEVENT
BEGIN:VEVENT
DTSTART;TZID=Europe/Helsinki:20240219T130000
DTEND;TZID=Europe/Helsinki:20240219T170000
DTSTAMP:20260425T181319
CREATED:20250304T113023Z
LAST-MODIFIED:20250304T113023Z
UID:10000435-1708347600-1708362000@bindusvzw.be
SUMMARY:Innovatieve taalcursus Nederlands
DESCRIPTION:Ontdek het Nederlands door Virtual reality\n \n✨ Inclusion lab staat gekend voor hun innovatieve aanpak om de integratie van jonge vluchtelingen in Brussel te bevorderen.\nIn samenwerking met verschillende Brusselse vluchtelingencentra werkt de organisatie een aanbod uit op maat. \n❗thema: Nederlands leren met virtual reality \n🗓️ maandag 19 februari  \n📍Samu Social: Ernest Masoinlaan 95\n1020 Brussel \n🤝 In samenwerking met Samu Social Laken \n🖊️ Meer informatie: inclusionlab07@gmail.com
URL:https://bindusvzw.be/activiteiten/innovatieve-taalcursus-nederlands/
LOCATION:Samu Social\, Ernest Masoinlaan 95\, 1020
CATEGORIES:Activiteit Leden,Regionale Activiteit Brussel
ATTACH;FMTTYPE=image/jpeg:https://bindusvzw.be/wp-content/uploads/2025/03/goed-logo-inclusion-lab.jpg
ORGANIZER;CN="Inclusion Lab":MAILTO:inclusionlab07@gmail.com
END:VEVENT
BEGIN:VEVENT
DTSTART;TZID=Europe/Helsinki:20240218T130000
DTEND;TZID=Europe/Helsinki:20240218T180000
DTSTAMP:20260425T181319
CREATED:20241106T130019Z
LAST-MODIFIED:20241106T143035Z
UID:10000068-1708261200-1708279200@bindusvzw.be
SUMMARY:Wandel naar jezelf
DESCRIPTION:Kom ons vergezellen tijdens onze eerste wandeleditie in Bokrijk\n  \n\n  \nKom ons vergezellen! \n📅 18 februari \n📍 Kasteel van Bokrijk (parkeren kan aan P1 Bokrijk) \n📚 Dankbaarheidsdagboek \n📧 inschrijven via zainab@womanifest.be \n  \n  \n 
URL:https://bindusvzw.be/activiteiten/wandel-naar-jezelf/
LOCATION:Bokrijk\, Bokrijklaan 1\, Genk\, 3600
CATEGORIES:Activiteit Leden
ORGANIZER;CN="Womanifest":MAILTO:info@womanifest.be
END:VEVENT
BEGIN:VEVENT
DTSTART;TZID=Europe/Helsinki:20240212T130000
DTEND;TZID=Europe/Helsinki:20240212T170000
DTSTAMP:20260425T181319
CREATED:20250304T103025Z
LAST-MODIFIED:20250304T104140Z
UID:10000434-1707742800-1707757200@bindusvzw.be
SUMMARY:Workshop "Hoe je C.V. maken'
DESCRIPTION:Inclusion Lab organiseert\neen workshop ‘Hoe maak je een C.V.’\n\n✨ Inclusion lab staat gekend voor hun innovatieve aanpak om de integratie van jonge vluchtelingen in Brussel te bevorderen.  In samenwerking met verschillende Brusselse vluchtelingencentra werkt de organisatie een aanbod uit op maat. \n❗thema: Hoe maak je een C.V. \n🗓️ maandag 12 februari \n📍Fedasil Molenbeek: François Sebrechtslaan 40\n1080 Sint-Jans-Molenbeek \n🤝 In samenwerking met Fedasil Molenbeek \n🖊️ Meer informatie: inclusionlab07@gmail.com
URL:https://bindusvzw.be/activiteiten/workshop-hoe-je-c-v-maken/
LOCATION:Fedasil Molenbeek\, François Sebrechtslaan 40\, 1080 Sint-Jans-Molenbeek
CATEGORIES:Activiteit Leden,Regionale Activiteit Brussel
ATTACH;FMTTYPE=image/jpeg:https://bindusvzw.be/wp-content/uploads/2025/03/goed-logo-inclusion-lab.jpg
ORGANIZER;CN="Inclusion Lab":MAILTO:inclusionlab07@gmail.com
END:VEVENT
BEGIN:VEVENT
DTSTART;VALUE=DATE:20240101
DTEND;VALUE=DATE:20240701
DTSTAMP:20260425T181319
CREATED:20250415T133433Z
LAST-MODIFIED:20250415T133433Z
UID:10000677-1704067200-1719791999@bindusvzw.be
SUMMARY:Vliegtickets voor hulpbehoevende families
DESCRIPTION:Dankzij vliegtickets de mogelijkheid tot hereniging\n  \n🗓️ januari 2024 tot juni 2024 \n \n❔In samenwerking met Miles4Migrants kan ETIO vliegtickets aanbieden aan hulpbehoevende gezinnen. \n📍Brussel  \n🤝 In samenwerking met Miles4Migrants \n🖊️ Meer informatie via etio.edu@hotmail.com of 0466 0388 90 \n 
URL:https://bindusvzw.be/activiteiten/vliegtickets-voor-hulpbehoevende-families/
LOCATION:Brussel
CATEGORIES:Activiteit Leden
ATTACH;FMTTYPE=image/jpeg:https://bindusvzw.be/wp-content/uploads/2025/04/Logo-ETIO.jpg
ORGANIZER;CN="ETIO":MAILTO:etio.edu@hotmail.com
END:VEVENT
BEGIN:VEVENT
DTSTART;TZID=Europe/Helsinki:20231222T190000
DTEND;TZID=Europe/Helsinki:20231222T220000
DTSTAMP:20260425T181319
CREATED:20250804T112713Z
LAST-MODIFIED:20250804T112751Z
UID:10001420-1703271600-1703282400@bindusvzw.be
SUMMARY:Womanifest organiseert mee een benefietavond
DESCRIPTION:The Voices for Gaza – Benefietavond\n \n🗓️ 22 december \n⏰ 19.00u – 22.00u \n📍 De Blikfabriek– Krugerstraat 232\, Antwerpen \n💶 35 euro (alle opbrengsten gaan naar families in Gaza)  \n✨ The Voice for Gaza is een benefietavond georganiseerd door Womanifest en Voem vzw. Het wordt een cultureel leerrijke\navond met poëzie\, muziek\, lekker eten en boeiende gesprekken van onder andere prof. Dr. Dries Lesage. Hij is als\nprofessor verbonden aan het Gents instituut voor Internationale Studies van de Universiteit Gent en doceert onder meer\n‘Geschiedenis van de Wereldpolitiek’ en (Theorie van de Internationale Betrekkingen’. Hij zal meer vertellen over de\ngeschiedenis van de oorlog en de huidige politieke dynamiek. \n❓ Meer informatie via: info@womanifest.be \n🖋️ Inschrijven via: The Voices for Gaza \n  \n 
URL:https://bindusvzw.be/activiteiten/womanifest-organiseert-mee-een-benefietavond/
LOCATION:Blikfabriek\, Krugerstraat 232\, Hoboen
CATEGORIES:Activiteit Leden
ORGANIZER;CN="Womanifest":MAILTO:info@womanifest.be
END:VEVENT
BEGIN:VEVENT
DTSTART;TZID=Europe/Helsinki:20231220T140000
DTEND;TZID=Europe/Helsinki:20231220T170000
DTSTAMP:20260425T181319
CREATED:20250415T125857Z
LAST-MODIFIED:20250415T125953Z
UID:10000673-1703080800-1703091600@bindusvzw.be
SUMMARY:Solidariteitsactie in Brussel
DESCRIPTION:Speelgoed voor Somalië\n  \n🗓️ zondag 15 december \n❔Dankzij verschillende donaties en inzamelacties kan ETIO heel wat speelgoed en\nverzorgingsproducten uitdelen aan kinderen uit kansarme gezinnen \n📍Brussel \n✨ Gericht op kansarme gezinnen met Somalissche of Etiopische achtergrond \n🤝 In samenwerking met verschillende donoren \n🖊️ Meer informatie via etio.edu@hotmail.com of 0466 0388 90 \n 
URL:https://bindusvzw.be/activiteiten/solidariteitsactie-in-brussel/
LOCATION:Brussel
CATEGORIES:Activiteit Leden
ATTACH;FMTTYPE=image/jpeg:https://bindusvzw.be/wp-content/uploads/2025/04/Logo-ETIO.jpg
ORGANIZER;CN="ETIO":MAILTO:etio.edu@hotmail.com
END:VEVENT
BEGIN:VEVENT
DTSTART;TZID=Europe/Helsinki:20231218T100000
DTEND;TZID=Europe/Helsinki:20231218T120000
DTSTAMP:20260425T181319
CREATED:20241211T094249Z
LAST-MODIFIED:20241211T094249Z
UID:10000333-1702893600-1702900800@bindusvzw.be
SUMMARY:Slotmoment VIVA FOR LIFE
DESCRIPTION:Overhandiging cheque ten voordele van het goede doel\n🗓️ Maandag 18 december 2023 \n⏰ Van 10.00 tot 12.00 \n📍 Sint-Joost-ten-Node \n🎊Vol trots kan de Touch of Love Academy maar liefst 445 euro schenken aan het goede doel \n 
URL:https://bindusvzw.be/activiteiten/slotmoment-viva-for-life/
LOCATION:Tekince\, Haachtsesteenweg 133\, Schaarbeek\, 1030\, België
CATEGORIES:Activiteit Leden
ATTACH;FMTTYPE=image/jpeg:https://bindusvzw.be/wp-content/uploads/2024/12/viva-for-life-cheque.jpg
END:VEVENT
BEGIN:VEVENT
DTSTART;VALUE=DATE:20231216
DTEND;VALUE=DATE:20231217
DTSTAMP:20260425T181319
CREATED:20240606T132423Z
LAST-MODIFIED:20240606T132423Z
UID:10000027-1702684800-1702771199@bindusvzw.be
SUMMARY:Nieuwjaarsviering
DESCRIPTION:
URL:https://bindusvzw.be/activiteiten/nieuwjaarsviering/
LOCATION:Bindus Antwerpen\, Brederodestraat 188\, Antwerpen\, antwerpen\, 2000\, België
CATEGORIES:Regionale Activiteit Antwerpen
END:VEVENT
BEGIN:VEVENT
DTSTART;TZID=Europe/Helsinki:20231215T140000
DTEND;TZID=Europe/Helsinki:20231215T170000
DTSTAMP:20260425T181319
CREATED:20250415T121234Z
LAST-MODIFIED:20250415T121619Z
UID:10000672-1702648800-1702659600@bindusvzw.be
SUMMARY:ETIO op bezoek bij Fedasil Broechem
DESCRIPTION:Na een inzamelactie gaat ETIO langs bij het opvangcentrum in Broechem\n🗓️ 15 december \n❔ETIO zamelde de afgelopen periode heel wat speelgoed in waarmee de organisatie nu kan\nlangsgaan in het opvangcentrum van Fedasil om kinderen en jongeren een fijn moment te bezorgen.\nHun inzamelactie leverde meer dan 40 stuks speelgoed op!  \n📍Fedasil\, Van Den Nestlaan 104\, 2520 Ranst \n✨ Gericht op de personen die verblijven in het opvangcentrum \n🤝 In samenwerking met Fedasil \n🖊️ Meer informatie via etio.edu@hotmail.com of 0466 0388 90 \n 
URL:https://bindusvzw.be/activiteiten/iedereen-welkom-op-de-zomerpicnic-van-etio-2/
LOCATION:Fedasil Broechm\, Van Den Nestlaan 104\, Ranst\, België
CATEGORIES:Activiteit Leden
ATTACH;FMTTYPE=image/jpeg:https://bindusvzw.be/wp-content/uploads/2025/04/Logo-ETIO.jpg
ORGANIZER;CN="ETIO":MAILTO:etio.edu@hotmail.com
END:VEVENT
BEGIN:VEVENT
DTSTART;TZID=Europe/Helsinki:20231213T100000
DTEND;TZID=Europe/Helsinki:20231213T120000
DTSTAMP:20260425T181319
CREATED:20241127T151436Z
LAST-MODIFIED:20241127T151436Z
UID:10000146-1702461600-1702468800@bindusvzw.be
SUMMARY:Ontbijtactie
DESCRIPTION:Ontbijt ten voordele van VIVA FOR LIFE\n🗓️ Zondag 13 december 2023 \n⏰ Van 10.00 tot 12.00 \n📍 Haachtsesteenweg 133\, 1030 Schaarbeek \n💶 Deelname: 20 euro per persoon \n✍️ Reserveren gewenst \n🤝 Meer informatie: www.sjtn.brussels en www.rtbf.be/vivaforlife \n📱 Hava Alp 0486 40 86 14 \n 
URL:https://bindusvzw.be/activiteiten/ontbijtactie/
LOCATION:Tekince\, Haachtsesteenweg 133\, Schaarbeek\, 1030\, België
CATEGORIES:Activiteit Leden
END:VEVENT
BEGIN:VEVENT
DTSTART;VALUE=DATE:20231209
DTEND;VALUE=DATE:20231210
DTSTAMP:20260425T181319
CREATED:20240606T115015Z
LAST-MODIFIED:20240606T115015Z
UID:10000011-1702080000-1702166399@bindusvzw.be
SUMMARY:Bindus-dag
DESCRIPTION:
URL:https://bindusvzw.be/activiteiten/bindus-dag/
LOCATION:Brain Embassy\, Antwerpen\, Antwerpen\, 2000\, België
CATEGORIES:Landelijke Activiteit
ORGANIZER;CN="Bindus vzw":MAILTO:info@bindusvzw.be
END:VEVENT
BEGIN:VEVENT
DTSTART;VALUE=DATE:20231201
DTEND;VALUE=DATE:20231202
DTSTAMP:20260425T181319
CREATED:20231001T164827Z
LAST-MODIFIED:20231001T165523Z
UID:10000003-1701388800-1701475199@bindusvzw.be
SUMMARY:30 jaar verbinding
DESCRIPTION:In 2023 bestaat Bindus 30 jaar. Een enorme mijlpaal die we zullen vieren. Dit evenement zal logischerwijs in teken staan van de missie die we al 30 jaar nastreven: Verbinding maken tussen verschillende culturen\, nationaliteiten en gemeenschappen in Vlaanderen en Europa.   \nWe nodigen jullie uit om dit op vrijdagavond 1 december 2023 met ons te vieren in het stadhuis in Antwerpen. Schrijf deze datum dus alvast in jullie agenda’s. Meer info volgt. 
URL:https://bindusvzw.be/activiteiten/30-jaar-verbinding/
LOCATION:Stadhuis Antwerpen\, Grote Markt 1\, Antwerpen\, Antwerpen\, 2000\, België
CATEGORIES:Landelijke Activiteit
ATTACH;FMTTYPE=image/png:https://bindusvzw.be/wp-content/uploads/2023/10/Affbeelding1.png
ORGANIZER;CN="Bindus vzw":MAILTO:info@bindusvzw.be
END:VEVENT
BEGIN:VEVENT
DTSTART;TZID=Europe/Helsinki:20231129T100000
DTEND;TZID=Europe/Helsinki:20231129T130000
DTSTAMP:20260425T181319
CREATED:20241211T102229Z
LAST-MODIFIED:20241211T102229Z
UID:10000335-1701252000-1701262800@bindusvzw.be
SUMMARY:The Touch of Love Academy neemt opnieuw deel aan VIVA FOR LIFE
DESCRIPTION:The Touch of Love Academy geeft samen met partners de aftrap voor VIVA FOR LIFE\n🗓️ Donderdag 29 november \n⏰ 10-13u  \n📍Gemeentehuis \, Sterrekundelaan 12\, 1210 Sint- Joost- ten Node \n✨ Samen met de verschillende partners wordt nagedacht over mogelijke acties in het kader van VIVA FOR LIFE. Wij kijken er alvast naar uit! \n🖊️ inschrijven en meer informatie via Hava Alp 0486 40 86 14
URL:https://bindusvzw.be/activiteiten/the-touch-of-love-academy-neemt-opnieuw-deel-aan-viva-for-life/
LOCATION:gemeentehuis\, Sterrenkundelaan 12\, Sint Joost ten Node\, België
CATEGORIES:Activiteit Leden
ATTACH;FMTTYPE=image/png:https://bindusvzw.be/wp-content/uploads/2024/12/versie-5.png
END:VEVENT
BEGIN:VEVENT
DTSTART;VALUE=DATE:20231122
DTEND;VALUE=DATE:20231123
DTSTAMP:20260425T181319
CREATED:20240606T132137Z
LAST-MODIFIED:20240606T132137Z
UID:10000025-1700611200-1700697599@bindusvzw.be
SUMMARY:Masterclass
DESCRIPTION:
URL:https://bindusvzw.be/activiteiten/masterclass/
LOCATION:Zuiderpershuis\, Waalsekaai 14\, Antwerpen\, Antwerpen\, 2000\, België
CATEGORIES:Activiteit Leden
END:VEVENT
BEGIN:VEVENT
DTSTART;VALUE=DATE:20231116
DTEND;VALUE=DATE:20231117
DTSTAMP:20260425T181319
CREATED:20240606T141000Z
LAST-MODIFIED:20240606T141000Z
UID:10000041-1700092800-1700179199@bindusvzw.be
SUMMARY:Trefdag 2023
DESCRIPTION:
URL:https://bindusvzw.be/activiteiten/trefdag-2023/
LOCATION:Lamot Mechelen\, Van Beethovenstraat 8/10\, Mechelen\, Antwerpen\, 2800\, België
CATEGORIES:Activiteit Leden
END:VEVENT
BEGIN:VEVENT
DTSTART;VALUE=DATE:20231114
DTEND;VALUE=DATE:20231115
DTSTAMP:20260425T181319
CREATED:20240606T141504Z
LAST-MODIFIED:20240606T144338Z
UID:10000045-1699920000-1700006399@bindusvzw.be
SUMMARY:Verwachtingen in erfgoed: Migrant? Minderheid? Moslim?
DESCRIPTION:
URL:https://bindusvzw.be/activiteiten/verwachtingen-in-erfgoed-migrant-minderheid-moslim/
LOCATION:KU Leuven\, Oude Markt 13\, Leuven\, Leuven\, 3000\, België
CATEGORIES:Activiteit Leden
END:VEVENT
BEGIN:VEVENT
DTSTART;VALUE=DATE:20231111
DTEND;VALUE=DATE:20231112
DTSTAMP:20260425T181319
CREATED:20240606T132532Z
LAST-MODIFIED:20240606T132532Z
UID:10000028-1699660800-1699747199@bindusvzw.be
SUMMARY:Presentatie van PAPIRI project
DESCRIPTION:
URL:https://bindusvzw.be/activiteiten/presentatie-van-papiri-project/
LOCATION:Zaal Rasquinet\, Josaphatstraat 109\, Schaarbeek\, 1030\, België
CATEGORIES:Activiteit Leden
END:VEVENT
BEGIN:VEVENT
DTSTART;VALUE=DATE:20231110
DTEND;VALUE=DATE:20231111
DTSTAMP:20260425T181319
CREATED:20240606T132755Z
LAST-MODIFIED:20240606T132755Z
UID:10000029-1699574400-1699660799@bindusvzw.be
SUMMARY:Raad van Bestuur
DESCRIPTION:
URL:https://bindusvzw.be/activiteiten/raad-van-bestuur/
LOCATION:Bindus Antwerpen\, Brederodestraat 188\, Antwerpen\, antwerpen\, 2000\, België
ORGANIZER;CN="Bindus vzw":MAILTO:info@bindusvzw.be
END:VEVENT
BEGIN:VEVENT
DTSTART;VALUE=DATE:20231101
DTEND;VALUE=DATE:20240229
DTSTAMP:20260425T181319
CREATED:20250415T132456Z
LAST-MODIFIED:20250415T132456Z
UID:10000675-1698796800-1709164799@bindusvzw.be
SUMMARY:Solidariteitsactie in Brussel
DESCRIPTION:Warme kledij warme daden – inzamelactie ETIO\n  \n🗓️ november 2023 tot februari 2024 \n \n❔Dankzij verschillende donaties en inzamelacties kan ETIO meer dan 400 kg warme kledij schenken\ndakloze personen in Brussel en Antwerpen \n📍Brussel en Antwerpen \n✨ Gericht op dakloze personen in Brussel en Antwerpen \n🤝 In samenwerking met verschillende donoren \n🖊️ Meer informatie via etio.edu@hotmail.com of 0466 0388 90 \n 
URL:https://bindusvzw.be/activiteiten/solidariteitsactie-in-brussel-2/
LOCATION:Brussel
CATEGORIES:Activiteit Leden
ATTACH;FMTTYPE=image/jpeg:https://bindusvzw.be/wp-content/uploads/2025/04/Logo-ETIO.jpg
ORGANIZER;CN="ETIO":MAILTO:etio.edu@hotmail.com
END:VEVENT
BEGIN:VEVENT
DTSTART;TZID=Europe/Helsinki:20231007T150000
DTEND;TZID=Europe/Helsinki:20231007T220000
DTSTAMP:20260425T181319
CREATED:20231001T163550Z
LAST-MODIFIED:20231001T165053Z
UID:10000002-1696690800-1696716000@bindusvzw.be
SUMMARY:Café Volonté
DESCRIPTION:Op zaterdag 7 oktober organiseert de VGC Café Volonté: een dag voor alle vrijwilligers binnen het vrijetijdsaanbod in Brussel. Iedereen is welkom in de tuinen van Le Grand Hospice voor verschillende workshops\, live muziek\, lekker eten en fijn gezelschap.  \nWij vanuit BIndus zullen samen met onze leden deelnemen aan deze feestelijke gebeurtenis. We spreken samen om 15u af aan de ingang van Grand Hospice. Eens daar zullen we ook een gezamenlijke aansluiting doen bij Paspartoe\, hiermee krijgen jullie korting op allerlei vrijetijdsactiviteiten in Brussel. 
URL:https://bindusvzw.be/activiteiten/cafe-volonte/
LOCATION:Grand Hospice\, Grootgodshuisstraat 7\, Brussel\, Brussel\, 1000\, België
CATEGORIES:Regionale Activiteit Brussel
ATTACH;FMTTYPE=image/png:https://bindusvzw.be/wp-content/uploads/2023/10/Afbeelding1.png
END:VEVENT
BEGIN:VEVENT
DTSTART;TZID=Europe/Helsinki:20230929T130000
DTEND;TZID=Europe/Helsinki:20230929T170000
DTSTAMP:20260425T181319
CREATED:20241211T101122Z
LAST-MODIFIED:20241211T101122Z
UID:10000334-1695992400-1696006800@bindusvzw.be
SUMMARY:The Touch of Love organiseert een seminarie
DESCRIPTION:Seminarie rond liefde\, trouw en gezin: “Een gezin zijn\, een gezin blijven”\n  \n🗓️ vrijdag 29 september  \n⏰ 13u-16u \n❔ Iedereen is van harte welkom \n📍 Haachtstesteenweg 173\, 1030 Schaarbeek \n✨ Met gastspreker Dr. Ertugul Tas (klinisch psycholoog) \n🙌 In samenwerking met Turkish Lady en SFT Clinic \n💶 Deelname: helemaal gratis \n🖊️ inschrijven en meer informatie: 0476 77 82 76 \n 
URL:https://bindusvzw.be/activiteiten/the-touch-of-love-organiseert-een-seminarie/
LOCATION:haachtsesteenweg 173\, 1030 Schaarbeek\, Haachtsesteenweg 173\, Schaarbeek\, 1030\, België
CATEGORIES:Activiteit Leden
END:VEVENT
BEGIN:VEVENT
DTSTART;VALUE=DATE:20230919
DTEND;VALUE=DATE:20230920
DTSTAMP:20260425T181319
CREATED:20240606T143428Z
LAST-MODIFIED:20240606T143428Z
UID:10000058-1695081600-1695167999@bindusvzw.be
SUMMARY:vorming vzw-wetgeving
DESCRIPTION:
URL:https://bindusvzw.be/activiteiten/vorming-vzw-wetgeving/
LOCATION:Online\, België
CATEGORIES:Landelijke Activiteit,Vorming
ORGANIZER;CN="Bindus vzw":MAILTO:info@bindusvzw.be
END:VEVENT
BEGIN:VEVENT
DTSTART;VALUE=DATE:20230912
DTEND;VALUE=DATE:20230913
DTSTAMP:20260425T181319
CREATED:20250415T094134Z
LAST-MODIFIED:20250415T094251Z
UID:10000669-1694476800-1694563199@bindusvzw.be
SUMMARY:Solidariteitsactie ETIO
DESCRIPTION:Wees solidair\, sterkt Marokko\n🗓️ Start 12 september  \n❔Een oproep aan iedereen die het lijden van de slachtoffers van de\naardbeving in Marokko wil helpen verlichten.\nVanuit de organisatie wordt een oproep gedaan om materiaal en spullen in te zamelen \n✨ Iedereen kan een bijdrage leveren \n🖊️ Meer informatie via etio.edu@hotmail.com of 0466 0388 90 \n 
URL:https://bindusvzw.be/activiteiten/solidariteitsactie-etio/
CATEGORIES:Activiteit Leden
ATTACH;FMTTYPE=image/jpeg:https://bindusvzw.be/wp-content/uploads/2025/04/Logo-ETIO.jpg
ORGANIZER;CN="ETIO":MAILTO:etio.edu@hotmail.com
END:VEVENT
BEGIN:VEVENT
DTSTART;VALUE=DATE:20230713
DTEND;VALUE=DATE:20230714
DTSTAMP:20260425T181319
CREATED:20240606T114834Z
LAST-MODIFIED:20240606T114834Z
UID:10000009-1689206400-1689292799@bindusvzw.be
SUMMARY:Bezoek Migratiemuseum in Brussel
DESCRIPTION:
URL:https://bindusvzw.be/activiteiten/bezoek-migratiemuseum-in-brussel/
LOCATION:Miratiemuseummigration\, Werkhuizenstraat 17\, Brussel\, Brussel\, 1080\, België
CATEGORIES:Regionale Activiteit Brussel
ORGANIZER;CN="Bindus vzw":MAILTO:info@bindusvzw.be
END:VEVENT
BEGIN:VEVENT
DTSTART;VALUE=DATE:20230628
DTEND;VALUE=DATE:20230629
DTSTAMP:20260425T181319
CREATED:20240606T130908Z
LAST-MODIFIED:20240606T130919Z
UID:10000016-1687910400-1687996799@bindusvzw.be
SUMMARY:Eindejaarsfeest taalschool kinderen (Zone Femmes)
DESCRIPTION:
URL:https://bindusvzw.be/activiteiten/eindejaarsfeest-taalschool-kinderen-zone-femmes/
LOCATION:Zaal Rasquinet\, Josaphatstraat 109\, Schaarbeek\, 1030\, België
CATEGORIES:Activiteit Leden
END:VEVENT
BEGIN:VEVENT
DTSTART;VALUE=DATE:20230620
DTEND;VALUE=DATE:20230621
DTSTAMP:20260425T181319
CREATED:20240606T132043Z
LAST-MODIFIED:20240606T132043Z
UID:10000024-1687219200-1687305599@bindusvzw.be
SUMMARY:Lezing Hans Vandecandelaere "Hyperdivers Brussel"
DESCRIPTION:
URL:https://bindusvzw.be/activiteiten/lezing-hans-vandecandelaere-hyperdivers-brussel/
LOCATION:GC De Kriekelaar\, Gallaitstraat 86\,\, Schaarbeek\, Brussel\, 1030\, België
CATEGORIES:Regionale Activiteit Brussel
ORGANIZER;CN="Bindus vzw":MAILTO:info@bindusvzw.be
END:VEVENT
BEGIN:VEVENT
DTSTART;VALUE=DATE:20230619
DTEND;VALUE=DATE:20230620
DTSTAMP:20260425T181319
CREATED:20240606T131229Z
LAST-MODIFIED:20240606T131240Z
UID:10000017-1687132800-1687219199@bindusvzw.be
SUMMARY:Infosessie Fedasil (Foyer Selah)
DESCRIPTION:
URL:https://bindusvzw.be/activiteiten/infosessie-fedasil-foyer-selah/
LOCATION:Foyer Selah\, Boulevard d'Ypres 28\, Brussel\, Brussel\, 1000\, België
CATEGORIES:Activiteit Leden
END:VEVENT
BEGIN:VEVENT
DTSTART;VALUE=DATE:20230617
DTEND;VALUE=DATE:20230618
DTSTAMP:20260425T181319
CREATED:20240606T130611Z
LAST-MODIFIED:20240606T130611Z
UID:10000014-1686960000-1687046399@bindusvzw.be
SUMMARY:Diversified
DESCRIPTION:
URL:https://bindusvzw.be/activiteiten/diversified/
LOCATION:Bindus Antwerpen\, Brederodestraat 188\, Antwerpen\, antwerpen\, 2000\, België
CATEGORIES:Landelijke Activiteit
ORGANIZER;CN="Bindus vzw":MAILTO:info@bindusvzw.be
END:VEVENT
BEGIN:VEVENT
DTSTART;TZID=Europe/Helsinki:20230616T000000
DTEND;TZID=Europe/Helsinki:20230616T000000
DTSTAMP:20260425T181319
CREATED:20240606T131318Z
LAST-MODIFIED:20240606T131345Z
UID:10000018-1686873600-1686873600@bindusvzw.be
SUMMARY:Infosessies vaccinaties
DESCRIPTION:
URL:https://bindusvzw.be/activiteiten/infosessies-vaccinaties/
LOCATION:Online\, België
CATEGORIES:Landelijke Activiteit
ORGANIZER;CN="Bindus vzw":MAILTO:info@bindusvzw.be
END:VEVENT
END:VCALENDAR