BEGIN:VCALENDAR
VERSION:2.0
PRODID:-//Bindus vzw - ECPv6.15.20//NONSGML v1.0//EN
CALSCALE:GREGORIAN
METHOD:PUBLISH
X-WR-CALNAME:Bindus vzw
X-ORIGINAL-URL:https://bindusvzw.be
X-WR-CALDESC:Evenementen voor Bindus vzw
REFRESH-INTERVAL;VALUE=DURATION:PT1H
X-Robots-Tag:noindex
X-PUBLISHED-TTL:PT1H
BEGIN:VTIMEZONE
TZID:Europe/Helsinki
BEGIN:DAYLIGHT
TZOFFSETFROM:+0200
TZOFFSETTO:+0300
TZNAME:EEST
DTSTART:20200329T010000
END:DAYLIGHT
BEGIN:STANDARD
TZOFFSETFROM:+0300
TZOFFSETTO:+0200
TZNAME:EET
DTSTART:20201025T010000
END:STANDARD
BEGIN:DAYLIGHT
TZOFFSETFROM:+0200
TZOFFSETTO:+0300
TZNAME:EEST
DTSTART:20210328T010000
END:DAYLIGHT
BEGIN:STANDARD
TZOFFSETFROM:+0300
TZOFFSETTO:+0200
TZNAME:EET
DTSTART:20211031T010000
END:STANDARD
BEGIN:DAYLIGHT
TZOFFSETFROM:+0200
TZOFFSETTO:+0300
TZNAME:EEST
DTSTART:20220327T010000
END:DAYLIGHT
BEGIN:STANDARD
TZOFFSETFROM:+0300
TZOFFSETTO:+0200
TZNAME:EET
DTSTART:20221030T010000
END:STANDARD
BEGIN:DAYLIGHT
TZOFFSETFROM:+0200
TZOFFSETTO:+0300
TZNAME:EEST
DTSTART:20230326T010000
END:DAYLIGHT
BEGIN:STANDARD
TZOFFSETFROM:+0300
TZOFFSETTO:+0200
TZNAME:EET
DTSTART:20231029T010000
END:STANDARD
BEGIN:DAYLIGHT
TZOFFSETFROM:+0200
TZOFFSETTO:+0300
TZNAME:EEST
DTSTART:20240331T010000
END:DAYLIGHT
BEGIN:STANDARD
TZOFFSETFROM:+0300
TZOFFSETTO:+0200
TZNAME:EET
DTSTART:20241027T010000
END:STANDARD
END:VTIMEZONE
BEGIN:VEVENT
DTSTART;VALUE=DATE:20230307
DTEND;VALUE=DATE:20230308
DTSTAMP:20260426T060153
CREATED:20240606T115139Z
LAST-MODIFIED:20240606T115325Z
UID:10000012-1678147200-1678233599@bindusvzw.be
SUMMARY:De Federatie: vergadering werkgroep Brussel
DESCRIPTION:
URL:https://bindusvzw.be/activiteiten/de-federatie-vergadering-werkgroep-brussel/
LOCATION:De Federatie\, Cellebroersstraat 16B\, Brussel\, Brussel\, 1000\, België
CATEGORIES:Activiteit Leden
END:VEVENT
BEGIN:VEVENT
DTSTART;TZID=Europe/Helsinki:20230301T000000
DTEND;TZID=Europe/Helsinki:20230301T000000
DTSTAMP:20260426T060153
CREATED:20240606T140715Z
LAST-MODIFIED:20240606T140715Z
UID:10000037-1677628800-1677628800@bindusvzw.be
SUMMARY:Stuurgroepvergadering Bindus Brussel
DESCRIPTION:
URL:https://bindusvzw.be/activiteiten/stuurgroepvergadering-bindus-brussel/
LOCATION:Bindus Brussel\, België
CATEGORIES:Regionale Activiteit Brussel,Stuurgroepvergadering
ORGANIZER;CN="Bindus vzw":MAILTO:info@bindusvzw.be
END:VEVENT
BEGIN:VEVENT
DTSTART;VALUE=DATE:20230221
DTEND;VALUE=DATE:20230222
DTSTAMP:20260426T060153
CREATED:20240606T140530Z
LAST-MODIFIED:20240606T143850Z
UID:10000036-1676937600-1677023999@bindusvzw.be
SUMMARY:Stuurgroep Antwerpen
DESCRIPTION:
URL:https://bindusvzw.be/activiteiten/stuurgroep-antwerpen-2/
LOCATION:Bindus Antwerpen\, Brederodestraat 188\, Antwerpen\, antwerpen\, 2000\, België
CATEGORIES:Regionale Activiteit Antwerpen
ORGANIZER;CN="Bindus vzw":MAILTO:info@bindusvzw.be
END:VEVENT
BEGIN:VEVENT
DTSTART;VALUE=DATE:20230216
DTEND;VALUE=DATE:20230217
DTSTAMP:20260426T060153
CREATED:20240606T143614Z
LAST-MODIFIED:20240606T143614Z
UID:10000060-1676505600-1676591999@bindusvzw.be
SUMMARY:vrijwilligersbijeenkomst SDM
DESCRIPTION:
URL:https://bindusvzw.be/activiteiten/vrijwilligersbijeenkomst-sdm/
LOCATION:Bindus Antwerpen\, Brederodestraat 188\, Antwerpen\, antwerpen\, 2000\, België
CATEGORIES:Landelijke Activiteit
ORGANIZER;CN="Bindus vzw":MAILTO:info@bindusvzw.be
END:VEVENT
BEGIN:VEVENT
DTSTART;VALUE=DATE:20230214
DTEND;VALUE=DATE:20230215
DTSTAMP:20260426T060153
CREATED:20240606T141804Z
LAST-MODIFIED:20240606T143921Z
UID:10000049-1676332800-1676419199@bindusvzw.be
SUMMARY:Vorming EHBO
DESCRIPTION:
URL:https://bindusvzw.be/activiteiten/vorming-ehbo/
LOCATION:Bindus Antwerpen\, Brederodestraat 188\, Antwerpen\, antwerpen\, 2000\, België
CATEGORIES:Regionale Activiteit Antwerpen
ORGANIZER;CN="Bindus vzw":MAILTO:info@bindusvzw.be
END:VEVENT
BEGIN:VEVENT
DTSTART;VALUE=DATE:20230213
DTEND;VALUE=DATE:20230214
DTSTAMP:20260426T060153
CREATED:20240606T141550Z
LAST-MODIFIED:20240606T141550Z
UID:10000046-1676246400-1676332799@bindusvzw.be
SUMMARY:VGC infosessie aanpassingen uitvoeringsbesluit
DESCRIPTION:
URL:https://bindusvzw.be/activiteiten/vgc-infosessie-aanpassingen-uitvoeringsbesluit/
LOCATION:Vlaamse Gemeenschapscommissie\, Emile Jacqmainlaan 135\, Brussel\, Brussel\, 1000\, België
CATEGORIES:Activiteit Leden
END:VEVENT
BEGIN:VEVENT
DTSTART;VALUE=DATE:20230211
DTEND;VALUE=DATE:20230212
DTSTAMP:20260426T060153
CREATED:20240606T115456Z
LAST-MODIFIED:20240606T115613Z
UID:10000013-1676073600-1676159999@bindusvzw.be
SUMMARY:Dialoogavond
DESCRIPTION:
URL:https://bindusvzw.be/activiteiten/dialoogavond/
LOCATION:Bindus Limburg\, Teutenweg 13\, Heusden-Zolder\, Limburg\, 3550\, België
CATEGORIES:Regionale Activiteit Limburg
ORGANIZER;CN="Bindus vzw":MAILTO:info@bindusvzw.be
END:VEVENT
BEGIN:VEVENT
DTSTART;VALUE=DATE:20230206
DTEND;VALUE=DATE:20230207
DTSTAMP:20260426T060153
CREATED:20240606T131538Z
LAST-MODIFIED:20240606T131551Z
UID:10000019-1675641600-1675727999@bindusvzw.be
SUMMARY:Introductiedag nieuwkomers in het SCW (Socius)
DESCRIPTION:
URL:https://bindusvzw.be/activiteiten/introductiedag-nieuwkomers-in-het-scw-socius/
LOCATION:Graaf de Ferrarisgebouw\, Brussel\, 1000\, België
CATEGORIES:Vorming
END:VEVENT
BEGIN:VEVENT
DTSTART;VALUE=DATE:20230127
DTEND;VALUE=DATE:20230128
DTSTAMP:20260426T060153
CREATED:20240606T132335Z
LAST-MODIFIED:20240606T132335Z
UID:10000026-1674777600-1674863999@bindusvzw.be
SUMMARY:Nieuwjaarsreceptie
DESCRIPTION:
URL:https://bindusvzw.be/activiteiten/nieuwjaarsreceptie/
LOCATION:Bindus Limburg\, Teutenweg 13\, Heusden-Zolder\, Limburg\, 3550\, België
CATEGORIES:Landelijke Activiteit
ORGANIZER;CN="Bindus vzw":MAILTO:info@bindusvzw.be
END:VEVENT
BEGIN:VEVENT
DTSTART;VALUE=DATE:20230125
DTEND;VALUE=DATE:20230126
DTSTAMP:20260426T060153
CREATED:20240606T142833Z
LAST-MODIFIED:20240606T142833Z
UID:10000050-1674604800-1674691199@bindusvzw.be
SUMMARY:Vorming flyers maken met canva
DESCRIPTION:
URL:https://bindusvzw.be/activiteiten/vorming-flyers-maken-met-canva/
LOCATION:Bindus Antwerpen\, Brederodestraat 188\, Antwerpen\, antwerpen\, 2000\, België
CATEGORIES:Regionale Activiteit Antwerpen,Vorming
ORGANIZER;CN="Bindus vzw":MAILTO:info@bindusvzw.be
END:VEVENT
BEGIN:VEVENT
DTSTART;VALUE=DATE:20230116
DTEND;VALUE=DATE:20230117
DTSTAMP:20260426T060153
CREATED:20240606T141740Z
LAST-MODIFIED:20240606T141740Z
UID:10000048-1673827200-1673913599@bindusvzw.be
SUMMARY:Vorming Assist
DESCRIPTION:
URL:https://bindusvzw.be/activiteiten/vorming-assist-2/
LOCATION:Bindus Antwerpen\, Brederodestraat 188\, Antwerpen\, antwerpen\, 2000\, België
CATEGORIES:Landelijke Activiteit,Vorming
ORGANIZER;CN="Bindus vzw":MAILTO:info@bindusvzw.be
END:VEVENT
BEGIN:VEVENT
DTSTART;VALUE=DATE:20230111
DTEND;VALUE=DATE:20230112
DTSTAMP:20260426T060153
CREATED:20240606T141630Z
LAST-MODIFIED:20240606T141630Z
UID:10000047-1673395200-1673481599@bindusvzw.be
SUMMARY:Vorming Assist
DESCRIPTION:
URL:https://bindusvzw.be/activiteiten/vorming-assist/
LOCATION:Online\, België
CATEGORIES:Landelijke Activiteit,Vorming
ORGANIZER;CN="Bindus vzw":MAILTO:info@bindusvzw.be
END:VEVENT
BEGIN:VEVENT
DTSTART;VALUE=DATE:20221215
DTEND;VALUE=DATE:20221216
DTSTAMP:20260426T060153
CREATED:20240606T114535Z
LAST-MODIFIED:20240606T114535Z
UID:10000006-1671062400-1671148799@bindusvzw.be
SUMMARY:ALL-IN
DESCRIPTION:
URL:https://bindusvzw.be/activiteiten/all-in/
LOCATION:Odisee Hogeschool\, Warmoesberg 26\, Brussel\, Brussel\, 1000\, België
CATEGORIES:Landelijke Activiteit
ORGANIZER;CN="Bindus vzw":MAILTO:info@bindusvzw.be
END:VEVENT
BEGIN:VEVENT
DTSTART;VALUE=DATE:20221203
DTEND;VALUE=DATE:20221204
DTSTAMP:20260426T060153
CREATED:20240606T141113Z
LAST-MODIFIED:20240606T141113Z
UID:10000043-1670025600-1670111999@bindusvzw.be
SUMMARY:Unik Musik
DESCRIPTION:
URL:https://bindusvzw.be/activiteiten/unik-musik/
LOCATION:Mehmet Akif Moskee\, Dendermondestraat 34\, Antwerpen\, Antwerpen\, 2018\, België
CATEGORIES:Regionale Activiteit Antwerpen
END:VEVENT
BEGIN:VEVENT
DTSTART;VALUE=DATE:20221129
DTEND;VALUE=DATE:20221130
DTSTAMP:20260426T060153
CREATED:20240606T131757Z
LAST-MODIFIED:20240606T131757Z
UID:10000022-1669680000-1669766399@bindusvzw.be
SUMMARY:Landelijke stuurgroep
DESCRIPTION:
URL:https://bindusvzw.be/activiteiten/landelijke-stuurgroep-3/
LOCATION:Online\, België
CATEGORIES:Landelijke Activiteit
ORGANIZER;CN="Bindus vzw":MAILTO:info@bindusvzw.be
END:VEVENT
BEGIN:VEVENT
DTSTART;VALUE=DATE:20221025
DTEND;VALUE=DATE:20221026
DTSTAMP:20260426T060153
CREATED:20250415T120032Z
LAST-MODIFIED:20250415T120032Z
UID:10000671-1666656000-1666742399@bindusvzw.be
SUMMARY:ETIO organiseert educatieve cursussen
DESCRIPTION:Hoe digitale applicaties en belangrijke websites te gebruiken\n\n🗓️ 25 oktober  \n❔ETIO organiseert verschillende educatieve cursussen waarbij je leert verschillende\napplicaties en websites te gebruiken in verschillende talen zoals het Nederlands\, Frans\,\nEngels en Arabisch. \n💶 Deelname: gratis voor nieuwkomers\, reservatie verplicht \n✨ Gericht op nieuwkomers uit het Brusselse Gewest \n🖊️ Meer informatie via etio.edu@hotmail.com of 0466 0388 90 \n 
URL:https://bindusvzw.be/activiteiten/etio-organiseert-educatieve-cursussen/
CATEGORIES:Activiteit Leden
ATTACH;FMTTYPE=image/jpeg:https://bindusvzw.be/wp-content/uploads/2025/04/Logo-ETIO.jpg
ORGANIZER;CN="ETIO":MAILTO:etio.edu@hotmail.com
END:VEVENT
BEGIN:VEVENT
DTSTART;VALUE=DATE:20220625
DTEND;VALUE=DATE:20220626
DTSTAMP:20260426T060153
CREATED:20240606T114625Z
LAST-MODIFIED:20240606T114625Z
UID:10000007-1656115200-1656201599@bindusvzw.be
SUMMARY:Bedanking en evaluatie vrijwilligers SDM
DESCRIPTION:
URL:https://bindusvzw.be/activiteiten/bedanking-en-evaluatie-vrijwilligers-sdm/
LOCATION:Antwerpen\, Antwerpen\, Antwerpen\, 2000\, België
CATEGORIES:Vrijwilligersbedanking
ORGANIZER;CN="Bindus vzw":MAILTO:info@bindusvzw.be
END:VEVENT
BEGIN:VEVENT
DTSTART;VALUE=DATE:20220611
DTEND;VALUE=DATE:20220612
DTSTAMP:20260426T060153
CREATED:20240606T114924Z
LAST-MODIFIED:20240606T114924Z
UID:10000010-1654905600-1654991999@bindusvzw.be
SUMMARY:Bindus Picknick
DESCRIPTION:
URL:https://bindusvzw.be/activiteiten/bindus-picknick/
LOCATION:Pijnven Bosland\, Limburg\, België
CATEGORIES:Landelijke Activiteit
ORGANIZER;CN="Bindus vzw":MAILTO:info@bindusvzw.be
END:VEVENT
BEGIN:VEVENT
DTSTART;VALUE=DATE:20220531
DTEND;VALUE=DATE:20220601
DTSTAMP:20260426T060153
CREATED:20240606T143410Z
LAST-MODIFIED:20240606T143410Z
UID:10000057-1653955200-1654041599@bindusvzw.be
SUMMARY:Vorming vzw-boekhouding
DESCRIPTION:
URL:https://bindusvzw.be/activiteiten/vorming-vzw-boekhouding-2/
LOCATION:Bindus Brussel\, België
CATEGORIES:Regionale Activiteit Brussel,Vorming
ORGANIZER;CN="Bindus vzw":MAILTO:info@bindusvzw.be
END:VEVENT
BEGIN:VEVENT
DTSTART;VALUE=DATE:20220525
DTEND;VALUE=DATE:20220526
DTSTAMP:20260426T060153
CREATED:20240606T143344Z
LAST-MODIFIED:20240606T143344Z
UID:10000056-1653436800-1653523199@bindusvzw.be
SUMMARY:vorming vzw-boekhouding
DESCRIPTION:
URL:https://bindusvzw.be/activiteiten/vorming-vzw-boekhouding/
LOCATION:Bindus Antwerpen\, Brederodestraat 188\, Antwerpen\, antwerpen\, 2000\, België
CATEGORIES:Regionale Activiteit Antwerpen,Vorming
ORGANIZER;CN="Bindus vzw":MAILTO:info@bindusvzw.be
END:VEVENT
BEGIN:VEVENT
DTSTART;VALUE=DATE:20220415
DTEND;VALUE=DATE:20220416
DTSTAMP:20260426T060153
CREATED:20240606T140749Z
LAST-MODIFIED:20240606T140749Z
UID:10000039-1649980800-1650067199@bindusvzw.be
SUMMARY:Sultan der Maanden 2022
DESCRIPTION:
URL:https://bindusvzw.be/activiteiten/sultan-der-maanden-2022/
LOCATION:Antwerpen Expo\, Jan van Rijswijcklaan 191\, Antwerpen\, Antwerpen\, 2020\, België
CATEGORIES:Landelijke Activiteit
ORGANIZER;CN="Bindus vzw":MAILTO:info@bindusvzw.be
END:VEVENT
BEGIN:VEVENT
DTSTART;VALUE=DATE:20220331
DTEND;VALUE=DATE:20220401
DTSTAMP:20260426T060153
CREATED:20240606T131746Z
LAST-MODIFIED:20240606T131746Z
UID:10000021-1648684800-1648771199@bindusvzw.be
SUMMARY:Landelijke stuurgroep
DESCRIPTION:
URL:https://bindusvzw.be/activiteiten/landelijke-stuurgroep-2/
LOCATION:Online\, België
CATEGORIES:Landelijke Activiteit
ORGANIZER;CN="Bindus vzw":MAILTO:info@bindusvzw.be
END:VEVENT
BEGIN:VEVENT
DTSTART;VALUE=DATE:20220315
DTEND;VALUE=DATE:20220316
DTSTAMP:20260426T060153
CREATED:20240606T143652Z
LAST-MODIFIED:20240606T143652Z
UID:10000061-1647302400-1647388799@bindusvzw.be
SUMMARY:World Social Work Day - Sociaal Werkt Markt
DESCRIPTION:
URL:https://bindusvzw.be/activiteiten/world-social-work-day-sociaal-werkt-markt/
LOCATION:Theaterplein\, Nieuwstad 8\, Antwerpen\, Antwerpen\, 2000\, België
CATEGORIES:Regionale Activiteit Antwerpen
END:VEVENT
BEGIN:VEVENT
DTSTART;VALUE=DATE:20220224
DTEND;VALUE=DATE:20220225
DTSTAMP:20260426T060153
CREATED:20240606T140518Z
LAST-MODIFIED:20240606T140518Z
UID:10000035-1645660800-1645747199@bindusvzw.be
SUMMARY:Stuurgroep Antwerpen
DESCRIPTION:
URL:https://bindusvzw.be/activiteiten/stuurgroep-antwerpen/
LOCATION:Bindus Antwerpen\, Brederodestraat 188\, Antwerpen\, antwerpen\, 2000\, België
CATEGORIES:Regionale Activiteit Antwerpen
ORGANIZER;CN="Bindus vzw":MAILTO:info@bindusvzw.be
END:VEVENT
BEGIN:VEVENT
DTSTART;VALUE=DATE:20220104
DTEND;VALUE=DATE:20220105
DTSTAMP:20260426T060153
CREATED:20240606T141026Z
LAST-MODIFIED:20240606T141026Z
UID:10000042-1641254400-1641340799@bindusvzw.be
SUMMARY:Uitreiking Bindussubsidie
DESCRIPTION:
URL:https://bindusvzw.be/activiteiten/uitreiking-bindussubsidie/
LOCATION:Bindus Antwerpen\, Brederodestraat 188\, Antwerpen\, antwerpen\, 2000\, België
CATEGORIES:Landelijke Activiteit
ORGANIZER;CN="Bindus vzw":MAILTO:info@bindusvzw.be
END:VEVENT
BEGIN:VEVENT
DTSTART;VALUE=DATE:20211217
DTEND;VALUE=DATE:20211218
DTSTAMP:20260426T060153
CREATED:20240606T143049Z
LAST-MODIFIED:20240606T143049Z
UID:10000054-1639699200-1639785599@bindusvzw.be
SUMMARY:Vorming Toolbox
DESCRIPTION:
URL:https://bindusvzw.be/activiteiten/vorming-toolbox/
LOCATION:Bindus Brussel\, België
CATEGORIES:Regionale Activiteit Brussel
ORGANIZER;CN="Bindus vzw":MAILTO:info@bindusvzw.be
END:VEVENT
BEGIN:VEVENT
DTSTART;VALUE=DATE:20211214
DTEND;VALUE=DATE:20211215
DTSTAMP:20260426T060153
CREATED:20240606T143101Z
LAST-MODIFIED:20240606T143101Z
UID:10000053-1639440000-1639526399@bindusvzw.be
SUMMARY:Vorming Toolbox
DESCRIPTION:
URL:https://bindusvzw.be/activiteiten/vorming-toolbox-2/
LOCATION:Bindus Antwerpen\, Brederodestraat 188\, Antwerpen\, antwerpen\, 2000\, België
CATEGORIES:Regionale Activiteit Antwerpen
ORGANIZER;CN="Bindus vzw":MAILTO:info@bindusvzw.be
END:VEVENT
BEGIN:VEVENT
DTSTART;VALUE=DATE:20210929
DTEND;VALUE=DATE:20210930
DTSTAMP:20260426T060153
CREATED:20240606T143549Z
LAST-MODIFIED:20240606T143549Z
UID:10000059-1632873600-1632959999@bindusvzw.be
SUMMARY:vorming website bouwen
DESCRIPTION:
URL:https://bindusvzw.be/activiteiten/vorming-website-bouwen/
LOCATION:Bindus Antwerpen\, Brederodestraat 188\, Antwerpen\, antwerpen\, 2000\, België
CATEGORIES:Regionale Activiteit Antwerpen,Vorming
ORGANIZER;CN="Bindus vzw":MAILTO:info@bindusvzw.be
END:VEVENT
BEGIN:VEVENT
DTSTART;VALUE=DATE:20210916
DTEND;VALUE=DATE:20210917
DTSTAMP:20260426T060153
CREATED:20240606T131735Z
LAST-MODIFIED:20240606T131735Z
UID:10000020-1631750400-1631836799@bindusvzw.be
SUMMARY:Landelijke stuurgroep
DESCRIPTION:
URL:https://bindusvzw.be/activiteiten/landelijke-stuurgroep/
LOCATION:Online\, België
CATEGORIES:Landelijke Activiteit
ORGANIZER;CN="Bindus vzw":MAILTO:info@bindusvzw.be
END:VEVENT
BEGIN:VEVENT
DTSTART;VALUE=DATE:20210626
DTEND;VALUE=DATE:20210627
DTSTAMP:20260426T060153
CREATED:20240606T132021Z
LAST-MODIFIED:20240606T132021Z
UID:10000023-1624665600-1624751999@bindusvzw.be
SUMMARY:Lets Bind Us
DESCRIPTION:
URL:https://bindusvzw.be/activiteiten/lets-bind-us/
LOCATION:Felixpakhuis\, Godefriduskaai 30\, Antwerpen\, Antwerpen\, 2000\, België
CATEGORIES:Landelijke Activiteit
ORGANIZER;CN="Bindus vzw":MAILTO:info@bindusvzw.be
END:VEVENT
END:VCALENDAR