BEGIN:VCALENDAR
VERSION:2.0
PRODID:-//Bindus vzw - ECPv6.15.20//NONSGML v1.0//EN
CALSCALE:GREGORIAN
METHOD:PUBLISH
X-WR-CALNAME:Bindus vzw
X-ORIGINAL-URL:https://bindusvzw.be
X-WR-CALDESC:Evenementen voor Bindus vzw
REFRESH-INTERVAL;VALUE=DURATION:PT1H
X-Robots-Tag:noindex
X-PUBLISHED-TTL:PT1H
BEGIN:VTIMEZONE
TZID:Europe/Helsinki
BEGIN:DAYLIGHT
TZOFFSETFROM:+0200
TZOFFSETTO:+0300
TZNAME:EEST
DTSTART:20230326T010000
END:DAYLIGHT
BEGIN:STANDARD
TZOFFSETFROM:+0300
TZOFFSETTO:+0200
TZNAME:EET
DTSTART:20231029T010000
END:STANDARD
BEGIN:DAYLIGHT
TZOFFSETFROM:+0200
TZOFFSETTO:+0300
TZNAME:EEST
DTSTART:20240331T010000
END:DAYLIGHT
BEGIN:STANDARD
TZOFFSETFROM:+0300
TZOFFSETTO:+0200
TZNAME:EET
DTSTART:20241027T010000
END:STANDARD
BEGIN:DAYLIGHT
TZOFFSETFROM:+0200
TZOFFSETTO:+0300
TZNAME:EEST
DTSTART:20250330T010000
END:DAYLIGHT
BEGIN:STANDARD
TZOFFSETFROM:+0300
TZOFFSETTO:+0200
TZNAME:EET
DTSTART:20251026T010000
END:STANDARD
END:VTIMEZONE
BEGIN:VEVENT
DTSTART;TZID=Europe/Helsinki:20240902T130000
DTEND;TZID=Europe/Helsinki:20240902T170000
DTSTAMP:20260422T045520
CREATED:20250304T153522Z
LAST-MODIFIED:20250304T153522Z
UID:10000454-1725282000-1725296400@bindusvzw.be
SUMMARY:Wetenschapsfundag
DESCRIPTION:Inclusion Lab organiseert\neen wetenschapsfundag\n  \n✨ Inclusion lab staat gekend voor hun innovatieve aanpak\nom de integratie van jonge vluchtelingen in Brussel\nte bevorderen. In samenwerking met verschillende\nBrusselse vluchtelingencentra werkt de organisatie\neen aanbod uit op maat. \n❗thema: STEM\nSTEM is een internationaal letterwoord dat staat voor wetenschappen\, technologie\, techniek en wiskunde \n🗓️ maandag 02  september \n📍Fedasil: François Sebrechtslaan 40\, 1080 Sint-Jans-Molenbeek \n🤝 In samenwerking met Fedasil \n🖊️ Meer informatie: inclusionlab07@gmail.com
URL:https://bindusvzw.be/activiteiten/wetenschapsfundag/
LOCATION:Fedasil Molenbeek\, François Sebrechtslaan 40\, 1080 Sint-Jans-Molenbeek
CATEGORIES:Activiteit Leden,Regionale Activiteit Brussel
ATTACH;FMTTYPE=image/jpeg:https://bindusvzw.be/wp-content/uploads/2025/03/goed-logo-inclusion-lab.jpg
ORGANIZER;CN="Inclusion Lab":MAILTO:inclusionlab07@gmail.com
END:VEVENT
BEGIN:VEVENT
DTSTART;TZID=Europe/Helsinki:20240907T100000
DTEND;TZID=Europe/Helsinki:20240907T140000
DTSTAMP:20260422T045520
CREATED:20250313T121934Z
LAST-MODIFIED:20250313T121934Z
UID:10000461-1725703200-1725717600@bindusvzw.be
SUMMARY:lesaanbod met focus op de Nederlandse taal
DESCRIPTION:Medestroom organiseert taalles\nMedestroom biedt moderne Arabische les met een focus op de Nederlandse taal.\nkinderen leren niet alleen de taal\, maar bouwen bruggen tussen het Arabisch en het Nederlands\,\nontdekken hoe ze de Arabische en Westerse cultuur met elkaar kunnen verbinden en versterken.\nDaarnaast zijn er creatieve activiteiten zoals verhalen vertellen\, kunst maken\,…\nEen leerzame en leuke tijd waarin meer wordt geleerd op een speelse manier \n🗓️ Iedere zaterdag  \n⏰ 10-14u  \n❔ Kinderen van 6 tot 13 jaar \n📍Cinema RIX\, De Gryspeerstraat 86\, 2100 Deurne \n✍️ Inschrijven: info@MedeStroom.be \n🤝 In samenwerking met cinema RIX \n💶 Deelname: afhankelijk van de inschrijving \n❔ Meer informatie via info@MedeStroom.be of Taalondersteuning – medestroom.be
URL:https://bindusvzw.be/activiteiten/lesaanbod-met-focus-op-de-nederlandse-taal/
LOCATION:Cinema RIX\, De Gryspeerstraat 86\, 2100\, België
CATEGORIES:Activiteit Leden
ATTACH;FMTTYPE=image/jpeg:https://bindusvzw.be/wp-content/uploads/2025/03/2024_Logo_medestroom_vzw-1.jpg
ORGANIZER;CN="Medestroom vzw":MAILTO:info@medestroom.be
END:VEVENT
BEGIN:VEVENT
DTSTART;TZID=Europe/Helsinki:20240909T130000
DTEND;TZID=Europe/Helsinki:20240909T170000
DTSTAMP:20260422T045520
CREATED:20250304T154114Z
LAST-MODIFIED:20250304T154114Z
UID:10000453-1725886800-1725901200@bindusvzw.be
SUMMARY:Workshop communicatievaardigheden
DESCRIPTION:Inclusion Lab organiseert\neen interactieve workshop ‘communicatievaardigheden’\n  \n✨ Inclusion lab staat gekend voor hun innovatieve aanpak\nom de integratie van jonge vluchtelingen in Brussel\nte bevorderen. In samenwerking met verschillende\nBrusselse vluchtelingencentra werkt de organisatie\neen aanbod uit op maat. \n❗thema: communicatievaardigheden \n🗓️ maandag 09 september  \n📍Samu Social: Ernest Masoinlaan 95\, 1020 Brussel \n🤝 In samenwerking met Samu Social \n🖊️ Meer informatie: inclusionlab07@gmail.com
URL:https://bindusvzw.be/activiteiten/workshop-communicatievaardigheden/
LOCATION:Samu Social\, Ernest Masoinlaan 95\, 1020
CATEGORIES:Activiteit Leden,Regionale Activiteit Brussel
ATTACH;FMTTYPE=image/jpeg:https://bindusvzw.be/wp-content/uploads/2025/03/goed-logo-inclusion-lab.jpg
ORGANIZER;CN="Inclusion Lab":MAILTO:inclusionlab07@gmail.com
END:VEVENT
BEGIN:VEVENT
DTSTART;TZID=Europe/Helsinki:20240912T080000
DTEND;TZID=Europe/Helsinki:20240912T170000
DTSTAMP:20260422T045520
CREATED:20241209T094015Z
LAST-MODIFIED:20241209T094015Z
UID:10000238-1726128000-1726160400@bindusvzw.be
SUMMARY:DUSOD organiseert ademsessies
DESCRIPTION:Ademsessie\n🗓️Donderdag 12 september    \n📍Dusod Academy België\, Brusselsesteenweg 129\, 1850 Grimbergen \n💶 Deelname: helemaal gratis \n🖊️ inschrijven via 0484 90 95 51 \n 
URL:https://bindusvzw.be/activiteiten/dusod-organiseert-ademsessies/
LOCATION:Dusod Academy België\, Brusselsesteenweg 129\, Grimbergen\, 1850\, België
CATEGORIES:Activiteit Leden
END:VEVENT
BEGIN:VEVENT
DTSTART;TZID=Europe/Helsinki:20240914T100000
DTEND;TZID=Europe/Helsinki:20240914T140000
DTSTAMP:20260422T045520
CREATED:20250313T122159Z
LAST-MODIFIED:20250313T122159Z
UID:10000462-1726308000-1726322400@bindusvzw.be
SUMMARY:lesaanbod met focus op de Nederlandse taal
DESCRIPTION:Medestroom organiseert taalles\nMedestroom biedt moderne Arabische les met een focus op de Nederlandse taal.\nkinderen leren niet alleen de taal\, maar bouwen bruggen tussen het Arabisch en het Nederlands\,\nontdekken hoe ze de Arabische en Westerse cultuur met elkaar kunnen verbinden en versterken.\nDaarnaast zijn er creatieve activiteiten zoals verhalen vertellen\, kunst maken\,…\nEen leerzame en leuke tijd waarin meer wordt geleerd op een speelse manier \n🗓️ Iedere zaterdag  \n⏰ 10-14u  \n❔ Kinderen van 6 tot 13 jaar \n📍Cinema RIX\, De Gryspeerstraat 86\, 2100 Deurne \n✍️ Inschrijven: info@MedeStroom.be \n🤝 In samenwerking met cinema RIX \n💶 Deelname: afhankelijk van de inschrijving \n❔ Meer informatie via info@MedeStroom.be of Taalondersteuning – medestroom.be
URL:https://bindusvzw.be/activiteiten/lesaanbod-met-focus-op-de-nederlandse-taal-2/
LOCATION:Cinema RIX\, De Gryspeerstraat 86\, 2100\, België
CATEGORIES:Activiteit Leden
ATTACH;FMTTYPE=image/jpeg:https://bindusvzw.be/wp-content/uploads/2025/03/2024_Logo_medestroom_vzw-1.jpg
ORGANIZER;CN="Medestroom vzw":MAILTO:info@medestroom.be
END:VEVENT
BEGIN:VEVENT
DTSTART;TZID=Europe/Helsinki:20240916T130000
DTEND;TZID=Europe/Helsinki:20240916T170000
DTSTAMP:20260422T045520
CREATED:20250305T140837Z
LAST-MODIFIED:20250305T140859Z
UID:10000455-1726491600-1726506000@bindusvzw.be
SUMMARY:Lesaanbod Nederlands
DESCRIPTION:Inclusion Lab organiseert\neen Nederlandstalig rollenspel\n  \n✨ Inclusion lab staat gekend voor hun innovatieve aanpak\nom de integratie van jonge vluchtelingen in Brussel\nte bevorderen. In samenwerking met verschillende\nBrusselse vluchtelingencentra werkt de organisatie\neen aanbod uit op maat. \n❗thema: Het leren van de Nederlandse taal en het inoefenen door middel\nvan een rollenspel \n🗓️ maandag 16 september \n📍Samu Social: Ernest Masoinlaan 95\, 1020 Brussel \n🤝 In samenwerking met Samu Social Laken \n🖊️ Meer informatie: inclusionlab07@gmail.com
URL:https://bindusvzw.be/activiteiten/lesaanbod-nederlands/
LOCATION:Samu Social\, Ernest Masoinlaan 95\, 1020
CATEGORIES:Activiteit Leden,Regionale Activiteit Brussel
ATTACH;FMTTYPE=image/jpeg:https://bindusvzw.be/wp-content/uploads/2025/03/goed-logo-inclusion-lab.jpg
ORGANIZER;CN="Inclusion Lab":MAILTO:inclusionlab07@gmail.com
END:VEVENT
BEGIN:VEVENT
DTSTART;TZID=Europe/Helsinki:20240921T100000
DTEND;TZID=Europe/Helsinki:20240921T140000
DTSTAMP:20260422T045520
CREATED:20250313T122238Z
LAST-MODIFIED:20250313T122238Z
UID:10000463-1726912800-1726927200@bindusvzw.be
SUMMARY:lesaanbod met focus op de Nederlandse taal
DESCRIPTION:Medestroom organiseert taalles\nMedestroom biedt moderne Arabische les met een focus op de Nederlandse taal.\nkinderen leren niet alleen de taal\, maar bouwen bruggen tussen het Arabisch en het Nederlands\,\nontdekken hoe ze de Arabische en Westerse cultuur met elkaar kunnen verbinden en versterken.\nDaarnaast zijn er creatieve activiteiten zoals verhalen vertellen\, kunst maken\,…\nEen leerzame en leuke tijd waarin meer wordt geleerd op een speelse manier \n🗓️ Iedere zaterdag  \n⏰ 10-14u  \n❔ Kinderen van 6 tot 13 jaar \n📍Cinema RIX\, De Gryspeerstraat 86\, 2100 Deurne \n✍️ Inschrijven: info@MedeStroom.be \n🤝 In samenwerking met cinema RIX \n💶 Deelname: afhankelijk van de inschrijving \n❔ Meer informatie via info@MedeStroom.be of Taalondersteuning – medestroom.be
URL:https://bindusvzw.be/activiteiten/lesaanbod-met-focus-op-de-nederlandse-taal-3/
LOCATION:Cinema RIX\, De Gryspeerstraat 86\, 2100\, België
CATEGORIES:Activiteit Leden
ATTACH;FMTTYPE=image/jpeg:https://bindusvzw.be/wp-content/uploads/2025/03/2024_Logo_medestroom_vzw-1.jpg
ORGANIZER;CN="Medestroom vzw":MAILTO:info@medestroom.be
END:VEVENT
BEGIN:VEVENT
DTSTART;TZID=Europe/Helsinki:20240921T140000
DTEND;TZID=Europe/Helsinki:20240921T230000
DTSTAMP:20260422T045520
CREATED:20241105T151207Z
LAST-MODIFIED:20241106T080933Z
UID:10000064-1726927200-1726959600@bindusvzw.be
SUMMARY:Bulgaarse Horo en Folklore
DESCRIPTION:  \n                                    \n  \nOp zaterdag 21 september organiseert Izvor vzw (lidvereniging Antwerpen) de activiteit Bulgaarse Horo en Folklore \n 
URL:https://bindusvzw.be/activiteiten/bulgaarse-horo-en-folklore/
LOCATION:Neerlandhof\, Edenplein 15\, Wilrijk\, Antwerpen\, 2610\, België
CATEGORIES:Activiteit Leden
ORGANIZER;CN="Izvor vzw":MAILTO:info@izvor.be
END:VEVENT
BEGIN:VEVENT
DTSTART;TZID=Europe/Helsinki:20240923T130000
DTEND;TZID=Europe/Helsinki:20240923T170000
DTSTAMP:20260422T045520
CREATED:20250305T141132Z
LAST-MODIFIED:20250305T141132Z
UID:10000456-1727096400-1727110800@bindusvzw.be
SUMMARY:Workshop solliciteren
DESCRIPTION:Inclusion Lab organiseert een workshop sollicitatiebrief schrijven\n  \n✨ Inclusion lab staat gekend voor hun innovatieve\naanpak om de integratie van jonge vluchtelingen\nin Brussel te bevorderen. In samenwerking met\nverschillende Brusselse vluchtelingencentra\nwerkt de organisatie een aanbod uit op maat. \n🗓️ maandag 23 september \n📍Fedasil Molenbeek: François Sebrechtslaan 40\n1080 Sint-Jans-Molenbeek \n🖊️ Meer informatie: inclusionlab07@gmail.com
URL:https://bindusvzw.be/activiteiten/workshop-solliciteren-4/
LOCATION:Fedasil Molenbeek\, François Sebrechtslaan 40\, 1080 Sint-Jans-Molenbeek
CATEGORIES:Activiteit Leden,Regionale Activiteit Brussel
ATTACH;FMTTYPE=image/jpeg:https://bindusvzw.be/wp-content/uploads/2025/03/goed-logo-inclusion-lab.jpg
ORGANIZER;CN="Inclusion Lab":MAILTO:inclusionlab07@gmail.com
END:VEVENT
BEGIN:VEVENT
DTSTART;TZID=Europe/Helsinki:20240928T100000
DTEND;TZID=Europe/Helsinki:20240928T140000
DTSTAMP:20260422T045520
CREATED:20250313T122335Z
LAST-MODIFIED:20250313T122335Z
UID:10000464-1727517600-1727532000@bindusvzw.be
SUMMARY:lesaanbod met focus op de Nederlandse taal
DESCRIPTION:Medestroom organiseert taalles\nMedestroom biedt moderne Arabische les met een focus op de Nederlandse taal.\nkinderen leren niet alleen de taal\, maar bouwen bruggen tussen het Arabisch en het Nederlands\,\nontdekken hoe ze de Arabische en Westerse cultuur met elkaar kunnen verbinden en versterken.\nDaarnaast zijn er creatieve activiteiten zoals verhalen vertellen\, kunst maken\,…\nEen leerzame en leuke tijd waarin meer wordt geleerd op een speelse manier \n🗓️ Iedere zaterdag  \n⏰ 10-14u  \n❔ Kinderen van 6 tot 13 jaar \n📍Cinema RIX\, De Gryspeerstraat 86\, 2100 Deurne \n✍️ Inschrijven: info@MedeStroom.be \n🤝 In samenwerking met cinema RIX \n💶 Deelname: afhankelijk van de inschrijving \n❔ Meer informatie via info@MedeStroom.be of Taalondersteuning – medestroom.be
URL:https://bindusvzw.be/activiteiten/lesaanbod-met-focus-op-de-nederlandse-taal-4/
LOCATION:Cinema RIX\, De Gryspeerstraat 86\, 2100\, België
CATEGORIES:Activiteit Leden
ATTACH;FMTTYPE=image/jpeg:https://bindusvzw.be/wp-content/uploads/2025/03/2024_Logo_medestroom_vzw-1.jpg
ORGANIZER;CN="Medestroom vzw":MAILTO:info@medestroom.be
END:VEVENT
BEGIN:VEVENT
DTSTART;TZID=Europe/Helsinki:20240929T131000
DTEND;TZID=Europe/Helsinki:20240929T173000
DTSTAMP:20260422T045520
CREATED:20241203T094757Z
LAST-MODIFIED:20241203T094757Z
UID:10000188-1727615400-1727631000@bindusvzw.be
SUMMARY:Volksdansgroep "Izvor"
DESCRIPTION:Danslessen in Bulgaarse traditionele volksdansen \n🗓️ Iedere zondag met uitzondering van de schoolvakanties en feestdagen \n⏰ 13u10-14u: kinderdansgroep “Izvorche”\n14u10- 15u10: beginners\n       15u20- 16u20: semi-gevorderde dansers\n       16u30-17u30: gevorderde dansers       \n📍 Academie Hoboken\, Lageweg 141\, 2660 Hoboken \n✨ Mee te nemen: dansschoenen en comfortabele danskleding en een flesje water \n💶 Deelname: afhankelijk van de inschrijving \n🖊️ inschrijven via info@izvor.be of  0488 89 72 93
URL:https://bindusvzw.be/activiteiten/volksdansgroep-izvor/
LOCATION:Academie Hoboken\, Lageweg 141\, Antwerpen\, 2660
CATEGORIES:Activiteit Leden
ATTACH;FMTTYPE=image/jpeg:https://bindusvzw.be/wp-content/uploads/2024/12/2024_Folder_6.jpeg
ORGANIZER;CN="Izvor vzw":MAILTO:info@izvor.be
END:VEVENT
BEGIN:VEVENT
DTSTART;TZID=Europe/Helsinki:20240930T130000
DTEND;TZID=Europe/Helsinki:20240930T170000
DTSTAMP:20260422T045520
CREATED:20250305T141418Z
LAST-MODIFIED:20250305T141418Z
UID:10000457-1727701200-1727715600@bindusvzw.be
SUMMARY:Lesaanbod Nederlands
DESCRIPTION:Inclusion Lab organiseert\neen workshop Nederlands taaloverzicht\n  \n✨ Inclusion lab staat gekend voor hun innovatieve aanpak\nom de integratie van jonge vluchtelingen in Brussel\nte bevorderen. In samenwerking met verschillende\nBrusselse vluchtelingencentra werkt de organisatie\neen aanbod uit op maat. \n❗thema: Het leren van de Nederlandse taal met gebruik van games \n🗓️ maandag 30 september  \n📍Fedasil: François Sebrechtslaan 40\n1080 Sint-Jans-Molenbeek \n🖊️ Meer informatie: inclusionlab07@gmail.com
URL:https://bindusvzw.be/activiteiten/lesaanbod-nederlands-2/
LOCATION:Fedasil Molenbeek\, François Sebrechtslaan 40\, 1080 Sint-Jans-Molenbeek
CATEGORIES:Activiteit Leden,Regionale Activiteit Brussel
ATTACH;FMTTYPE=image/jpeg:https://bindusvzw.be/wp-content/uploads/2025/03/goed-logo-inclusion-lab.jpg
ORGANIZER;CN="Inclusion Lab":MAILTO:inclusionlab07@gmail.com
END:VEVENT
END:VCALENDAR