BEGIN:VCALENDAR
VERSION:2.0
PRODID:-//Bindus vzw - ECPv6.15.20//NONSGML v1.0//EN
CALSCALE:GREGORIAN
METHOD:PUBLISH
X-WR-CALNAME:Bindus vzw
X-ORIGINAL-URL:https://bindusvzw.be
X-WR-CALDESC:Evenementen voor Bindus vzw
REFRESH-INTERVAL;VALUE=DURATION:PT1H
X-Robots-Tag:noindex
X-PUBLISHED-TTL:PT1H
BEGIN:VTIMEZONE
TZID:Europe/Helsinki
BEGIN:DAYLIGHT
TZOFFSETFROM:+0200
TZOFFSETTO:+0300
TZNAME:EEST
DTSTART:20240331T010000
END:DAYLIGHT
BEGIN:STANDARD
TZOFFSETFROM:+0300
TZOFFSETTO:+0200
TZNAME:EET
DTSTART:20241027T010000
END:STANDARD
BEGIN:DAYLIGHT
TZOFFSETFROM:+0200
TZOFFSETTO:+0300
TZNAME:EEST
DTSTART:20250330T010000
END:DAYLIGHT
BEGIN:STANDARD
TZOFFSETFROM:+0300
TZOFFSETTO:+0200
TZNAME:EET
DTSTART:20251026T010000
END:STANDARD
BEGIN:DAYLIGHT
TZOFFSETFROM:+0200
TZOFFSETTO:+0300
TZNAME:EEST
DTSTART:20260329T010000
END:DAYLIGHT
BEGIN:STANDARD
TZOFFSETFROM:+0300
TZOFFSETTO:+0200
TZNAME:EET
DTSTART:20261025T010000
END:STANDARD
END:VTIMEZONE
BEGIN:VEVENT
DTSTART;TZID=Europe/Helsinki:20250703T143000
DTEND;TZID=Europe/Helsinki:20250703T163000
DTSTAMP:20260422T185954
CREATED:20250408T103910Z
LAST-MODIFIED:20250408T103910Z
UID:10000586-1751553000-1751560200@bindusvzw.be
SUMMARY:Gesprekken op donderdag
DESCRIPTION:Bewustzijnsgesprek\n🗓️ Iedere donderdag het hele jaar door \n🤝 met Fatma Saydam en Nilüfer Bal \n📍online via Zoom \n⏰ 14u30 Europese tijd (CEST)\, 15u30 Turkse tijd (TRT) \n💶 Deelname: gratis  \n✨ Iedereen is welkom \n🖊️ Meer informatie en inschrijven via Yurdagulcengiz@hotmail.com
URL:https://bindusvzw.be/activiteiten/gesprekken-op-donderdag-27/
LOCATION:Online\, België
CATEGORIES:Activiteit Leden
END:VEVENT
BEGIN:VEVENT
DTSTART;TZID=Europe/Helsinki:20250710T143000
DTEND;TZID=Europe/Helsinki:20250710T163000
DTSTAMP:20260422T185954
CREATED:20250408T103942Z
LAST-MODIFIED:20250408T103942Z
UID:10000587-1752157800-1752165000@bindusvzw.be
SUMMARY:Gesprekken op donderdag
DESCRIPTION:Bewustzijnsgesprek\n🗓️ Iedere donderdag het hele jaar door \n🤝 met Fatma Saydam en Nilüfer Bal \n📍online via Zoom \n⏰ 14u30 Europese tijd (CEST)\, 15u30 Turkse tijd (TRT) \n💶 Deelname: gratis  \n✨ Iedereen is welkom \n🖊️ Meer informatie en inschrijven via Yurdagulcengiz@hotmail.com
URL:https://bindusvzw.be/activiteiten/gesprekken-op-donderdag-28/
LOCATION:Online\, België
CATEGORIES:Activiteit Leden
END:VEVENT
BEGIN:VEVENT
DTSTART;TZID=Europe/Helsinki:20250717T143000
DTEND;TZID=Europe/Helsinki:20250717T163000
DTSTAMP:20260422T185954
CREATED:20250408T104010Z
LAST-MODIFIED:20250408T104010Z
UID:10000588-1752762600-1752769800@bindusvzw.be
SUMMARY:Gesprekken op donderdag
DESCRIPTION:Bewustzijnsgesprek\n🗓️ Iedere donderdag het hele jaar door \n🤝 met Fatma Saydam en Nilüfer Bal \n📍online via Zoom \n⏰ 14u30 Europese tijd (CEST)\, 15u30 Turkse tijd (TRT) \n💶 Deelname: gratis  \n✨ Iedereen is welkom \n🖊️ Meer informatie en inschrijven via Yurdagulcengiz@hotmail.com
URL:https://bindusvzw.be/activiteiten/gesprekken-op-donderdag-29/
LOCATION:Online\, België
CATEGORIES:Activiteit Leden
END:VEVENT
BEGIN:VEVENT
DTSTART;TZID=Europe/Helsinki:20250724T143000
DTEND;TZID=Europe/Helsinki:20250724T163000
DTSTAMP:20260422T185954
CREATED:20250408T104041Z
LAST-MODIFIED:20250408T104041Z
UID:10000589-1753367400-1753374600@bindusvzw.be
SUMMARY:Gesprekken op donderdag
DESCRIPTION:Bewustzijnsgesprek\n🗓️ Iedere donderdag het hele jaar door \n🤝 met Fatma Saydam en Nilüfer Bal \n📍online via Zoom \n⏰ 14u30 Europese tijd (CEST)\, 15u30 Turkse tijd (TRT) \n💶 Deelname: gratis  \n✨ Iedereen is welkom \n🖊️ Meer informatie en inschrijven via Yurdagulcengiz@hotmail.com
URL:https://bindusvzw.be/activiteiten/gesprekken-op-donderdag-30/
LOCATION:Online\, België
CATEGORIES:Activiteit Leden
END:VEVENT
BEGIN:VEVENT
DTSTART;TZID=Europe/Helsinki:20250731T143000
DTEND;TZID=Europe/Helsinki:20250731T163000
DTSTAMP:20260422T185954
CREATED:20250408T104111Z
LAST-MODIFIED:20250408T104111Z
UID:10000590-1753972200-1753979400@bindusvzw.be
SUMMARY:Gesprekken op donderdag
DESCRIPTION:Bewustzijnsgesprek\n🗓️ Iedere donderdag het hele jaar door \n🤝 met Fatma Saydam en Nilüfer Bal \n📍online via Zoom \n⏰ 14u30 Europese tijd (CEST)\, 15u30 Turkse tijd (TRT) \n💶 Deelname: gratis  \n✨ Iedereen is welkom \n🖊️ Meer informatie en inschrijven via Yurdagulcengiz@hotmail.com
URL:https://bindusvzw.be/activiteiten/gesprekken-op-donderdag-31/
LOCATION:Online\, België
CATEGORIES:Activiteit Leden
END:VEVENT
END:VCALENDAR