BEGIN:VCALENDAR
VERSION:2.0
PRODID:-//Bindus vzw - ECPv6.15.20//NONSGML v1.0//EN
CALSCALE:GREGORIAN
METHOD:PUBLISH
X-ORIGINAL-URL:https://bindusvzw.be
X-WR-CALDESC:Evenementen voor Bindus vzw
REFRESH-INTERVAL;VALUE=DURATION:PT1H
X-Robots-Tag:noindex
X-PUBLISHED-TTL:PT1H
BEGIN:VTIMEZONE
TZID:Europe/Helsinki
BEGIN:DAYLIGHT
TZOFFSETFROM:+0200
TZOFFSETTO:+0300
TZNAME:EEST
DTSTART:20240331T010000
END:DAYLIGHT
BEGIN:STANDARD
TZOFFSETFROM:+0300
TZOFFSETTO:+0200
TZNAME:EET
DTSTART:20241027T010000
END:STANDARD
BEGIN:DAYLIGHT
TZOFFSETFROM:+0200
TZOFFSETTO:+0300
TZNAME:EEST
DTSTART:20250330T010000
END:DAYLIGHT
BEGIN:STANDARD
TZOFFSETFROM:+0300
TZOFFSETTO:+0200
TZNAME:EET
DTSTART:20251026T010000
END:STANDARD
BEGIN:DAYLIGHT
TZOFFSETFROM:+0200
TZOFFSETTO:+0300
TZNAME:EEST
DTSTART:20260329T010000
END:DAYLIGHT
BEGIN:STANDARD
TZOFFSETFROM:+0300
TZOFFSETTO:+0200
TZNAME:EET
DTSTART:20261025T010000
END:STANDARD
END:VTIMEZONE
BEGIN:VEVENT
DTSTART;TZID=Europe/Helsinki:20250807T143000
DTEND;TZID=Europe/Helsinki:20250807T163000
DTSTAMP:20260423T063013
CREATED:20250408T104140Z
LAST-MODIFIED:20250408T104140Z
UID:10000591-1754577000-1754584200@bindusvzw.be
SUMMARY:Gesprekken op donderdag
DESCRIPTION:Bewustzijnsgesprek\n🗓️ Iedere donderdag het hele jaar door \n🤝 met Fatma Saydam en Nilüfer Bal \n📍online via Zoom \n⏰ 14u30 Europese tijd (CEST)\, 15u30 Turkse tijd (TRT) \n💶 Deelname: gratis  \n✨ Iedereen is welkom \n🖊️ Meer informatie en inschrijven via Yurdagulcengiz@hotmail.com
URL:https://bindusvzw.be/activiteiten/gesprekken-op-donderdag-32/
LOCATION:Online\, België
CATEGORIES:Activiteit Leden
END:VEVENT
BEGIN:VEVENT
DTSTART;TZID=Europe/Helsinki:20250814T143000
DTEND;TZID=Europe/Helsinki:20250814T163000
DTSTAMP:20260423T063013
CREATED:20250408T104212Z
LAST-MODIFIED:20250408T104212Z
UID:10000592-1755181800-1755189000@bindusvzw.be
SUMMARY:Gesprekken op donderdag
DESCRIPTION:Bewustzijnsgesprek\n🗓️ Iedere donderdag het hele jaar door \n🤝 met Fatma Saydam en Nilüfer Bal \n📍online via Zoom \n⏰ 14u30 Europese tijd (CEST)\, 15u30 Turkse tijd (TRT) \n💶 Deelname: gratis  \n✨ Iedereen is welkom \n🖊️ Meer informatie en inschrijven via Yurdagulcengiz@hotmail.com
URL:https://bindusvzw.be/activiteiten/gesprekken-op-donderdag-33/
LOCATION:Online\, België
CATEGORIES:Activiteit Leden
END:VEVENT
BEGIN:VEVENT
DTSTART;TZID=Europe/Helsinki:20250821T143000
DTEND;TZID=Europe/Helsinki:20250821T163000
DTSTAMP:20260423T063013
CREATED:20250408T104244Z
LAST-MODIFIED:20250408T104244Z
UID:10000593-1755786600-1755793800@bindusvzw.be
SUMMARY:Gesprekken op donderdag
DESCRIPTION:Bewustzijnsgesprek\n🗓️ Iedere donderdag het hele jaar door \n🤝 met Fatma Saydam en Nilüfer Bal \n📍online via Zoom \n⏰ 14u30 Europese tijd (CEST)\, 15u30 Turkse tijd (TRT) \n💶 Deelname: gratis  \n✨ Iedereen is welkom \n🖊️ Meer informatie en inschrijven via Yurdagulcengiz@hotmail.com
URL:https://bindusvzw.be/activiteiten/gesprekken-op-donderdag-34/
LOCATION:Online\, België
CATEGORIES:Activiteit Leden
END:VEVENT
BEGIN:VEVENT
DTSTART;TZID=Europe/Helsinki:20250828T143000
DTEND;TZID=Europe/Helsinki:20250828T163000
DTSTAMP:20260423T063013
CREATED:20250408T104312Z
LAST-MODIFIED:20250408T104312Z
UID:10000594-1756391400-1756398600@bindusvzw.be
SUMMARY:Gesprekken op donderdag
DESCRIPTION:Bewustzijnsgesprek\n🗓️ Iedere donderdag het hele jaar door \n🤝 met Fatma Saydam en Nilüfer Bal \n📍online via Zoom \n⏰ 14u30 Europese tijd (CEST)\, 15u30 Turkse tijd (TRT) \n💶 Deelname: gratis  \n✨ Iedereen is welkom \n🖊️ Meer informatie en inschrijven via Yurdagulcengiz@hotmail.com
URL:https://bindusvzw.be/activiteiten/gesprekken-op-donderdag-35/
LOCATION:Online\, België
CATEGORIES:Activiteit Leden
END:VEVENT
END:VCALENDAR