BEGIN:VCALENDAR
VERSION:2.0
PRODID:-//Bindus vzw - ECPv6.15.20//NONSGML v1.0//EN
CALSCALE:GREGORIAN
METHOD:PUBLISH
X-WR-CALNAME:Bindus vzw
X-ORIGINAL-URL:https://bindusvzw.be
X-WR-CALDESC:Evenementen voor Bindus vzw
REFRESH-INTERVAL;VALUE=DURATION:PT1H
X-Robots-Tag:noindex
X-PUBLISHED-TTL:PT1H
BEGIN:VTIMEZONE
TZID:Europe/Helsinki
BEGIN:DAYLIGHT
TZOFFSETFROM:+0200
TZOFFSETTO:+0300
TZNAME:EEST
DTSTART:20240331T010000
END:DAYLIGHT
BEGIN:STANDARD
TZOFFSETFROM:+0300
TZOFFSETTO:+0200
TZNAME:EET
DTSTART:20241027T010000
END:STANDARD
BEGIN:DAYLIGHT
TZOFFSETFROM:+0200
TZOFFSETTO:+0300
TZNAME:EEST
DTSTART:20250330T010000
END:DAYLIGHT
BEGIN:STANDARD
TZOFFSETFROM:+0300
TZOFFSETTO:+0200
TZNAME:EET
DTSTART:20251026T010000
END:STANDARD
BEGIN:DAYLIGHT
TZOFFSETFROM:+0200
TZOFFSETTO:+0300
TZNAME:EEST
DTSTART:20260329T010000
END:DAYLIGHT
BEGIN:STANDARD
TZOFFSETFROM:+0300
TZOFFSETTO:+0200
TZNAME:EET
DTSTART:20261025T010000
END:STANDARD
END:VTIMEZONE
BEGIN:VEVENT
DTSTART;TZID=Europe/Helsinki:20251204T143000
DTEND;TZID=Europe/Helsinki:20251204T163000
DTSTAMP:20260421T011925
CREATED:20250408T105036Z
LAST-MODIFIED:20250408T105036Z
UID:10000608-1764858600-1764865800@bindusvzw.be
SUMMARY:Gesprekken op donderdag
DESCRIPTION:Bewustzijnsgesprek\n🗓️ Iedere donderdag het hele jaar door \n🤝 met Fatma Saydam en Nilüfer Bal \n📍online via Zoom \n⏰ 14u30 Europese tijd (CEST)\, 15u30 Turkse tijd (TRT) \n💶 Deelname: gratis  \n✨ Iedereen is welkom \n🖊️ Meer informatie en inschrijven via Yurdagulcengiz@hotmail.com
URL:https://bindusvzw.be/activiteiten/gesprekken-op-donderdag-49/
LOCATION:Online\, België
CATEGORIES:Activiteit Leden
END:VEVENT
BEGIN:VEVENT
DTSTART;TZID=Europe/Helsinki:20251211T143000
DTEND;TZID=Europe/Helsinki:20251211T163000
DTSTAMP:20260421T011925
CREATED:20250408T105107Z
LAST-MODIFIED:20250408T105107Z
UID:10000609-1765463400-1765470600@bindusvzw.be
SUMMARY:Gesprekken op donderdag
DESCRIPTION:Bewustzijnsgesprek\n🗓️ Iedere donderdag het hele jaar door \n🤝 met Fatma Saydam en Nilüfer Bal \n📍online via Zoom \n⏰ 14u30 Europese tijd (CEST)\, 15u30 Turkse tijd (TRT) \n💶 Deelname: gratis  \n✨ Iedereen is welkom \n🖊️ Meer informatie en inschrijven via Yurdagulcengiz@hotmail.com
URL:https://bindusvzw.be/activiteiten/gesprekken-op-donderdag-50/
LOCATION:Online\, België
CATEGORIES:Activiteit Leden
END:VEVENT
BEGIN:VEVENT
DTSTART;TZID=Europe/Helsinki:20251218T143000
DTEND;TZID=Europe/Helsinki:20251218T163000
DTSTAMP:20260421T011925
CREATED:20250408T105133Z
LAST-MODIFIED:20250408T105133Z
UID:10000610-1766068200-1766075400@bindusvzw.be
SUMMARY:Gesprekken op donderdag
DESCRIPTION:Bewustzijnsgesprek\n🗓️ Iedere donderdag het hele jaar door \n🤝 met Fatma Saydam en Nilüfer Bal \n📍online via Zoom \n⏰ 14u30 Europese tijd (CEST)\, 15u30 Turkse tijd (TRT) \n💶 Deelname: gratis  \n✨ Iedereen is welkom \n🖊️ Meer informatie en inschrijven via Yurdagulcengiz@hotmail.com
URL:https://bindusvzw.be/activiteiten/gesprekken-op-donderdag-51/
LOCATION:Online\, België
CATEGORIES:Activiteit Leden
END:VEVENT
BEGIN:VEVENT
DTSTART;TZID=Europe/Helsinki:20251225T143000
DTEND;TZID=Europe/Helsinki:20251225T163000
DTSTAMP:20260421T011925
CREATED:20250408T105201Z
LAST-MODIFIED:20250408T105201Z
UID:10000611-1766673000-1766680200@bindusvzw.be
SUMMARY:Gesprekken op donderdag
DESCRIPTION:Bewustzijnsgesprek\n🗓️ Iedere donderdag het hele jaar door \n🤝 met Fatma Saydam en Nilüfer Bal \n📍online via Zoom \n⏰ 14u30 Europese tijd (CEST)\, 15u30 Turkse tijd (TRT) \n💶 Deelname: gratis  \n✨ Iedereen is welkom \n🖊️ Meer informatie en inschrijven via Yurdagulcengiz@hotmail.com
URL:https://bindusvzw.be/activiteiten/gesprekken-op-donderdag-52/
LOCATION:Online\, België
CATEGORIES:Activiteit Leden
END:VEVENT
END:VCALENDAR