BEGIN:VCALENDAR
VERSION:2.0
PRODID:-//Bindus vzw - ECPv6.15.20//NONSGML v1.0//EN
CALSCALE:GREGORIAN
METHOD:PUBLISH
X-ORIGINAL-URL:https://bindusvzw.be
X-WR-CALDESC:Evenementen voor Bindus vzw
REFRESH-INTERVAL;VALUE=DURATION:PT1H
X-Robots-Tag:noindex
X-PUBLISHED-TTL:PT1H
BEGIN:VTIMEZONE
TZID:Europe/Helsinki
BEGIN:DAYLIGHT
TZOFFSETFROM:+0200
TZOFFSETTO:+0300
TZNAME:EEST
DTSTART:20240331T010000
END:DAYLIGHT
BEGIN:STANDARD
TZOFFSETFROM:+0300
TZOFFSETTO:+0200
TZNAME:EET
DTSTART:20241027T010000
END:STANDARD
BEGIN:DAYLIGHT
TZOFFSETFROM:+0200
TZOFFSETTO:+0300
TZNAME:EEST
DTSTART:20250330T010000
END:DAYLIGHT
BEGIN:STANDARD
TZOFFSETFROM:+0300
TZOFFSETTO:+0200
TZNAME:EET
DTSTART:20251026T010000
END:STANDARD
BEGIN:DAYLIGHT
TZOFFSETFROM:+0200
TZOFFSETTO:+0300
TZNAME:EEST
DTSTART:20260329T010000
END:DAYLIGHT
BEGIN:STANDARD
TZOFFSETFROM:+0300
TZOFFSETTO:+0200
TZNAME:EET
DTSTART:20261025T010000
END:STANDARD
END:VTIMEZONE
BEGIN:VEVENT
DTSTART;TZID=Europe/Helsinki:20250308T200000
DTEND;TZID=Europe/Helsinki:20250308T220000
DTSTAMP:20260420T081831
CREATED:20250122T132217Z
LAST-MODIFIED:20250122T132217Z
UID:10000393-1741464000-1741471200@bindusvzw.be
SUMMARY:Svetulka neemt deel aan Women in motion
DESCRIPTION:Virago Symphonic Orchestra n.a.v Wereldvrouwendag\n🗓️ Zaterdag 8 maart 2025 \n📍 Bourlaschouwburg\, Komedieplaats 18\, 2000 Antwerpen \n❗Op 8 maart\, Wereldvrouwendag\, gaat Virago Symphonic Orchestra in première met een nieuwe creatie.\nSamen met verschillende danscollectieven in en rond Antwerpen brengen zij muziekstukken van vrouwelijke componisten wereldwijd. \nContrabassiste Eline Cote (27) zwemt keihard tegen de stroom in. Op jonge leeftijd kwam zij al in verzet tegen het seksisme in de muziekwereld en in 2019 richtte zij een groot orkest op met uitsluitend vrouwen. Feminisme en gendergelijkwaardigheid zijn de hoekstenen van dit symfonieorkest dat Antwerpen als thuisbasis kent.\nOp 8 maart viert de wereld Internationale Vrouwendag. Hoe beter de vrouw in de kijker te zetten dan met het volledig vrouwelijke Virago Symphonic Orchestra onder leiding van Pascale Van Os. We vieren de vrouw in al haar facetten\, door de jaren heen\, en uit verschillende culturen. Om van deze dag een groot feest te maken\, nodigt het orkest verschillende dansgroepen uit die het verhaal vertellen van de vrouw in beweging. Zij brengen dit op het repertoire van vrouwelijke componisten van over heel de wereld. Wervelende dansen\, prachtige muziek\, een feest voor oog en oor. \n✍️ Inschrijven: Kies tickets – Toneelhuis \n🤝 In samenwerking met Toneelhuis en Virago Symphonic Orchestra \n💶 Deelname: tussen de 2 euro en 27 euro afhankelijk van de rang \n❔ Meer informatie via Women in Motion – Toneelhuis
URL:https://bindusvzw.be/activiteiten/svetulka-neemt-deel-aan-women-in-motion/
LOCATION:Bourlaschouwburg\, Komedieplaats 18\, Antwerpen\, 2000\, België
CATEGORIES:Activiteit Leden
ATTACH;FMTTYPE=image/jpeg:https://bindusvzw.be/wp-content/uploads/2025/01/svetulka-1.jpg
END:VEVENT
END:VCALENDAR