BEGIN:VCALENDAR
VERSION:2.0
PRODID:-//Bindus vzw - ECPv6.15.20//NONSGML v1.0//EN
CALSCALE:GREGORIAN
METHOD:PUBLISH
X-WR-CALNAME:Bindus vzw
X-ORIGINAL-URL:https://bindusvzw.be
X-WR-CALDESC:Evenementen voor Bindus vzw
REFRESH-INTERVAL;VALUE=DURATION:PT1H
X-Robots-Tag:noindex
X-PUBLISHED-TTL:PT1H
BEGIN:VTIMEZONE
TZID:Europe/Helsinki
BEGIN:DAYLIGHT
TZOFFSETFROM:+0200
TZOFFSETTO:+0300
TZNAME:EEST
DTSTART:20250330T010000
END:DAYLIGHT
BEGIN:STANDARD
TZOFFSETFROM:+0300
TZOFFSETTO:+0200
TZNAME:EET
DTSTART:20251026T010000
END:STANDARD
BEGIN:DAYLIGHT
TZOFFSETFROM:+0200
TZOFFSETTO:+0300
TZNAME:EEST
DTSTART:20260329T010000
END:DAYLIGHT
BEGIN:STANDARD
TZOFFSETFROM:+0300
TZOFFSETTO:+0200
TZNAME:EET
DTSTART:20261025T010000
END:STANDARD
BEGIN:DAYLIGHT
TZOFFSETFROM:+0200
TZOFFSETTO:+0300
TZNAME:EEST
DTSTART:20270328T010000
END:DAYLIGHT
BEGIN:STANDARD
TZOFFSETFROM:+0300
TZOFFSETTO:+0200
TZNAME:EET
DTSTART:20271031T010000
END:STANDARD
END:VTIMEZONE
BEGIN:VEVENT
DTSTART;TZID=Europe/Helsinki:20260113T173000
DTEND;TZID=Europe/Helsinki:20260113T210000
DTSTAMP:20260421T102830
CREATED:20251216T090645Z
LAST-MODIFIED:20251216T090849Z
UID:10001794-1768325400-1768338000@bindusvzw.be
SUMMARY:Zone Femmes organiseert een dialoogavond
DESCRIPTION:Zone Femmes organiseert een dialoogavond ‘Omgaan met uitdagingen in het buitenland’\nZone Femmes organiseerde reeds een reeks van inspirerende\nworkshops in het kader van het project Voices of Resilience.\nOp hun dialoogavond nodigen ze psychiater Dr. Rafif Almhanna uit om samen met jou in gesprek te gaan over verschillende uitdagingen. \n🗓️ dinsdag 13 januari\n \n⏰ 17.30-21.00 uur  \n❔ Vrije toegang voor iedereen\, inschrijven verplicht \n💶 Gratis voor alle deelnemers \n📍 Wetstraat 89\, 1040 Brussel \n🤝 In samenwerking met Women refugee committe en United Syrian voices \n❔ Meer informatie: 0470 032 427 
URL:https://bindusvzw.be/activiteiten/zone-femmes-organiseert-een-dialoogavond/
CATEGORIES:Activiteit Leden
ORGANIZER;CN="Zone Femmes":MAILTO:info@zonefemmes.com
END:VEVENT
END:VCALENDAR