BEGIN:VCALENDAR
VERSION:2.0
PRODID:-//Bindus vzw - ECPv6.15.20//NONSGML v1.0//EN
CALSCALE:GREGORIAN
METHOD:PUBLISH
X-ORIGINAL-URL:https://bindusvzw.be
X-WR-CALDESC:Evenementen voor Bindus vzw
REFRESH-INTERVAL;VALUE=DURATION:PT1H
X-Robots-Tag:noindex
X-PUBLISHED-TTL:PT1H
BEGIN:VTIMEZONE
TZID:Europe/Helsinki
BEGIN:DAYLIGHT
TZOFFSETFROM:+0200
TZOFFSETTO:+0300
TZNAME:EEST
DTSTART:20240331T010000
END:DAYLIGHT
BEGIN:STANDARD
TZOFFSETFROM:+0300
TZOFFSETTO:+0200
TZNAME:EET
DTSTART:20241027T010000
END:STANDARD
BEGIN:DAYLIGHT
TZOFFSETFROM:+0200
TZOFFSETTO:+0300
TZNAME:EEST
DTSTART:20250330T010000
END:DAYLIGHT
BEGIN:STANDARD
TZOFFSETFROM:+0300
TZOFFSETTO:+0200
TZNAME:EET
DTSTART:20251026T010000
END:STANDARD
BEGIN:DAYLIGHT
TZOFFSETFROM:+0200
TZOFFSETTO:+0300
TZNAME:EEST
DTSTART:20260329T010000
END:DAYLIGHT
BEGIN:STANDARD
TZOFFSETFROM:+0300
TZOFFSETTO:+0200
TZNAME:EET
DTSTART:20261025T010000
END:STANDARD
END:VTIMEZONE
BEGIN:VEVENT
DTSTART;TZID=Europe/Helsinki:20250303T130000
DTEND;TZID=Europe/Helsinki:20250303T170000
DTSTAMP:20260420T235055
CREATED:20250422T090754Z
LAST-MODIFIED:20250422T090915Z
UID:10000682-1741006800-1741021200@bindusvzw.be
SUMMARY:DMR gaat naar het Natuurwetenschappelijk museum
DESCRIPTION:Ga samen met DMR naar het natuurwetenschappelijk museum in Brussel\n🗓️ maandag 3 maart  \n⏰ 13-17u  \n❔ Samen met verschillende studenten gaat DMR naar het natuurwetenschappelijk museum in Brussel \n📍 Koninklijk Belgisch Instituut voor voor Natuurwetenschappen\, Vautierstraat 29\, 1000 Brussel \n❔ Meer informatie via asbldmr@gmail.com
URL:https://bindusvzw.be/activiteiten/dmr-gaat-naar-het-natuurwetenschappelijk-museum/
LOCATION:Koninklijk Belgisch Instituut voor natuurwetenschappen\, Vautierstraat 29\, Brussel\, België
CATEGORIES:Activiteit Leden
ATTACH;FMTTYPE=image/png:https://bindusvzw.be/wp-content/uploads/2025/04/2024_logo_DMR.png
ORGANIZER;CN="DMR":MAILTO:info@demirconsulting.be
END:VEVENT
END:VCALENDAR