BEGIN:VCALENDAR
VERSION:2.0
PRODID:-//Bindus vzw - ECPv6.15.20//NONSGML v1.0//EN
CALSCALE:GREGORIAN
METHOD:PUBLISH
X-WR-CALNAME:Bindus vzw
X-ORIGINAL-URL:https://bindusvzw.be
X-WR-CALDESC:Evenementen voor Bindus vzw
REFRESH-INTERVAL;VALUE=DURATION:PT1H
X-Robots-Tag:noindex
X-PUBLISHED-TTL:PT1H
BEGIN:VTIMEZONE
TZID:Europe/Helsinki
BEGIN:DAYLIGHT
TZOFFSETFROM:+0200
TZOFFSETTO:+0300
TZNAME:EEST
DTSTART:20240331T010000
END:DAYLIGHT
BEGIN:STANDARD
TZOFFSETFROM:+0300
TZOFFSETTO:+0200
TZNAME:EET
DTSTART:20241027T010000
END:STANDARD
BEGIN:DAYLIGHT
TZOFFSETFROM:+0200
TZOFFSETTO:+0300
TZNAME:EEST
DTSTART:20250330T010000
END:DAYLIGHT
BEGIN:STANDARD
TZOFFSETFROM:+0300
TZOFFSETTO:+0200
TZNAME:EET
DTSTART:20251026T010000
END:STANDARD
BEGIN:DAYLIGHT
TZOFFSETFROM:+0200
TZOFFSETTO:+0300
TZNAME:EEST
DTSTART:20260329T010000
END:DAYLIGHT
BEGIN:STANDARD
TZOFFSETFROM:+0300
TZOFFSETTO:+0200
TZNAME:EET
DTSTART:20261025T010000
END:STANDARD
END:VTIMEZONE
BEGIN:VEVENT
DTSTART;TZID=Europe/Helsinki:20251102T143000
DTEND;TZID=Europe/Helsinki:20251102T190000
DTSTAMP:20260422T225301
CREATED:20250728T090415Z
LAST-MODIFIED:20250728T090415Z
UID:10001318-1762093800-1762110000@bindusvzw.be
SUMMARY:Svetulka: Bulgaarse folkloregroep
DESCRIPTION:Danslessen Bulgaarse folklore\n🗓️ Iedere dinsdag\, donderdag en zondag met uitzondering van de zomervakantie (juli en augustus) \n⏰ Dinsdag: 17u30-21u30\n⏰Donderdag: 17u30-21u30\n ⏰ Zondag: 14u30-19u00\n \n📍 Bindus\, Brederodestraat 188\, 2018 Antwerpen \n❗Afhankelijk van optredens in het binnen en buitenland kunnen er wijzigingen zijn in de planning \n✨ Mee te nemen: dansschoenen en comfortabele danskleding en een flesje water \n🖊️ inschrijven en meer informatie via Svetulka@skynet.be
URL:https://bindusvzw.be/activiteiten/svetulka-bulgaarse-folkloregroep-109/
LOCATION:Bindus Antwerpen\, Brederodestraat 188\, Antwerpen\, antwerpen\, 2000\, België
CATEGORIES:Activiteit Leden
ATTACH;FMTTYPE=image/jpeg:https://bindusvzw.be/wp-content/uploads/2024/12/341b5fe5-4e47-4669-9182-fa176066e9c5.jpg
ORGANIZER;CN="Svetulka":MAILTO:Svetulka@skynet.be
END:VEVENT
BEGIN:VEVENT
DTSTART;TZID=Europe/Helsinki:20251104T173000
DTEND;TZID=Europe/Helsinki:20251104T213000
DTSTAMP:20260422T225301
CREATED:20250728T091310Z
LAST-MODIFIED:20250728T091310Z
UID:10001319-1762277400-1762291800@bindusvzw.be
SUMMARY:Svetulka: Bulgaarse folkloregroep
DESCRIPTION:Danslessen Bulgaarse folklore\n🗓️ Iedere dinsdag\, donderdag en zondag met uitzondering van de zomervakantie (juli en augustus) \n⏰ Dinsdag: 17u30-21u30\n⏰Donderdag: 17u30-21u30\n ⏰ Zondag: 14u30-19u00\n \n📍 Bindus\, Brederodestraat 188\, 2018 Antwerpen \n❗Afhankelijk van optredens in het binnen en buitenland kunnen er wijzigingen zijn in de planning \n✨ Mee te nemen: dansschoenen en comfortabele danskleding en een flesje water \n🖊️ inschrijven en meer informatie via Svetulka@skynet.be
URL:https://bindusvzw.be/activiteiten/svetulka-bulgaarse-folkloregroep-110/
LOCATION:Bindus Antwerpen\, Brederodestraat 188\, Antwerpen\, antwerpen\, 2000\, België
CATEGORIES:Activiteit Leden
ATTACH;FMTTYPE=image/jpeg:https://bindusvzw.be/wp-content/uploads/2024/12/341b5fe5-4e47-4669-9182-fa176066e9c5.jpg
ORGANIZER;CN="Svetulka":MAILTO:Svetulka@skynet.be
END:VEVENT
BEGIN:VEVENT
DTSTART;TZID=Europe/Helsinki:20251106T173000
DTEND;TZID=Europe/Helsinki:20251106T213000
DTSTAMP:20260422T225301
CREATED:20250728T091603Z
LAST-MODIFIED:20250728T091603Z
UID:10001320-1762450200-1762464600@bindusvzw.be
SUMMARY:Svetulka: Bulgaarse folkloregroep
DESCRIPTION:Danslessen Bulgaarse folklore\n🗓️ Iedere dinsdag\, donderdag en zondag met uitzondering van de zomervakantie (juli en augustus) \n⏰ Dinsdag: 17u30-21u30\n⏰Donderdag: 17u30-21u30\n ⏰ Zondag: 14u30-19u00\n \n📍 Bindus\, Brederodestraat 188\, 2018 Antwerpen \n❗Afhankelijk van optredens in het binnen en buitenland kunnen er wijzigingen zijn in de planning \n✨ Mee te nemen: dansschoenen en comfortabele danskleding en een flesje water \n🖊️ inschrijven en meer informatie via Svetulka@skynet.be
URL:https://bindusvzw.be/activiteiten/svetulka-bulgaarse-folkloregroep-111/
LOCATION:Bindus Antwerpen\, Brederodestraat 188\, Antwerpen\, antwerpen\, 2000\, België
CATEGORIES:Activiteit Leden
ATTACH;FMTTYPE=image/jpeg:https://bindusvzw.be/wp-content/uploads/2024/12/341b5fe5-4e47-4669-9182-fa176066e9c5.jpg
ORGANIZER;CN="Svetulka":MAILTO:Svetulka@skynet.be
END:VEVENT
BEGIN:VEVENT
DTSTART;TZID=Europe/Helsinki:20251109T131000
DTEND;TZID=Europe/Helsinki:20251109T173000
DTSTAMP:20260422T225301
CREATED:20250807T123506Z
LAST-MODIFIED:20250807T123506Z
UID:10001445-1762693800-1762709400@bindusvzw.be
SUMMARY:Volksdansgroep "Izvor"
DESCRIPTION:Danslessen in Bulgaarse traditionele volksdansen \n🗓️ Iedere zondag met uitzondering van de schoolvakanties en feestdagen \n⏰ 13u10-14u: kinderdansgroep “Izvor”\n⏰14u10- 15u10: beginners\n ⏰ 15u20- 16u20: semi-gevorderde dansers\n⏰ 16u30-17u30: gevorderde dansers       \n📍 Academie Hoboken\, Lageweg 141\, 2660 Hoboken \n✨ Mee te nemen: dansschoenen en comfortabele danskleding en een flesje water \n💶 Deelname: afhankelijk van de inschrijving \n🖊️ inschrijven via info@izvor.be
URL:https://bindusvzw.be/activiteiten/volksdansgroep-izvor-37/
LOCATION:Academie Hoboken\, Lageweg 141\, Antwerpen\, 2660
CATEGORIES:Activiteit Leden
ATTACH;FMTTYPE=image/jpeg:https://bindusvzw.be/wp-content/uploads/2024/12/2024_Folder_6.jpeg
ORGANIZER;CN="Izvor vzw":MAILTO:info@izvor.be
END:VEVENT
BEGIN:VEVENT
DTSTART;TZID=Europe/Helsinki:20251109T143000
DTEND;TZID=Europe/Helsinki:20251109T190000
DTSTAMP:20260422T225301
CREATED:20250728T091955Z
LAST-MODIFIED:20250728T091955Z
UID:10001321-1762698600-1762714800@bindusvzw.be
SUMMARY:Svetulka: Bulgaarse folkloregroep
DESCRIPTION:Danslessen Bulgaarse folklore\n🗓️ Iedere dinsdag\, donderdag en zondag met uitzondering van de zomervakantie (juli en augustus) \n⏰ Dinsdag: 17u30-21u30\n⏰Donderdag: 17u30-21u30\n ⏰ Zondag: 14u30-19u00\n \n📍 Bindus\, Brederodestraat 188\, 2018 Antwerpen \n❗Afhankelijk van optredens in het binnen en buitenland kunnen er wijzigingen zijn in de planning \n✨ Mee te nemen: dansschoenen en comfortabele danskleding en een flesje water \n🖊️ inschrijven en meer informatie via Svetulka@skynet.be
URL:https://bindusvzw.be/activiteiten/svetulka-bulgaarse-folkloregroep-112/
LOCATION:Bindus Antwerpen\, Brederodestraat 188\, Antwerpen\, antwerpen\, 2000\, België
CATEGORIES:Activiteit Leden
ATTACH;FMTTYPE=image/jpeg:https://bindusvzw.be/wp-content/uploads/2024/12/341b5fe5-4e47-4669-9182-fa176066e9c5.jpg
ORGANIZER;CN="Svetulka":MAILTO:Svetulka@skynet.be
END:VEVENT
BEGIN:VEVENT
DTSTART;TZID=Europe/Helsinki:20251111T173000
DTEND;TZID=Europe/Helsinki:20251111T213000
DTSTAMP:20260422T225301
CREATED:20250728T092247Z
LAST-MODIFIED:20250728T092247Z
UID:10001322-1762882200-1762896600@bindusvzw.be
SUMMARY:Svetulka: Bulgaarse folkloregroep
DESCRIPTION:Danslessen Bulgaarse folklore\n🗓️ Iedere dinsdag\, donderdag en zondag met uitzondering van de zomervakantie (juli en augustus) \n⏰ Dinsdag: 17u30-21u30\n⏰Donderdag: 17u30-21u30\n ⏰ Zondag: 14u30-19u00\n \n📍 Bindus\, Brederodestraat 188\, 2018 Antwerpen \n❗Afhankelijk van optredens in het binnen en buitenland kunnen er wijzigingen zijn in de planning \n✨ Mee te nemen: dansschoenen en comfortabele danskleding en een flesje water \n🖊️ inschrijven en meer informatie via Svetulka@skynet.be
URL:https://bindusvzw.be/activiteiten/svetulka-bulgaarse-folkloregroep-113/
LOCATION:Bindus Antwerpen\, Brederodestraat 188\, Antwerpen\, antwerpen\, 2000\, België
CATEGORIES:Activiteit Leden
ATTACH;FMTTYPE=image/jpeg:https://bindusvzw.be/wp-content/uploads/2024/12/341b5fe5-4e47-4669-9182-fa176066e9c5.jpg
ORGANIZER;CN="Svetulka":MAILTO:Svetulka@skynet.be
END:VEVENT
BEGIN:VEVENT
DTSTART;TZID=Europe/Helsinki:20251113T173000
DTEND;TZID=Europe/Helsinki:20251113T213000
DTSTAMP:20260422T225301
CREATED:20250728T092455Z
LAST-MODIFIED:20250728T092455Z
UID:10001323-1763055000-1763069400@bindusvzw.be
SUMMARY:Svetulka: Bulgaarse folkloregroep
DESCRIPTION:Danslessen Bulgaarse folklore\n🗓️ Iedere dinsdag\, donderdag en zondag met uitzondering van de zomervakantie (juli en augustus) \n⏰ Dinsdag: 17u30-21u30\n⏰Donderdag: 17u30-21u30\n ⏰ Zondag: 14u30-19u00\n \n📍 Bindus\, Brederodestraat 188\, 2018 Antwerpen \n❗Afhankelijk van optredens in het binnen en buitenland kunnen er wijzigingen zijn in de planning \n✨ Mee te nemen: dansschoenen en comfortabele danskleding en een flesje water \n🖊️ inschrijven en meer informatie via Svetulka@skynet.be
URL:https://bindusvzw.be/activiteiten/svetulka-bulgaarse-folkloregroep-114/
LOCATION:Bindus Antwerpen\, Brederodestraat 188\, Antwerpen\, antwerpen\, 2000\, België
CATEGORIES:Activiteit Leden
ATTACH;FMTTYPE=image/jpeg:https://bindusvzw.be/wp-content/uploads/2024/12/341b5fe5-4e47-4669-9182-fa176066e9c5.jpg
ORGANIZER;CN="Svetulka":MAILTO:Svetulka@skynet.be
END:VEVENT
BEGIN:VEVENT
DTSTART;TZID=Europe/Helsinki:20251116T131000
DTEND;TZID=Europe/Helsinki:20251116T173000
DTSTAMP:20260422T225301
CREATED:20250807T123607Z
LAST-MODIFIED:20250807T123607Z
UID:10001446-1763298600-1763314200@bindusvzw.be
SUMMARY:Volksdansgroep "Izvor"
DESCRIPTION:Danslessen in Bulgaarse traditionele volksdansen \n🗓️ Iedere zondag met uitzondering van de schoolvakanties en feestdagen \n⏰ 13u10-14u: kinderdansgroep “Izvor”\n⏰14u10- 15u10: beginners\n ⏰ 15u20- 16u20: semi-gevorderde dansers\n⏰ 16u30-17u30: gevorderde dansers       \n📍 Academie Hoboken\, Lageweg 141\, 2660 Hoboken \n✨ Mee te nemen: dansschoenen en comfortabele danskleding en een flesje water \n💶 Deelname: afhankelijk van de inschrijving \n🖊️ inschrijven via info@izvor.be
URL:https://bindusvzw.be/activiteiten/volksdansgroep-izvor-38/
LOCATION:Academie Hoboken\, Lageweg 141\, Antwerpen\, 2660
CATEGORIES:Activiteit Leden
ATTACH;FMTTYPE=image/jpeg:https://bindusvzw.be/wp-content/uploads/2024/12/2024_Folder_6.jpeg
ORGANIZER;CN="Izvor vzw":MAILTO:info@izvor.be
END:VEVENT
BEGIN:VEVENT
DTSTART;TZID=Europe/Helsinki:20251116T143000
DTEND;TZID=Europe/Helsinki:20251116T193000
DTSTAMP:20260422T225301
CREATED:20250728T093444Z
LAST-MODIFIED:20250728T093444Z
UID:10001324-1763303400-1763321400@bindusvzw.be
SUMMARY:Svetulka: Bulgaarse folkloregroep
DESCRIPTION:Danslessen Bulgaarse folklore\n🗓️ Iedere dinsdag\, donderdag en zondag met uitzondering van de zomervakantie (juli en augustus) \n⏰ Dinsdag: 17u30-21u30\n⏰Donderdag: 17u30-21u30\n ⏰ Zondag: 14u30-19u00\n \n📍 Bindus\, Brederodestraat 188\, 2018 Antwerpen \n❗Afhankelijk van optredens in het binnen en buitenland kunnen er wijzigingen zijn in de planning \n✨ Mee te nemen: dansschoenen en comfortabele danskleding en een flesje water \n🖊️ inschrijven en meer informatie via Svetulka@skynet.be
URL:https://bindusvzw.be/activiteiten/svetulka-bulgaarse-folkloregroep-115/
LOCATION:Bindus Antwerpen\, Brederodestraat 188\, Antwerpen\, antwerpen\, 2000\, België
CATEGORIES:Activiteit Leden
ATTACH;FMTTYPE=image/jpeg:https://bindusvzw.be/wp-content/uploads/2024/12/341b5fe5-4e47-4669-9182-fa176066e9c5.jpg
ORGANIZER;CN="Svetulka":MAILTO:Svetulka@skynet.be
END:VEVENT
BEGIN:VEVENT
DTSTART;TZID=Europe/Helsinki:20251118T173000
DTEND;TZID=Europe/Helsinki:20251118T213000
DTSTAMP:20260422T225301
CREATED:20250728T093916Z
LAST-MODIFIED:20250728T093916Z
UID:10001325-1763487000-1763501400@bindusvzw.be
SUMMARY:Svetulka: Bulgaarse folkloregroep
DESCRIPTION:Danslessen Bulgaarse folklore\n🗓️ Iedere dinsdag\, donderdag en zondag met uitzondering van de zomervakantie (juli en augustus) \n⏰ Dinsdag: 17u30-21u30\n⏰Donderdag: 17u30-21u30\n ⏰ Zondag: 14u30-19u00\n \n📍 Bindus\, Brederodestraat 188\, 2018 Antwerpen \n❗Afhankelijk van optredens in het binnen en buitenland kunnen er wijzigingen zijn in de planning \n✨ Mee te nemen: dansschoenen en comfortabele danskleding en een flesje water \n🖊️ inschrijven en meer informatie via Svetulka@skynet.be
URL:https://bindusvzw.be/activiteiten/svetulka-bulgaarse-folkloregroep-116/
LOCATION:Bindus Antwerpen\, Brederodestraat 188\, Antwerpen\, antwerpen\, 2000\, België
CATEGORIES:Activiteit Leden
ATTACH;FMTTYPE=image/jpeg:https://bindusvzw.be/wp-content/uploads/2024/12/341b5fe5-4e47-4669-9182-fa176066e9c5.jpg
ORGANIZER;CN="Svetulka":MAILTO:Svetulka@skynet.be
END:VEVENT
BEGIN:VEVENT
DTSTART;TZID=Europe/Helsinki:20251120T173000
DTEND;TZID=Europe/Helsinki:20251120T213000
DTSTAMP:20260422T225301
CREATED:20250728T094201Z
LAST-MODIFIED:20250728T094201Z
UID:10001326-1763659800-1763674200@bindusvzw.be
SUMMARY:Svetulka: Bulgaarse folkloregroep
DESCRIPTION:Danslessen Bulgaarse folklore\n🗓️ Iedere dinsdag\, donderdag en zondag met uitzondering van de zomervakantie (juli en augustus) \n⏰ Dinsdag: 17u30-21u30\n⏰Donderdag: 17u30-21u30\n ⏰ Zondag: 14u30-19u00\n \n📍 Bindus\, Brederodestraat 188\, 2018 Antwerpen \n❗Afhankelijk van optredens in het binnen en buitenland kunnen er wijzigingen zijn in de planning \n✨ Mee te nemen: dansschoenen en comfortabele danskleding en een flesje water \n🖊️ inschrijven en meer informatie via Svetulka@skynet.be
URL:https://bindusvzw.be/activiteiten/svetulka-bulgaarse-folkloregroep-117/
LOCATION:Bindus Antwerpen\, Brederodestraat 188\, Antwerpen\, antwerpen\, 2000\, België
CATEGORIES:Activiteit Leden
ATTACH;FMTTYPE=image/jpeg:https://bindusvzw.be/wp-content/uploads/2024/12/341b5fe5-4e47-4669-9182-fa176066e9c5.jpg
ORGANIZER;CN="Svetulka":MAILTO:Svetulka@skynet.be
END:VEVENT
BEGIN:VEVENT
DTSTART;TZID=Europe/Helsinki:20251122T120000
DTEND;TZID=Europe/Helsinki:20251122T163000
DTSTAMP:20260422T225301
CREATED:20250807T085012Z
LAST-MODIFIED:20250917T091426Z
UID:10001431-1763812800-1763829000@bindusvzw.be
SUMMARY:Mongoolse zaterdagschool Ireedui vzw
DESCRIPTION:Ireedui vzw zet zich in voor het behoud van de Mongoolse taal en cultuur in Vlaanderen\n  \n🗓️ Iedere zaterdag met uitzondering van de\nvakantieperiodes die van  toepassing zijn voor\nhet Nederlandstalig onderwijs in Vlaanderen \n⏰ 12-16u30 \n❔ Kinderen van 2\,8 tot 11 jaar \n📍 Het stadsmagazijn\, Keistraat 5\, 2000 Antwerpen \n✨ De leerstof volgt het programma van het Ministerie\nvan Onderwijs en Wetenschappen in Mongolië\nbetr.  de Mongoolse zondagscholen in het buitenland\nwaardoor kinderen die geen Mongools als moedertaal\nhebben ook welkom  zijn. \n✍️ Inschrijven: via Nergui Erkhembayar (Facebook) \n💶 Deelnameprijs: maandelijkse bijdrage \n❔ Meer informatie via n_erkhembayar@yahoo.com of 0484 15 02 89
URL:https://bindusvzw.be/activiteiten/mongoolse-zaterdagschool-ireedui-vzw-31/
LOCATION:Bindus Antwerpen\, Brederodestraat 188\, Antwerpen\, antwerpen\, 2000\, België
CATEGORIES:Activiteit Leden
ATTACH;FMTTYPE=image/jpeg:https://bindusvzw.be/wp-content/uploads/2024/12/foto-nergui-website-4.jpg
ORGANIZER;CN="Ireedui vzw":MAILTO:n_erkhembayar@yahoo.com
END:VEVENT
BEGIN:VEVENT
DTSTART;TZID=Europe/Helsinki:20251123T131000
DTEND;TZID=Europe/Helsinki:20251123T173000
DTSTAMP:20260422T225301
CREATED:20250807T123704Z
LAST-MODIFIED:20250807T123704Z
UID:10001447-1763903400-1763919000@bindusvzw.be
SUMMARY:Volksdansgroep "Izvor"
DESCRIPTION:Danslessen in Bulgaarse traditionele volksdansen \n🗓️ Iedere zondag met uitzondering van de schoolvakanties en feestdagen \n⏰ 13u10-14u: kinderdansgroep “Izvor”\n⏰14u10- 15u10: beginners\n ⏰ 15u20- 16u20: semi-gevorderde dansers\n⏰ 16u30-17u30: gevorderde dansers       \n📍 Academie Hoboken\, Lageweg 141\, 2660 Hoboken \n✨ Mee te nemen: dansschoenen en comfortabele danskleding en een flesje water \n💶 Deelname: afhankelijk van de inschrijving \n🖊️ inschrijven via info@izvor.be
URL:https://bindusvzw.be/activiteiten/volksdansgroep-izvor-39/
LOCATION:Academie Hoboken\, Lageweg 141\, Antwerpen\, 2660
CATEGORIES:Activiteit Leden
ATTACH;FMTTYPE=image/jpeg:https://bindusvzw.be/wp-content/uploads/2024/12/2024_Folder_6.jpeg
ORGANIZER;CN="Izvor vzw":MAILTO:info@izvor.be
END:VEVENT
BEGIN:VEVENT
DTSTART;TZID=Europe/Helsinki:20251123T143000
DTEND;TZID=Europe/Helsinki:20251123T190000
DTSTAMP:20260422T225301
CREATED:20250728T094431Z
LAST-MODIFIED:20250728T094431Z
UID:10001327-1763908200-1763924400@bindusvzw.be
SUMMARY:Svetulka: Bulgaarse folkloregroep
DESCRIPTION:Danslessen Bulgaarse folklore\n🗓️ Iedere dinsdag\, donderdag en zondag met uitzondering van de zomervakantie (juli en augustus) \n⏰ Dinsdag: 17u30-21u30\n⏰Donderdag: 17u30-21u30\n ⏰ Zondag: 14u30-19u00\n \n📍 Bindus\, Brederodestraat 188\, 2018 Antwerpen \n❗Afhankelijk van optredens in het binnen en buitenland kunnen er wijzigingen zijn in de planning \n✨ Mee te nemen: dansschoenen en comfortabele danskleding en een flesje water \n🖊️ inschrijven en meer informatie via Svetulka@skynet.be
URL:https://bindusvzw.be/activiteiten/svetulka-bulgaarse-folkloregroep-118/
LOCATION:Bindus Antwerpen\, Brederodestraat 188\, Antwerpen\, antwerpen\, 2000\, België
CATEGORIES:Activiteit Leden
ATTACH;FMTTYPE=image/jpeg:https://bindusvzw.be/wp-content/uploads/2024/12/341b5fe5-4e47-4669-9182-fa176066e9c5.jpg
ORGANIZER;CN="Svetulka":MAILTO:Svetulka@skynet.be
END:VEVENT
BEGIN:VEVENT
DTSTART;TZID=Europe/Helsinki:20251125T173000
DTEND;TZID=Europe/Helsinki:20251125T213000
DTSTAMP:20260422T225301
CREATED:20250728T094646Z
LAST-MODIFIED:20250728T094646Z
UID:10001328-1764091800-1764106200@bindusvzw.be
SUMMARY:Svetulka: Bulgaarse folkloregroep
DESCRIPTION:Danslessen Bulgaarse folklore\n🗓️ Iedere dinsdag\, donderdag en zondag met uitzondering van de zomervakantie (juli en augustus) \n⏰ Dinsdag: 17u30-21u30\n⏰Donderdag: 17u30-21u30\n ⏰ Zondag: 14u30-19u00\n \n📍 Bindus\, Brederodestraat 188\, 2018 Antwerpen \n❗Afhankelijk van optredens in het binnen en buitenland kunnen er wijzigingen zijn in de planning \n✨ Mee te nemen: dansschoenen en comfortabele danskleding en een flesje water \n🖊️ inschrijven en meer informatie via Svetulka@skynet.be
URL:https://bindusvzw.be/activiteiten/svetulka-bulgaarse-folkloregroep-119/
LOCATION:Bindus Antwerpen\, Brederodestraat 188\, Antwerpen\, antwerpen\, 2000\, België
CATEGORIES:Activiteit Leden
ATTACH;FMTTYPE=image/jpeg:https://bindusvzw.be/wp-content/uploads/2024/12/341b5fe5-4e47-4669-9182-fa176066e9c5.jpg
ORGANIZER;CN="Svetulka":MAILTO:Svetulka@skynet.be
END:VEVENT
BEGIN:VEVENT
DTSTART;TZID=Europe/Helsinki:20251127T173000
DTEND;TZID=Europe/Helsinki:20251127T213000
DTSTAMP:20260422T225301
CREATED:20250728T094843Z
LAST-MODIFIED:20250728T094843Z
UID:10001329-1764264600-1764279000@bindusvzw.be
SUMMARY:Svetulka: Bulgaarse folkloregroep
DESCRIPTION:Danslessen Bulgaarse folklore\n🗓️ Iedere dinsdag\, donderdag en zondag met uitzondering van de zomervakantie (juli en augustus) \n⏰ Dinsdag: 17u30-21u30\n⏰Donderdag: 17u30-21u30\n ⏰ Zondag: 14u30-19u00\n \n📍 Bindus\, Brederodestraat 188\, 2018 Antwerpen \n❗Afhankelijk van optredens in het binnen en buitenland kunnen er wijzigingen zijn in de planning \n✨ Mee te nemen: dansschoenen en comfortabele danskleding en een flesje water \n🖊️ inschrijven en meer informatie via Svetulka@skynet.be
URL:https://bindusvzw.be/activiteiten/svetulka-bulgaarse-folkloregroep-120/
LOCATION:Bindus Antwerpen\, Brederodestraat 188\, Antwerpen\, antwerpen\, 2000\, België
CATEGORIES:Activiteit Leden
ATTACH;FMTTYPE=image/jpeg:https://bindusvzw.be/wp-content/uploads/2024/12/341b5fe5-4e47-4669-9182-fa176066e9c5.jpg
ORGANIZER;CN="Svetulka":MAILTO:Svetulka@skynet.be
END:VEVENT
BEGIN:VEVENT
DTSTART;TZID=Europe/Helsinki:20251130T131000
DTEND;TZID=Europe/Helsinki:20251130T173000
DTSTAMP:20260422T225301
CREATED:20250807T123742Z
LAST-MODIFIED:20250807T123742Z
UID:10001448-1764508200-1764523800@bindusvzw.be
SUMMARY:Volksdansgroep "Izvor"
DESCRIPTION:Danslessen in Bulgaarse traditionele volksdansen \n🗓️ Iedere zondag met uitzondering van de schoolvakanties en feestdagen \n⏰ 13u10-14u: kinderdansgroep “Izvor”\n⏰14u10- 15u10: beginners\n ⏰ 15u20- 16u20: semi-gevorderde dansers\n⏰ 16u30-17u30: gevorderde dansers       \n📍 Academie Hoboken\, Lageweg 141\, 2660 Hoboken \n✨ Mee te nemen: dansschoenen en comfortabele danskleding en een flesje water \n💶 Deelname: afhankelijk van de inschrijving \n🖊️ inschrijven via info@izvor.be
URL:https://bindusvzw.be/activiteiten/volksdansgroep-izvor-40/
LOCATION:Academie Hoboken\, Lageweg 141\, Antwerpen\, 2660
CATEGORIES:Activiteit Leden
ATTACH;FMTTYPE=image/jpeg:https://bindusvzw.be/wp-content/uploads/2024/12/2024_Folder_6.jpeg
ORGANIZER;CN="Izvor vzw":MAILTO:info@izvor.be
END:VEVENT
BEGIN:VEVENT
DTSTART;TZID=Europe/Helsinki:20251130T143000
DTEND;TZID=Europe/Helsinki:20251130T190000
DTSTAMP:20260422T225301
CREATED:20250728T095040Z
LAST-MODIFIED:20250728T095040Z
UID:10001330-1764513000-1764529200@bindusvzw.be
SUMMARY:Svetulka: Bulgaarse folkloregroep
DESCRIPTION:Danslessen Bulgaarse folklore\n🗓️ Iedere dinsdag\, donderdag en zondag met uitzondering van de zomervakantie (juli en augustus) \n⏰ Dinsdag: 17u30-21u30\n⏰Donderdag: 17u30-21u30\n ⏰ Zondag: 14u30-19u00\n \n📍 Bindus\, Brederodestraat 188\, 2018 Antwerpen \n❗Afhankelijk van optredens in het binnen en buitenland kunnen er wijzigingen zijn in de planning \n✨ Mee te nemen: dansschoenen en comfortabele danskleding en een flesje water \n🖊️ inschrijven en meer informatie via Svetulka@skynet.be
URL:https://bindusvzw.be/activiteiten/svetulka-bulgaarse-folkloregroep-121/
LOCATION:Bindus Antwerpen\, Brederodestraat 188\, Antwerpen\, antwerpen\, 2000\, België
CATEGORIES:Activiteit Leden
ATTACH;FMTTYPE=image/jpeg:https://bindusvzw.be/wp-content/uploads/2024/12/341b5fe5-4e47-4669-9182-fa176066e9c5.jpg
ORGANIZER;CN="Svetulka":MAILTO:Svetulka@skynet.be
END:VEVENT
END:VCALENDAR