BEGIN:VCALENDAR
VERSION:2.0
PRODID:-//Bindus vzw - ECPv6.15.20//NONSGML v1.0//EN
CALSCALE:GREGORIAN
METHOD:PUBLISH
X-ORIGINAL-URL:https://bindusvzw.be
X-WR-CALDESC:Evenementen voor Bindus vzw
REFRESH-INTERVAL;VALUE=DURATION:PT1H
X-Robots-Tag:noindex
X-PUBLISHED-TTL:PT1H
BEGIN:VTIMEZONE
TZID:Europe/Helsinki
BEGIN:DAYLIGHT
TZOFFSETFROM:+0200
TZOFFSETTO:+0300
TZNAME:EEST
DTSTART:20250330T010000
END:DAYLIGHT
BEGIN:STANDARD
TZOFFSETFROM:+0300
TZOFFSETTO:+0200
TZNAME:EET
DTSTART:20251026T010000
END:STANDARD
BEGIN:DAYLIGHT
TZOFFSETFROM:+0200
TZOFFSETTO:+0300
TZNAME:EEST
DTSTART:20260329T010000
END:DAYLIGHT
BEGIN:STANDARD
TZOFFSETFROM:+0300
TZOFFSETTO:+0200
TZNAME:EET
DTSTART:20261025T010000
END:STANDARD
BEGIN:DAYLIGHT
TZOFFSETFROM:+0200
TZOFFSETTO:+0300
TZNAME:EEST
DTSTART:20270328T010000
END:DAYLIGHT
BEGIN:STANDARD
TZOFFSETFROM:+0300
TZOFFSETTO:+0200
TZNAME:EET
DTSTART:20271031T010000
END:STANDARD
END:VTIMEZONE
BEGIN:VEVENT
DTSTART;TZID=Europe/Helsinki:20260101T173000
DTEND;TZID=Europe/Helsinki:20260101T213000
DTSTAMP:20260421T144612
CREATED:20250728T132553Z
LAST-MODIFIED:20250728T132553Z
UID:10001341-1767288600-1767303000@bindusvzw.be
SUMMARY:Svetulka: Bulgaarse folkloregroep
DESCRIPTION:Danslessen Bulgaarse folklore\n🗓️ Iedere dinsdag\, donderdag en zondag met uitzondering van de zomervakantie (juli en augustus) \n⏰ Dinsdag: 17u30-21u30\n⏰Donderdag: 17u30-21u30\n ⏰ Zondag: 14u30-19u00\n \n📍 Bindus\, Brederodestraat 188\, 2018 Antwerpen \n❗Afhankelijk van optredens in het binnen en buitenland kunnen er wijzigingen zijn in de planning \n✨ Mee te nemen: dansschoenen en comfortabele danskleding en een flesje water \n🖊️ inschrijven en meer informatie via Svetulka@skynet.be
URL:https://bindusvzw.be/activiteiten/svetulka-bulgaarse-folkloregroep-132/
LOCATION:Bindus Antwerpen\, Brederodestraat 188\, Antwerpen\, antwerpen\, 2000\, België
CATEGORIES:Activiteit Leden
ATTACH;FMTTYPE=image/jpeg:https://bindusvzw.be/wp-content/uploads/2024/12/341b5fe5-4e47-4669-9182-fa176066e9c5.jpg
ORGANIZER;CN="Svetulka":MAILTO:Svetulka@skynet.be
END:VEVENT
BEGIN:VEVENT
DTSTART;TZID=Europe/Helsinki:20260104T143000
DTEND;TZID=Europe/Helsinki:20260104T190000
DTSTAMP:20260421T144612
CREATED:20250728T132757Z
LAST-MODIFIED:20250728T132757Z
UID:10001342-1767537000-1767553200@bindusvzw.be
SUMMARY:Svetulka: Bulgaarse folkloregroep
DESCRIPTION:Danslessen Bulgaarse folklore\n🗓️ Iedere dinsdag\, donderdag en zondag met uitzondering van de zomervakantie (juli en augustus) \n⏰ Dinsdag: 17u30-21u30\n⏰Donderdag: 17u30-21u30\n ⏰ Zondag: 14u30-19u00\n \n📍 Bindus\, Brederodestraat 188\, 2018 Antwerpen \n❗Afhankelijk van optredens in het binnen en buitenland kunnen er wijzigingen zijn in de planning \n✨ Mee te nemen: dansschoenen en comfortabele danskleding en een flesje water \n🖊️ inschrijven en meer informatie via Svetulka@skynet.be
URL:https://bindusvzw.be/activiteiten/svetulka-bulgaarse-folkloregroep-133/
LOCATION:Bindus Antwerpen\, Brederodestraat 188\, Antwerpen\, antwerpen\, 2000\, België
CATEGORIES:Activiteit Leden
ATTACH;FMTTYPE=image/jpeg:https://bindusvzw.be/wp-content/uploads/2024/12/341b5fe5-4e47-4669-9182-fa176066e9c5.jpg
ORGANIZER;CN="Svetulka":MAILTO:Svetulka@skynet.be
END:VEVENT
BEGIN:VEVENT
DTSTART;TZID=Europe/Helsinki:20260106T173000
DTEND;TZID=Europe/Helsinki:20260106T213000
DTSTAMP:20260421T144612
CREATED:20250728T133010Z
LAST-MODIFIED:20250728T133010Z
UID:10001343-1767720600-1767735000@bindusvzw.be
SUMMARY:Svetulka: Bulgaarse folkloregroep
DESCRIPTION:Danslessen Bulgaarse folklore\n🗓️ Iedere dinsdag\, donderdag en zondag met uitzondering van de zomervakantie (juli en augustus) \n⏰ Dinsdag: 17u30-21u30\n⏰Donderdag: 17u30-21u30\n ⏰ Zondag: 14u30-19u00\n \n📍 Bindus\, Brederodestraat 188\, 2018 Antwerpen \n❗Afhankelijk van optredens in het binnen en buitenland kunnen er wijzigingen zijn in de planning \n✨ Mee te nemen: dansschoenen en comfortabele danskleding en een flesje water \n🖊️ inschrijven en meer informatie via Svetulka@skynet.be
URL:https://bindusvzw.be/activiteiten/svetulka-bulgaarse-folkloregroep-134/
LOCATION:Bindus Antwerpen\, Brederodestraat 188\, Antwerpen\, antwerpen\, 2000\, België
CATEGORIES:Activiteit Leden
ATTACH;FMTTYPE=image/jpeg:https://bindusvzw.be/wp-content/uploads/2024/12/341b5fe5-4e47-4669-9182-fa176066e9c5.jpg
ORGANIZER;CN="Svetulka":MAILTO:Svetulka@skynet.be
END:VEVENT
BEGIN:VEVENT
DTSTART;TZID=Europe/Helsinki:20260108T173000
DTEND;TZID=Europe/Helsinki:20260108T213000
DTSTAMP:20260421T144612
CREATED:20250728T133231Z
LAST-MODIFIED:20250728T133231Z
UID:10001344-1767893400-1767907800@bindusvzw.be
SUMMARY:Svetulka: Bulgaarse folkloregroep
DESCRIPTION:Danslessen Bulgaarse folklore\n🗓️ Iedere dinsdag\, donderdag en zondag met uitzondering van de zomervakantie (juli en augustus) \n⏰ Dinsdag: 17u30-21u30\n⏰Donderdag: 17u30-21u30\n ⏰ Zondag: 14u30-19u00\n \n📍 Bindus\, Brederodestraat 188\, 2018 Antwerpen \n❗Afhankelijk van optredens in het binnen en buitenland kunnen er wijzigingen zijn in de planning \n✨ Mee te nemen: dansschoenen en comfortabele danskleding en een flesje water \n🖊️ inschrijven en meer informatie via Svetulka@skynet.be
URL:https://bindusvzw.be/activiteiten/svetulka-bulgaarse-folkloregroep-135/
LOCATION:Bindus Antwerpen\, Brederodestraat 188\, Antwerpen\, antwerpen\, 2000\, België
CATEGORIES:Activiteit Leden
ATTACH;FMTTYPE=image/jpeg:https://bindusvzw.be/wp-content/uploads/2024/12/341b5fe5-4e47-4669-9182-fa176066e9c5.jpg
ORGANIZER;CN="Svetulka":MAILTO:Svetulka@skynet.be
END:VEVENT
BEGIN:VEVENT
DTSTART;TZID=Europe/Helsinki:20260111T131000
DTEND;TZID=Europe/Helsinki:20260111T173000
DTSTAMP:20260421T144612
CREATED:20250807T124142Z
LAST-MODIFIED:20250807T124142Z
UID:10001452-1768137000-1768152600@bindusvzw.be
SUMMARY:Volksdansgroep "Izvor"
DESCRIPTION:Danslessen in Bulgaarse traditionele volksdansen \n🗓️ Iedere zondag met uitzondering van de schoolvakanties en feestdagen \n⏰ 13u10-14u: kinderdansgroep “Izvor”\n⏰14u10- 15u10: beginners\n ⏰ 15u20- 16u20: semi-gevorderde dansers\n⏰ 16u30-17u30: gevorderde dansers       \n📍 Academie Hoboken\, Lageweg 141\, 2660 Hoboken \n✨ Mee te nemen: dansschoenen en comfortabele danskleding en een flesje water \n💶 Deelname: afhankelijk van de inschrijving \n🖊️ inschrijven via info@izvor.be
URL:https://bindusvzw.be/activiteiten/volksdansgroep-izvor-44/
LOCATION:Academie Hoboken\, Lageweg 141\, Antwerpen\, 2660
CATEGORIES:Activiteit Leden
ATTACH;FMTTYPE=image/jpeg:https://bindusvzw.be/wp-content/uploads/2024/12/2024_Folder_6.jpeg
ORGANIZER;CN="Izvor vzw":MAILTO:info@izvor.be
END:VEVENT
BEGIN:VEVENT
DTSTART;TZID=Europe/Helsinki:20260111T143000
DTEND;TZID=Europe/Helsinki:20260111T190000
DTSTAMP:20260421T144612
CREATED:20250728T133435Z
LAST-MODIFIED:20250728T133435Z
UID:10001345-1768141800-1768158000@bindusvzw.be
SUMMARY:Svetulka: Bulgaarse folkloregroep
DESCRIPTION:Danslessen Bulgaarse folklore\n🗓️ Iedere dinsdag\, donderdag en zondag met uitzondering van de zomervakantie (juli en augustus) \n⏰ Dinsdag: 17u30-21u30\n⏰Donderdag: 17u30-21u30\n ⏰ Zondag: 14u30-19u00\n \n📍 Bindus\, Brederodestraat 188\, 2018 Antwerpen \n❗Afhankelijk van optredens in het binnen en buitenland kunnen er wijzigingen zijn in de planning \n✨ Mee te nemen: dansschoenen en comfortabele danskleding en een flesje water \n🖊️ inschrijven en meer informatie via Svetulka@skynet.be
URL:https://bindusvzw.be/activiteiten/svetulka-bulgaarse-folkloregroep-136/
LOCATION:Bindus Antwerpen\, Brederodestraat 188\, Antwerpen\, antwerpen\, 2000\, België
CATEGORIES:Activiteit Leden
ATTACH;FMTTYPE=image/jpeg:https://bindusvzw.be/wp-content/uploads/2024/12/341b5fe5-4e47-4669-9182-fa176066e9c5.jpg
ORGANIZER;CN="Svetulka":MAILTO:Svetulka@skynet.be
END:VEVENT
BEGIN:VEVENT
DTSTART;TZID=Europe/Helsinki:20260113T173000
DTEND;TZID=Europe/Helsinki:20260113T213000
DTSTAMP:20260421T144612
CREATED:20250728T133648Z
LAST-MODIFIED:20250728T133648Z
UID:10001346-1768325400-1768339800@bindusvzw.be
SUMMARY:Svetulka: Bulgaarse folkloregroep
DESCRIPTION:Danslessen Bulgaarse folklore\n🗓️ Iedere dinsdag\, donderdag en zondag met uitzondering van de zomervakantie (juli en augustus) \n⏰ Dinsdag: 17u30-21u30\n⏰Donderdag: 17u30-21u30\n ⏰ Zondag: 14u30-19u00\n \n📍 Bindus\, Brederodestraat 188\, 2018 Antwerpen \n❗Afhankelijk van optredens in het binnen en buitenland kunnen er wijzigingen zijn in de planning \n✨ Mee te nemen: dansschoenen en comfortabele danskleding en een flesje water \n🖊️ inschrijven en meer informatie via Svetulka@skynet.be
URL:https://bindusvzw.be/activiteiten/svetulka-bulgaarse-folkloregroep-137/
LOCATION:Bindus Antwerpen\, Brederodestraat 188\, Antwerpen\, antwerpen\, 2000\, België
CATEGORIES:Activiteit Leden
ATTACH;FMTTYPE=image/jpeg:https://bindusvzw.be/wp-content/uploads/2024/12/341b5fe5-4e47-4669-9182-fa176066e9c5.jpg
ORGANIZER;CN="Svetulka":MAILTO:Svetulka@skynet.be
END:VEVENT
BEGIN:VEVENT
DTSTART;TZID=Europe/Helsinki:20260115T173000
DTEND;TZID=Europe/Helsinki:20260115T213000
DTSTAMP:20260421T144612
CREATED:20250728T133831Z
LAST-MODIFIED:20250728T133831Z
UID:10001347-1768498200-1768512600@bindusvzw.be
SUMMARY:Svetulka: Bulgaarse folkloregroep
DESCRIPTION:Danslessen Bulgaarse folklore\n🗓️ Iedere dinsdag\, donderdag en zondag met uitzondering van de zomervakantie (juli en augustus) \n⏰ Dinsdag: 17u30-21u30\n⏰Donderdag: 17u30-21u30\n ⏰ Zondag: 14u30-19u00\n \n📍 Bindus\, Brederodestraat 188\, 2018 Antwerpen \n❗Afhankelijk van optredens in het binnen en buitenland kunnen er wijzigingen zijn in de planning \n✨ Mee te nemen: dansschoenen en comfortabele danskleding en een flesje water \n🖊️ inschrijven en meer informatie via Svetulka@skynet.be
URL:https://bindusvzw.be/activiteiten/svetulka-bulgaarse-folkloregroep-138/
LOCATION:Bindus Antwerpen\, Brederodestraat 188\, Antwerpen\, antwerpen\, 2000\, België
CATEGORIES:Activiteit Leden
ATTACH;FMTTYPE=image/jpeg:https://bindusvzw.be/wp-content/uploads/2024/12/341b5fe5-4e47-4669-9182-fa176066e9c5.jpg
ORGANIZER;CN="Svetulka":MAILTO:Svetulka@skynet.be
END:VEVENT
BEGIN:VEVENT
DTSTART;TZID=Europe/Helsinki:20260118T131000
DTEND;TZID=Europe/Helsinki:20260118T173000
DTSTAMP:20260421T144612
CREATED:20250807T124309Z
LAST-MODIFIED:20250807T124309Z
UID:10001453-1768741800-1768757400@bindusvzw.be
SUMMARY:Volksdansgroep "Izvor"
DESCRIPTION:Danslessen in Bulgaarse traditionele volksdansen \n🗓️ Iedere zondag met uitzondering van de schoolvakanties en feestdagen \n⏰ 13u10-14u: kinderdansgroep “Izvor”\n⏰14u10- 15u10: beginners\n ⏰ 15u20- 16u20: semi-gevorderde dansers\n⏰ 16u30-17u30: gevorderde dansers       \n📍 Academie Hoboken\, Lageweg 141\, 2660 Hoboken \n✨ Mee te nemen: dansschoenen en comfortabele danskleding en een flesje water \n💶 Deelname: afhankelijk van de inschrijving \n🖊️ inschrijven via info@izvor.be
URL:https://bindusvzw.be/activiteiten/volksdansgroep-izvor-45/
LOCATION:Academie Hoboken\, Lageweg 141\, Antwerpen\, 2660
CATEGORIES:Activiteit Leden
ATTACH;FMTTYPE=image/jpeg:https://bindusvzw.be/wp-content/uploads/2024/12/2024_Folder_6.jpeg
ORGANIZER;CN="Izvor vzw":MAILTO:info@izvor.be
END:VEVENT
BEGIN:VEVENT
DTSTART;TZID=Europe/Helsinki:20260118T143000
DTEND;TZID=Europe/Helsinki:20260118T190000
DTSTAMP:20260421T144612
CREATED:20250728T134107Z
LAST-MODIFIED:20250728T134107Z
UID:10001348-1768746600-1768762800@bindusvzw.be
SUMMARY:Svetulka: Bulgaarse folkloregroep
DESCRIPTION:Danslessen Bulgaarse folklore\n🗓️ Iedere dinsdag\, donderdag en zondag met uitzondering van de zomervakantie (juli en augustus) \n⏰ Dinsdag: 17u30-21u30\n⏰Donderdag: 17u30-21u30\n ⏰ Zondag: 14u30-19u00\n \n📍 Bindus\, Brederodestraat 188\, 2018 Antwerpen \n❗Afhankelijk van optredens in het binnen en buitenland kunnen er wijzigingen zijn in de planning \n✨ Mee te nemen: dansschoenen en comfortabele danskleding en een flesje water \n🖊️ inschrijven en meer informatie via Svetulka@skynet.be
URL:https://bindusvzw.be/activiteiten/svetulka-bulgaarse-folkloregroep-139/
LOCATION:Bindus Antwerpen\, Brederodestraat 188\, Antwerpen\, antwerpen\, 2000\, België
CATEGORIES:Activiteit Leden
ATTACH;FMTTYPE=image/jpeg:https://bindusvzw.be/wp-content/uploads/2024/12/341b5fe5-4e47-4669-9182-fa176066e9c5.jpg
ORGANIZER;CN="Svetulka":MAILTO:Svetulka@skynet.be
END:VEVENT
BEGIN:VEVENT
DTSTART;TZID=Europe/Helsinki:20260120T173000
DTEND;TZID=Europe/Helsinki:20260120T213000
DTSTAMP:20260421T144612
CREATED:20250728T134344Z
LAST-MODIFIED:20250728T134344Z
UID:10001349-1768930200-1768944600@bindusvzw.be
SUMMARY:Svetulka: Bulgaarse folkloregroep
DESCRIPTION:Danslessen Bulgaarse folklore\n🗓️ Iedere dinsdag\, donderdag en zondag met uitzondering van de zomervakantie (juli en augustus) \n⏰ Dinsdag: 17u30-21u30\n⏰Donderdag: 17u30-21u30\n ⏰ Zondag: 14u30-19u00\n \n📍 Bindus\, Brederodestraat 188\, 2018 Antwerpen \n❗Afhankelijk van optredens in het binnen en buitenland kunnen er wijzigingen zijn in de planning \n✨ Mee te nemen: dansschoenen en comfortabele danskleding en een flesje water \n🖊️ inschrijven en meer informatie via Svetulka@skynet.be
URL:https://bindusvzw.be/activiteiten/svetulka-bulgaarse-folkloregroep-140/
LOCATION:Bindus Antwerpen\, Brederodestraat 188\, Antwerpen\, antwerpen\, 2000\, België
CATEGORIES:Activiteit Leden
ATTACH;FMTTYPE=image/jpeg:https://bindusvzw.be/wp-content/uploads/2024/12/341b5fe5-4e47-4669-9182-fa176066e9c5.jpg
ORGANIZER;CN="Svetulka":MAILTO:Svetulka@skynet.be
END:VEVENT
BEGIN:VEVENT
DTSTART;TZID=Europe/Helsinki:20260122T173000
DTEND;TZID=Europe/Helsinki:20260122T213000
DTSTAMP:20260421T144612
CREATED:20250728T134620Z
LAST-MODIFIED:20250728T134620Z
UID:10001350-1769103000-1769117400@bindusvzw.be
SUMMARY:Svetulka: Bulgaarse folkloregroep
DESCRIPTION:Danslessen Bulgaarse folklore\n🗓️ Iedere dinsdag\, donderdag en zondag met uitzondering van de zomervakantie (juli en augustus) \n⏰ Dinsdag: 17u30-21u30\n⏰Donderdag: 17u30-21u30\n ⏰ Zondag: 14u30-19u00\n \n📍 Bindus\, Brederodestraat 188\, 2018 Antwerpen \n❗Afhankelijk van optredens in het binnen en buitenland kunnen er wijzigingen zijn in de planning \n✨ Mee te nemen: dansschoenen en comfortabele danskleding en een flesje water \n🖊️ inschrijven en meer informatie via Svetulka@skynet.be
URL:https://bindusvzw.be/activiteiten/svetulka-bulgaarse-folkloregroep-141/
LOCATION:Bindus Antwerpen\, Brederodestraat 188\, Antwerpen\, antwerpen\, 2000\, België
CATEGORIES:Activiteit Leden
ATTACH;FMTTYPE=image/jpeg:https://bindusvzw.be/wp-content/uploads/2024/12/341b5fe5-4e47-4669-9182-fa176066e9c5.jpg
ORGANIZER;CN="Svetulka":MAILTO:Svetulka@skynet.be
END:VEVENT
BEGIN:VEVENT
DTSTART;TZID=Europe/Helsinki:20260125T131000
DTEND;TZID=Europe/Helsinki:20260125T173000
DTSTAMP:20260421T144612
CREATED:20250807T124409Z
LAST-MODIFIED:20250807T124409Z
UID:10001454-1769346600-1769362200@bindusvzw.be
SUMMARY:Volksdansgroep "Izvor"
DESCRIPTION:Danslessen in Bulgaarse traditionele volksdansen \n🗓️ Iedere zondag met uitzondering van de schoolvakanties en feestdagen \n⏰ 13u10-14u: kinderdansgroep “Izvor”\n⏰14u10- 15u10: beginners\n ⏰ 15u20- 16u20: semi-gevorderde dansers\n⏰ 16u30-17u30: gevorderde dansers       \n📍 Academie Hoboken\, Lageweg 141\, 2660 Hoboken \n✨ Mee te nemen: dansschoenen en comfortabele danskleding en een flesje water \n💶 Deelname: afhankelijk van de inschrijving \n🖊️ inschrijven via info@izvor.be
URL:https://bindusvzw.be/activiteiten/volksdansgroep-izvor-46/
LOCATION:Academie Hoboken\, Lageweg 141\, Antwerpen\, 2660
CATEGORIES:Activiteit Leden
ATTACH;FMTTYPE=image/jpeg:https://bindusvzw.be/wp-content/uploads/2024/12/2024_Folder_6.jpeg
ORGANIZER;CN="Izvor vzw":MAILTO:info@izvor.be
END:VEVENT
BEGIN:VEVENT
DTSTART;TZID=Europe/Helsinki:20260125T143000
DTEND;TZID=Europe/Helsinki:20260125T190000
DTSTAMP:20260421T144612
CREATED:20250728T134816Z
LAST-MODIFIED:20250728T134816Z
UID:10001351-1769351400-1769367600@bindusvzw.be
SUMMARY:Svetulka: Bulgaarse folkloregroep
DESCRIPTION:Danslessen Bulgaarse folklore\n🗓️ Iedere dinsdag\, donderdag en zondag met uitzondering van de zomervakantie (juli en augustus) \n⏰ Dinsdag: 17u30-21u30\n⏰Donderdag: 17u30-21u30\n ⏰ Zondag: 14u30-19u00\n \n📍 Bindus\, Brederodestraat 188\, 2018 Antwerpen \n❗Afhankelijk van optredens in het binnen en buitenland kunnen er wijzigingen zijn in de planning \n✨ Mee te nemen: dansschoenen en comfortabele danskleding en een flesje water \n🖊️ inschrijven en meer informatie via Svetulka@skynet.be
URL:https://bindusvzw.be/activiteiten/svetulka-bulgaarse-folkloregroep-142/
LOCATION:Bindus Antwerpen\, Brederodestraat 188\, Antwerpen\, antwerpen\, 2000\, België
CATEGORIES:Activiteit Leden
ATTACH;FMTTYPE=image/jpeg:https://bindusvzw.be/wp-content/uploads/2024/12/341b5fe5-4e47-4669-9182-fa176066e9c5.jpg
ORGANIZER;CN="Svetulka":MAILTO:Svetulka@skynet.be
END:VEVENT
BEGIN:VEVENT
DTSTART;TZID=Europe/Helsinki:20260127T173000
DTEND;TZID=Europe/Helsinki:20260127T213000
DTSTAMP:20260421T144612
CREATED:20250728T135032Z
LAST-MODIFIED:20250728T135032Z
UID:10001352-1769535000-1769549400@bindusvzw.be
SUMMARY:Svetulka: Bulgaarse folkloregroep
DESCRIPTION:Danslessen Bulgaarse folklore\n🗓️ Iedere dinsdag\, donderdag en zondag met uitzondering van de zomervakantie (juli en augustus) \n⏰ Dinsdag: 17u30-21u30\n⏰Donderdag: 17u30-21u30\n ⏰ Zondag: 14u30-19u00\n \n📍 Bindus\, Brederodestraat 188\, 2018 Antwerpen \n❗Afhankelijk van optredens in het binnen en buitenland kunnen er wijzigingen zijn in de planning \n✨ Mee te nemen: dansschoenen en comfortabele danskleding en een flesje water \n🖊️ inschrijven en meer informatie via Svetulka@skynet.be
URL:https://bindusvzw.be/activiteiten/svetulka-bulgaarse-folkloregroep-143/
LOCATION:Bindus Antwerpen\, Brederodestraat 188\, Antwerpen\, antwerpen\, 2000\, België
CATEGORIES:Activiteit Leden
ATTACH;FMTTYPE=image/jpeg:https://bindusvzw.be/wp-content/uploads/2024/12/341b5fe5-4e47-4669-9182-fa176066e9c5.jpg
ORGANIZER;CN="Svetulka":MAILTO:Svetulka@skynet.be
END:VEVENT
BEGIN:VEVENT
DTSTART;TZID=Europe/Helsinki:20260129T173000
DTEND;TZID=Europe/Helsinki:20260129T213000
DTSTAMP:20260421T144612
CREATED:20250728T135227Z
LAST-MODIFIED:20250728T135227Z
UID:10001353-1769707800-1769722200@bindusvzw.be
SUMMARY:Svetulka: Bulgaarse folkloregroep
DESCRIPTION:Danslessen Bulgaarse folklore\n🗓️ Iedere dinsdag\, donderdag en zondag met uitzondering van de zomervakantie (juli en augustus) \n⏰ Dinsdag: 17u30-21u30\n⏰Donderdag: 17u30-21u30\n ⏰ Zondag: 14u30-19u00\n \n📍 Bindus\, Brederodestraat 188\, 2018 Antwerpen \n❗Afhankelijk van optredens in het binnen en buitenland kunnen er wijzigingen zijn in de planning \n✨ Mee te nemen: dansschoenen en comfortabele danskleding en een flesje water \n🖊️ inschrijven en meer informatie via Svetulka@skynet.be
URL:https://bindusvzw.be/activiteiten/svetulka-bulgaarse-folkloregroep-144/
LOCATION:Bindus Antwerpen\, Brederodestraat 188\, Antwerpen\, antwerpen\, 2000\, België
CATEGORIES:Activiteit Leden
ATTACH;FMTTYPE=image/jpeg:https://bindusvzw.be/wp-content/uploads/2024/12/341b5fe5-4e47-4669-9182-fa176066e9c5.jpg
ORGANIZER;CN="Svetulka":MAILTO:Svetulka@skynet.be
END:VEVENT
END:VCALENDAR