BEGIN:VCALENDAR
VERSION:2.0
PRODID:-//Bindus vzw - ECPv6.15.20//NONSGML v1.0//EN
CALSCALE:GREGORIAN
METHOD:PUBLISH
X-WR-CALNAME:Bindus vzw
X-ORIGINAL-URL:https://bindusvzw.be
X-WR-CALDESC:Evenementen voor Bindus vzw
REFRESH-INTERVAL;VALUE=DURATION:PT1H
X-Robots-Tag:noindex
X-PUBLISHED-TTL:PT1H
BEGIN:VTIMEZONE
TZID:Europe/Helsinki
BEGIN:DAYLIGHT
TZOFFSETFROM:+0200
TZOFFSETTO:+0300
TZNAME:EEST
DTSTART:20250330T010000
END:DAYLIGHT
BEGIN:STANDARD
TZOFFSETFROM:+0300
TZOFFSETTO:+0200
TZNAME:EET
DTSTART:20251026T010000
END:STANDARD
BEGIN:DAYLIGHT
TZOFFSETFROM:+0200
TZOFFSETTO:+0300
TZNAME:EEST
DTSTART:20260329T010000
END:DAYLIGHT
BEGIN:STANDARD
TZOFFSETFROM:+0300
TZOFFSETTO:+0200
TZNAME:EET
DTSTART:20261025T010000
END:STANDARD
BEGIN:DAYLIGHT
TZOFFSETFROM:+0200
TZOFFSETTO:+0300
TZNAME:EEST
DTSTART:20270328T010000
END:DAYLIGHT
BEGIN:STANDARD
TZOFFSETFROM:+0300
TZOFFSETTO:+0200
TZNAME:EET
DTSTART:20271031T010000
END:STANDARD
END:VTIMEZONE
BEGIN:VEVENT
DTSTART;TZID=Europe/Helsinki:20260510T120000
DTEND;TZID=Europe/Helsinki:20260510T150000
DTSTAMP:20260419T175938
CREATED:20250811T120851Z
LAST-MODIFIED:20250811T120851Z
UID:10001510-1778414400-1778425200@bindusvzw.be
SUMMARY:muziekschool DoReMimuziek organiseert saz lessen
DESCRIPTION:Wil jij de Turkse saz leren spelen in Antwerpen?\nDoReMimuziek\, een succesvolle muziekschool\nuit Nederland\, komt naar Antwerpen met muzieklessen\nSaz voor zowel beginnende als gevorderde muzikanten.\nDit traditionele snaarinstrument heeft een rijke geschiedenis en is diep geworteld in de muzikale tradities\nvan het Midden-Oosten en de Balkan. Met zijn unieke\, warme klank creëert de saz een betoverende sfeer.\nOf het nu gaat om vrolijke deuntjes of emotionele ballades\,\nde saz vertelt een verhaal dat raakt. \n🗓️ Iedere zondag met uitzondering van de zomervakantie (juli en augustus) \n⏰ 12u00-15u00\n \n📍 Bindus\, Brederodestraat 188\, 2018 Antwerpen \n💶 70 euro per maand* \n🖊️ inschrijven en meer informatie via www.doremimuziek.nl of stuur een bericht naar +31651 886 633
URL:https://bindusvzw.be/activiteiten/muziekschool-doremimuziek-organiseert-saz-lessen-31/
LOCATION:Bindus Antwerpen\, Brederodestraat 188\, Antwerpen\, antwerpen\, 2000\, België
ATTACH;FMTTYPE=image/png:https://bindusvzw.be/wp-content/uploads/2025/08/Nieuwe-Logo-DMM-transparant.png
ORGANIZER;CN="DoReMimuziek":MAILTO:info@doremimuziek.nl
END:VEVENT
BEGIN:VEVENT
DTSTART;TZID=Europe/Helsinki:20260512T140000
DTEND;TZID=Europe/Helsinki:20260512T163000
DTSTAMP:20260419T175938
CREATED:20250916T121710Z
LAST-MODIFIED:20250916T121710Z
UID:10001683-1778594400-1778603400@bindusvzw.be
SUMMARY:Gesprekken op dinsdag met Dusod
DESCRIPTION:Bewustwordingsgesprek met de coaches van Dusod\nIedere dinsdag organiseert coach Yurdagül een online\ngespreksmoment dat gericht is op persoonlijke groei\nen de verbinding met jezelf. Creëer meer bewustzijn\nbij jezelf en de wereld om je heen. \n🗓️ Iedere dinsdag \n🕑 start om 14u \n📍online via Zoom \n💶 Deelname: gratis  \n✨ Iedereen is welkom \n🌍 DUSOD HOLISTISCHE ADEMHALINGSACADEMIDIE is ICF gecertificeerd 🌍 \n🖊️ Meer informatie en inschrijven via Yurdagulcengiz@hotmail.com \n 
URL:https://bindusvzw.be/activiteiten/gesprekken-op-dinsdag-met-dusod-35/
LOCATION:Online\, België
CATEGORIES:Activiteit Leden
ATTACH;FMTTYPE=image/webp:https://bindusvzw.be/wp-content/uploads/2025/04/logo-dusod.webp
END:VEVENT
BEGIN:VEVENT
DTSTART;TZID=Europe/Helsinki:20260517T120000
DTEND;TZID=Europe/Helsinki:20260517T150000
DTSTAMP:20260419T175938
CREATED:20250811T120941Z
LAST-MODIFIED:20250811T120941Z
UID:10001511-1779019200-1779030000@bindusvzw.be
SUMMARY:muziekschool DoReMimuziek organiseert saz lessen
DESCRIPTION:Wil jij de Turkse saz leren spelen in Antwerpen?\nDoReMimuziek\, een succesvolle muziekschool\nuit Nederland\, komt naar Antwerpen met muzieklessen\nSaz voor zowel beginnende als gevorderde muzikanten.\nDit traditionele snaarinstrument heeft een rijke geschiedenis en is diep geworteld in de muzikale tradities\nvan het Midden-Oosten en de Balkan. Met zijn unieke\, warme klank creëert de saz een betoverende sfeer.\nOf het nu gaat om vrolijke deuntjes of emotionele ballades\,\nde saz vertelt een verhaal dat raakt. \n🗓️ Iedere zondag met uitzondering van de zomervakantie (juli en augustus) \n⏰ 12u00-15u00\n \n📍 Bindus\, Brederodestraat 188\, 2018 Antwerpen \n💶 70 euro per maand* \n🖊️ inschrijven en meer informatie via www.doremimuziek.nl of stuur een bericht naar +31651 886 633
URL:https://bindusvzw.be/activiteiten/muziekschool-doremimuziek-organiseert-saz-lessen-32/
LOCATION:Bindus Antwerpen\, Brederodestraat 188\, Antwerpen\, antwerpen\, 2000\, België
ATTACH;FMTTYPE=image/png:https://bindusvzw.be/wp-content/uploads/2025/08/Nieuwe-Logo-DMM-transparant.png
ORGANIZER;CN="DoReMimuziek":MAILTO:info@doremimuziek.nl
END:VEVENT
BEGIN:VEVENT
DTSTART;TZID=Europe/Helsinki:20260519T140000
DTEND;TZID=Europe/Helsinki:20260519T163000
DTSTAMP:20260419T175938
CREATED:20250916T121750Z
LAST-MODIFIED:20250916T121750Z
UID:10001684-1779199200-1779208200@bindusvzw.be
SUMMARY:Gesprekken op dinsdag met Dusod
DESCRIPTION:Bewustwordingsgesprek met de coaches van Dusod\nIedere dinsdag organiseert coach Yurdagül een online\ngespreksmoment dat gericht is op persoonlijke groei\nen de verbinding met jezelf. Creëer meer bewustzijn\nbij jezelf en de wereld om je heen. \n🗓️ Iedere dinsdag \n🕑 start om 14u \n📍online via Zoom \n💶 Deelname: gratis  \n✨ Iedereen is welkom \n🌍 DUSOD HOLISTISCHE ADEMHALINGSACADEMIDIE is ICF gecertificeerd 🌍 \n🖊️ Meer informatie en inschrijven via Yurdagulcengiz@hotmail.com \n 
URL:https://bindusvzw.be/activiteiten/gesprekken-op-dinsdag-met-dusod-36/
LOCATION:Online\, België
CATEGORIES:Activiteit Leden
ATTACH;FMTTYPE=image/webp:https://bindusvzw.be/wp-content/uploads/2025/04/logo-dusod.webp
END:VEVENT
BEGIN:VEVENT
DTSTART;TZID=Europe/Helsinki:20260524T120000
DTEND;TZID=Europe/Helsinki:20260524T150000
DTSTAMP:20260419T175938
CREATED:20250811T121030Z
LAST-MODIFIED:20250811T121030Z
UID:10001512-1779624000-1779634800@bindusvzw.be
SUMMARY:muziekschool DoReMimuziek organiseert saz lessen
DESCRIPTION:Wil jij de Turkse saz leren spelen in Antwerpen?\nDoReMimuziek\, een succesvolle muziekschool\nuit Nederland\, komt naar Antwerpen met muzieklessen\nSaz voor zowel beginnende als gevorderde muzikanten.\nDit traditionele snaarinstrument heeft een rijke geschiedenis en is diep geworteld in de muzikale tradities\nvan het Midden-Oosten en de Balkan. Met zijn unieke\, warme klank creëert de saz een betoverende sfeer.\nOf het nu gaat om vrolijke deuntjes of emotionele ballades\,\nde saz vertelt een verhaal dat raakt. \n🗓️ Iedere zondag met uitzondering van de zomervakantie (juli en augustus) \n⏰ 12u00-15u00\n \n📍 Bindus\, Brederodestraat 188\, 2018 Antwerpen \n💶 70 euro per maand* \n🖊️ inschrijven en meer informatie via www.doremimuziek.nl of stuur een bericht naar +31651 886 633
URL:https://bindusvzw.be/activiteiten/muziekschool-doremimuziek-organiseert-saz-lessen-33/
LOCATION:Bindus Antwerpen\, Brederodestraat 188\, Antwerpen\, antwerpen\, 2000\, België
ATTACH;FMTTYPE=image/png:https://bindusvzw.be/wp-content/uploads/2025/08/Nieuwe-Logo-DMM-transparant.png
ORGANIZER;CN="DoReMimuziek":MAILTO:info@doremimuziek.nl
END:VEVENT
BEGIN:VEVENT
DTSTART;TZID=Europe/Helsinki:20260526T140000
DTEND;TZID=Europe/Helsinki:20260526T163000
DTSTAMP:20260419T175938
CREATED:20250916T121825Z
LAST-MODIFIED:20250916T121825Z
UID:10001685-1779804000-1779813000@bindusvzw.be
SUMMARY:Gesprekken op dinsdag met Dusod
DESCRIPTION:Bewustwordingsgesprek met de coaches van Dusod\nIedere dinsdag organiseert coach Yurdagül een online\ngespreksmoment dat gericht is op persoonlijke groei\nen de verbinding met jezelf. Creëer meer bewustzijn\nbij jezelf en de wereld om je heen. \n🗓️ Iedere dinsdag \n🕑 start om 14u \n📍online via Zoom \n💶 Deelname: gratis  \n✨ Iedereen is welkom \n🌍 DUSOD HOLISTISCHE ADEMHALINGSACADEMIDIE is ICF gecertificeerd 🌍 \n🖊️ Meer informatie en inschrijven via Yurdagulcengiz@hotmail.com \n 
URL:https://bindusvzw.be/activiteiten/gesprekken-op-dinsdag-met-dusod-37/
LOCATION:Online\, België
CATEGORIES:Activiteit Leden
ATTACH;FMTTYPE=image/webp:https://bindusvzw.be/wp-content/uploads/2025/04/logo-dusod.webp
END:VEVENT
BEGIN:VEVENT
DTSTART;TZID=Europe/Helsinki:20260531T120000
DTEND;TZID=Europe/Helsinki:20260531T150000
DTSTAMP:20260419T175938
CREATED:20250811T121116Z
LAST-MODIFIED:20250811T121116Z
UID:10001513-1780228800-1780239600@bindusvzw.be
SUMMARY:muziekschool DoReMimuziek organiseert saz lessen
DESCRIPTION:Wil jij de Turkse saz leren spelen in Antwerpen?\nDoReMimuziek\, een succesvolle muziekschool\nuit Nederland\, komt naar Antwerpen met muzieklessen\nSaz voor zowel beginnende als gevorderde muzikanten.\nDit traditionele snaarinstrument heeft een rijke geschiedenis en is diep geworteld in de muzikale tradities\nvan het Midden-Oosten en de Balkan. Met zijn unieke\, warme klank creëert de saz een betoverende sfeer.\nOf het nu gaat om vrolijke deuntjes of emotionele ballades\,\nde saz vertelt een verhaal dat raakt. \n🗓️ Iedere zondag met uitzondering van de zomervakantie (juli en augustus) \n⏰ 12u00-15u00\n \n📍 Bindus\, Brederodestraat 188\, 2018 Antwerpen \n💶 70 euro per maand* \n🖊️ inschrijven en meer informatie via www.doremimuziek.nl of stuur een bericht naar +31651 886 633
URL:https://bindusvzw.be/activiteiten/muziekschool-doremimuziek-organiseert-saz-lessen-34/
LOCATION:Bindus Antwerpen\, Brederodestraat 188\, Antwerpen\, antwerpen\, 2000\, België
ATTACH;FMTTYPE=image/png:https://bindusvzw.be/wp-content/uploads/2025/08/Nieuwe-Logo-DMM-transparant.png
ORGANIZER;CN="DoReMimuziek":MAILTO:info@doremimuziek.nl
END:VEVENT
BEGIN:VEVENT
DTSTART;TZID=Europe/Helsinki:20260602T140000
DTEND;TZID=Europe/Helsinki:20260602T163000
DTSTAMP:20260419T175938
CREATED:20250916T121912Z
LAST-MODIFIED:20250916T121912Z
UID:10001686-1780408800-1780417800@bindusvzw.be
SUMMARY:Gesprekken op dinsdag met Dusod
DESCRIPTION:Bewustwordingsgesprek met de coaches van Dusod\nIedere dinsdag organiseert coach Yurdagül een online\ngespreksmoment dat gericht is op persoonlijke groei\nen de verbinding met jezelf. Creëer meer bewustzijn\nbij jezelf en de wereld om je heen. \n🗓️ Iedere dinsdag \n🕑 start om 14u \n📍online via Zoom \n💶 Deelname: gratis  \n✨ Iedereen is welkom \n🌍 DUSOD HOLISTISCHE ADEMHALINGSACADEMIDIE is ICF gecertificeerd 🌍 \n🖊️ Meer informatie en inschrijven via Yurdagulcengiz@hotmail.com \n 
URL:https://bindusvzw.be/activiteiten/gesprekken-op-dinsdag-met-dusod-38/
LOCATION:Online\, België
CATEGORIES:Activiteit Leden
ATTACH;FMTTYPE=image/webp:https://bindusvzw.be/wp-content/uploads/2025/04/logo-dusod.webp
END:VEVENT
BEGIN:VEVENT
DTSTART;TZID=Europe/Helsinki:20260607T120000
DTEND;TZID=Europe/Helsinki:20260607T150000
DTSTAMP:20260419T175938
CREATED:20250811T121226Z
LAST-MODIFIED:20250811T121226Z
UID:10001514-1780833600-1780844400@bindusvzw.be
SUMMARY:muziekschool DoReMimuziek organiseert saz lessen
DESCRIPTION:Wil jij de Turkse saz leren spelen in Antwerpen?\nDoReMimuziek\, een succesvolle muziekschool\nuit Nederland\, komt naar Antwerpen met muzieklessen\nSaz voor zowel beginnende als gevorderde muzikanten.\nDit traditionele snaarinstrument heeft een rijke geschiedenis en is diep geworteld in de muzikale tradities\nvan het Midden-Oosten en de Balkan. Met zijn unieke\, warme klank creëert de saz een betoverende sfeer.\nOf het nu gaat om vrolijke deuntjes of emotionele ballades\,\nde saz vertelt een verhaal dat raakt. \n🗓️ Iedere zondag met uitzondering van de zomervakantie (juli en augustus) \n⏰ 12u00-15u00\n \n📍 Bindus\, Brederodestraat 188\, 2018 Antwerpen \n💶 70 euro per maand* \n🖊️ inschrijven en meer informatie via www.doremimuziek.nl of stuur een bericht naar +31651 886 633
URL:https://bindusvzw.be/activiteiten/muziekschool-doremimuziek-organiseert-saz-lessen-35/
LOCATION:Bindus Antwerpen\, Brederodestraat 188\, Antwerpen\, antwerpen\, 2000\, België
ATTACH;FMTTYPE=image/png:https://bindusvzw.be/wp-content/uploads/2025/08/Nieuwe-Logo-DMM-transparant.png
ORGANIZER;CN="DoReMimuziek":MAILTO:info@doremimuziek.nl
END:VEVENT
BEGIN:VEVENT
DTSTART;TZID=Europe/Helsinki:20260609T140000
DTEND;TZID=Europe/Helsinki:20260609T163000
DTSTAMP:20260419T175938
CREATED:20250916T122000Z
LAST-MODIFIED:20250916T122000Z
UID:10001687-1781013600-1781022600@bindusvzw.be
SUMMARY:Gesprekken op dinsdag met Dusod
DESCRIPTION:Bewustwordingsgesprek met de coaches van Dusod\nIedere dinsdag organiseert coach Yurdagül een online\ngespreksmoment dat gericht is op persoonlijke groei\nen de verbinding met jezelf. Creëer meer bewustzijn\nbij jezelf en de wereld om je heen. \n🗓️ Iedere dinsdag \n🕑 start om 14u \n📍online via Zoom \n💶 Deelname: gratis  \n✨ Iedereen is welkom \n🌍 DUSOD HOLISTISCHE ADEMHALINGSACADEMIDIE is ICF gecertificeerd 🌍 \n🖊️ Meer informatie en inschrijven via Yurdagulcengiz@hotmail.com \n 
URL:https://bindusvzw.be/activiteiten/gesprekken-op-dinsdag-met-dusod-39/
LOCATION:Online\, België
CATEGORIES:Activiteit Leden
ATTACH;FMTTYPE=image/webp:https://bindusvzw.be/wp-content/uploads/2025/04/logo-dusod.webp
END:VEVENT
BEGIN:VEVENT
DTSTART;TZID=Europe/Helsinki:20260614T120000
DTEND;TZID=Europe/Helsinki:20260614T150000
DTSTAMP:20260419T175938
CREATED:20250811T121326Z
LAST-MODIFIED:20250811T121326Z
UID:10001515-1781438400-1781449200@bindusvzw.be
SUMMARY:muziekschool DoReMimuziek organiseert saz lessen
DESCRIPTION:Wil jij de Turkse saz leren spelen in Antwerpen?\nDoReMimuziek\, een succesvolle muziekschool\nuit Nederland\, komt naar Antwerpen met muzieklessen\nSaz voor zowel beginnende als gevorderde muzikanten.\nDit traditionele snaarinstrument heeft een rijke geschiedenis en is diep geworteld in de muzikale tradities\nvan het Midden-Oosten en de Balkan. Met zijn unieke\, warme klank creëert de saz een betoverende sfeer.\nOf het nu gaat om vrolijke deuntjes of emotionele ballades\,\nde saz vertelt een verhaal dat raakt. \n🗓️ Iedere zondag met uitzondering van de zomervakantie (juli en augustus) \n⏰ 12u00-15u00\n \n📍 Bindus\, Brederodestraat 188\, 2018 Antwerpen \n💶 70 euro per maand* \n🖊️ inschrijven en meer informatie via www.doremimuziek.nl of stuur een bericht naar +31651 886 633
URL:https://bindusvzw.be/activiteiten/muziekschool-doremimuziek-organiseert-saz-lessen-36/
LOCATION:Bindus Antwerpen\, Brederodestraat 188\, Antwerpen\, antwerpen\, 2000\, België
ATTACH;FMTTYPE=image/png:https://bindusvzw.be/wp-content/uploads/2025/08/Nieuwe-Logo-DMM-transparant.png
ORGANIZER;CN="DoReMimuziek":MAILTO:info@doremimuziek.nl
END:VEVENT
BEGIN:VEVENT
DTSTART;TZID=Europe/Helsinki:20260616T140000
DTEND;TZID=Europe/Helsinki:20260616T163000
DTSTAMP:20260419T175938
CREATED:20250916T122039Z
LAST-MODIFIED:20250916T122039Z
UID:10001688-1781618400-1781627400@bindusvzw.be
SUMMARY:Gesprekken op dinsdag met Dusod
DESCRIPTION:Bewustwordingsgesprek met de coaches van Dusod\nIedere dinsdag organiseert coach Yurdagül een online\ngespreksmoment dat gericht is op persoonlijke groei\nen de verbinding met jezelf. Creëer meer bewustzijn\nbij jezelf en de wereld om je heen. \n🗓️ Iedere dinsdag \n🕑 start om 14u \n📍online via Zoom \n💶 Deelname: gratis  \n✨ Iedereen is welkom \n🌍 DUSOD HOLISTISCHE ADEMHALINGSACADEMIDIE is ICF gecertificeerd 🌍 \n🖊️ Meer informatie en inschrijven via Yurdagulcengiz@hotmail.com \n 
URL:https://bindusvzw.be/activiteiten/gesprekken-op-dinsdag-met-dusod-40/
LOCATION:Online\, België
CATEGORIES:Activiteit Leden
ATTACH;FMTTYPE=image/webp:https://bindusvzw.be/wp-content/uploads/2025/04/logo-dusod.webp
END:VEVENT
BEGIN:VEVENT
DTSTART;TZID=Europe/Helsinki:20260621T120000
DTEND;TZID=Europe/Helsinki:20260621T150000
DTSTAMP:20260419T175938
CREATED:20250811T121428Z
LAST-MODIFIED:20250811T121428Z
UID:10001516-1782043200-1782054000@bindusvzw.be
SUMMARY:muziekschool DoReMimuziek organiseert saz lessen
DESCRIPTION:Wil jij de Turkse saz leren spelen in Antwerpen?\nDoReMimuziek\, een succesvolle muziekschool\nuit Nederland\, komt naar Antwerpen met muzieklessen\nSaz voor zowel beginnende als gevorderde muzikanten.\nDit traditionele snaarinstrument heeft een rijke geschiedenis en is diep geworteld in de muzikale tradities\nvan het Midden-Oosten en de Balkan. Met zijn unieke\, warme klank creëert de saz een betoverende sfeer.\nOf het nu gaat om vrolijke deuntjes of emotionele ballades\,\nde saz vertelt een verhaal dat raakt. \n🗓️ Iedere zondag met uitzondering van de zomervakantie (juli en augustus) \n⏰ 12u00-15u00\n \n📍 Bindus\, Brederodestraat 188\, 2018 Antwerpen \n💶 70 euro per maand* \n🖊️ inschrijven en meer informatie via www.doremimuziek.nl of stuur een bericht naar +31651 886 633
URL:https://bindusvzw.be/activiteiten/muziekschool-doremimuziek-organiseert-saz-lessen-37/
LOCATION:Bindus Antwerpen\, Brederodestraat 188\, Antwerpen\, antwerpen\, 2000\, België
ATTACH;FMTTYPE=image/png:https://bindusvzw.be/wp-content/uploads/2025/08/Nieuwe-Logo-DMM-transparant.png
ORGANIZER;CN="DoReMimuziek":MAILTO:info@doremimuziek.nl
END:VEVENT
BEGIN:VEVENT
DTSTART;TZID=Europe/Helsinki:20260623T140000
DTEND;TZID=Europe/Helsinki:20260623T163000
DTSTAMP:20260419T175938
CREATED:20250916T122115Z
LAST-MODIFIED:20250916T122115Z
UID:10001689-1782223200-1782232200@bindusvzw.be
SUMMARY:Gesprekken op dinsdag met Dusod
DESCRIPTION:Bewustwordingsgesprek met de coaches van Dusod\nIedere dinsdag organiseert coach Yurdagül een online\ngespreksmoment dat gericht is op persoonlijke groei\nen de verbinding met jezelf. Creëer meer bewustzijn\nbij jezelf en de wereld om je heen. \n🗓️ Iedere dinsdag \n🕑 start om 14u \n📍online via Zoom \n💶 Deelname: gratis  \n✨ Iedereen is welkom \n🌍 DUSOD HOLISTISCHE ADEMHALINGSACADEMIDIE is ICF gecertificeerd 🌍 \n🖊️ Meer informatie en inschrijven via Yurdagulcengiz@hotmail.com \n 
URL:https://bindusvzw.be/activiteiten/gesprekken-op-dinsdag-met-dusod-41/
LOCATION:Online\, België
CATEGORIES:Activiteit Leden
ATTACH;FMTTYPE=image/webp:https://bindusvzw.be/wp-content/uploads/2025/04/logo-dusod.webp
END:VEVENT
BEGIN:VEVENT
DTSTART;TZID=Europe/Helsinki:20260628T120000
DTEND;TZID=Europe/Helsinki:20260628T150000
DTSTAMP:20260419T175938
CREATED:20250811T121521Z
LAST-MODIFIED:20250811T121521Z
UID:10001517-1782648000-1782658800@bindusvzw.be
SUMMARY:muziekschool DoReMimuziek organiseert saz lessen
DESCRIPTION:Wil jij de Turkse saz leren spelen in Antwerpen?\nDoReMimuziek\, een succesvolle muziekschool\nuit Nederland\, komt naar Antwerpen met muzieklessen\nSaz voor zowel beginnende als gevorderde muzikanten.\nDit traditionele snaarinstrument heeft een rijke geschiedenis en is diep geworteld in de muzikale tradities\nvan het Midden-Oosten en de Balkan. Met zijn unieke\, warme klank creëert de saz een betoverende sfeer.\nOf het nu gaat om vrolijke deuntjes of emotionele ballades\,\nde saz vertelt een verhaal dat raakt. \n🗓️ Iedere zondag met uitzondering van de zomervakantie (juli en augustus) \n⏰ 12u00-15u00\n \n📍 Bindus\, Brederodestraat 188\, 2018 Antwerpen \n💶 70 euro per maand* \n🖊️ inschrijven en meer informatie via www.doremimuziek.nl of stuur een bericht naar +31651 886 633
URL:https://bindusvzw.be/activiteiten/muziekschool-doremimuziek-organiseert-saz-lessen-38/
LOCATION:Bindus Antwerpen\, Brederodestraat 188\, Antwerpen\, antwerpen\, 2000\, België
ATTACH;FMTTYPE=image/png:https://bindusvzw.be/wp-content/uploads/2025/08/Nieuwe-Logo-DMM-transparant.png
ORGANIZER;CN="DoReMimuziek":MAILTO:info@doremimuziek.nl
END:VEVENT
BEGIN:VEVENT
DTSTART;TZID=Europe/Helsinki:20260630T140000
DTEND;TZID=Europe/Helsinki:20260630T163000
DTSTAMP:20260419T175938
CREATED:20250916T122158Z
LAST-MODIFIED:20250916T122158Z
UID:10001690-1782828000-1782837000@bindusvzw.be
SUMMARY:Gesprekken op dinsdag met Dusod
DESCRIPTION:Bewustwordingsgesprek met de coaches van Dusod\nIedere dinsdag organiseert coach Yurdagül een online\ngespreksmoment dat gericht is op persoonlijke groei\nen de verbinding met jezelf. Creëer meer bewustzijn\nbij jezelf en de wereld om je heen. \n🗓️ Iedere dinsdag \n🕑 start om 14u \n📍online via Zoom \n💶 Deelname: gratis  \n✨ Iedereen is welkom \n🌍 DUSOD HOLISTISCHE ADEMHALINGSACADEMIDIE is ICF gecertificeerd 🌍 \n🖊️ Meer informatie en inschrijven via Yurdagulcengiz@hotmail.com \n 
URL:https://bindusvzw.be/activiteiten/gesprekken-op-dinsdag-met-dusod-42/
LOCATION:Online\, België
CATEGORIES:Activiteit Leden
ATTACH;FMTTYPE=image/webp:https://bindusvzw.be/wp-content/uploads/2025/04/logo-dusod.webp
END:VEVENT
BEGIN:VEVENT
DTSTART;TZID=Europe/Helsinki:20260707T140000
DTEND;TZID=Europe/Helsinki:20260707T163000
DTSTAMP:20260419T175938
CREATED:20250916T122237Z
LAST-MODIFIED:20250916T122237Z
UID:10001691-1783432800-1783441800@bindusvzw.be
SUMMARY:Gesprekken op dinsdag met Dusod
DESCRIPTION:Bewustwordingsgesprek met de coaches van Dusod\nIedere dinsdag organiseert coach Yurdagül een online\ngespreksmoment dat gericht is op persoonlijke groei\nen de verbinding met jezelf. Creëer meer bewustzijn\nbij jezelf en de wereld om je heen. \n🗓️ Iedere dinsdag \n🕑 start om 14u \n📍online via Zoom \n💶 Deelname: gratis  \n✨ Iedereen is welkom \n🌍 DUSOD HOLISTISCHE ADEMHALINGSACADEMIDIE is ICF gecertificeerd 🌍 \n🖊️ Meer informatie en inschrijven via Yurdagulcengiz@hotmail.com \n 
URL:https://bindusvzw.be/activiteiten/gesprekken-op-dinsdag-met-dusod-43/
LOCATION:Online\, België
CATEGORIES:Activiteit Leden
ATTACH;FMTTYPE=image/webp:https://bindusvzw.be/wp-content/uploads/2025/04/logo-dusod.webp
END:VEVENT
BEGIN:VEVENT
DTSTART;TZID=Europe/Helsinki:20260714T140000
DTEND;TZID=Europe/Helsinki:20260714T163000
DTSTAMP:20260419T175938
CREATED:20250916T122311Z
LAST-MODIFIED:20250916T122311Z
UID:10001692-1784037600-1784046600@bindusvzw.be
SUMMARY:Gesprekken op dinsdag met Dusod
DESCRIPTION:Bewustwordingsgesprek met de coaches van Dusod\nIedere dinsdag organiseert coach Yurdagül een online\ngespreksmoment dat gericht is op persoonlijke groei\nen de verbinding met jezelf. Creëer meer bewustzijn\nbij jezelf en de wereld om je heen. \n🗓️ Iedere dinsdag \n🕑 start om 14u \n📍online via Zoom \n💶 Deelname: gratis  \n✨ Iedereen is welkom \n🌍 DUSOD HOLISTISCHE ADEMHALINGSACADEMIDIE is ICF gecertificeerd 🌍 \n🖊️ Meer informatie en inschrijven via Yurdagulcengiz@hotmail.com \n 
URL:https://bindusvzw.be/activiteiten/gesprekken-op-dinsdag-met-dusod-44/
LOCATION:Online\, België
CATEGORIES:Activiteit Leden
ATTACH;FMTTYPE=image/webp:https://bindusvzw.be/wp-content/uploads/2025/04/logo-dusod.webp
END:VEVENT
BEGIN:VEVENT
DTSTART;TZID=Europe/Helsinki:20260721T140000
DTEND;TZID=Europe/Helsinki:20260721T163000
DTSTAMP:20260419T175938
CREATED:20250916T122351Z
LAST-MODIFIED:20250916T122351Z
UID:10001693-1784642400-1784651400@bindusvzw.be
SUMMARY:Gesprekken op dinsdag met Dusod
DESCRIPTION:Bewustwordingsgesprek met de coaches van Dusod\nIedere dinsdag organiseert coach Yurdagül een online\ngespreksmoment dat gericht is op persoonlijke groei\nen de verbinding met jezelf. Creëer meer bewustzijn\nbij jezelf en de wereld om je heen. \n🗓️ Iedere dinsdag \n🕑 start om 14u \n📍online via Zoom \n💶 Deelname: gratis  \n✨ Iedereen is welkom \n🌍 DUSOD HOLISTISCHE ADEMHALINGSACADEMIDIE is ICF gecertificeerd 🌍 \n🖊️ Meer informatie en inschrijven via Yurdagulcengiz@hotmail.com \n 
URL:https://bindusvzw.be/activiteiten/gesprekken-op-dinsdag-met-dusod-45/
LOCATION:Online\, België
CATEGORIES:Activiteit Leden
ATTACH;FMTTYPE=image/webp:https://bindusvzw.be/wp-content/uploads/2025/04/logo-dusod.webp
END:VEVENT
BEGIN:VEVENT
DTSTART;TZID=Europe/Helsinki:20260728T140000
DTEND;TZID=Europe/Helsinki:20260728T163000
DTSTAMP:20260419T175938
CREATED:20250916T122434Z
LAST-MODIFIED:20250916T122434Z
UID:10001694-1785247200-1785256200@bindusvzw.be
SUMMARY:Gesprekken op dinsdag met Dusod
DESCRIPTION:Bewustwordingsgesprek met de coaches van Dusod\nIedere dinsdag organiseert coach Yurdagül een online\ngespreksmoment dat gericht is op persoonlijke groei\nen de verbinding met jezelf. Creëer meer bewustzijn\nbij jezelf en de wereld om je heen. \n🗓️ Iedere dinsdag \n🕑 start om 14u \n📍online via Zoom \n💶 Deelname: gratis  \n✨ Iedereen is welkom \n🌍 DUSOD HOLISTISCHE ADEMHALINGSACADEMIDIE is ICF gecertificeerd 🌍 \n🖊️ Meer informatie en inschrijven via Yurdagulcengiz@hotmail.com \n 
URL:https://bindusvzw.be/activiteiten/gesprekken-op-dinsdag-met-dusod-46/
LOCATION:Online\, België
CATEGORIES:Activiteit Leden
ATTACH;FMTTYPE=image/webp:https://bindusvzw.be/wp-content/uploads/2025/04/logo-dusod.webp
END:VEVENT
BEGIN:VEVENT
DTSTART;TZID=Europe/Helsinki:20260804T140000
DTEND;TZID=Europe/Helsinki:20260804T163000
DTSTAMP:20260419T175938
CREATED:20250916T122513Z
LAST-MODIFIED:20250916T122513Z
UID:10001695-1785852000-1785861000@bindusvzw.be
SUMMARY:Gesprekken op dinsdag met Dusod
DESCRIPTION:Bewustwordingsgesprek met de coaches van Dusod\nIedere dinsdag organiseert coach Yurdagül een online\ngespreksmoment dat gericht is op persoonlijke groei\nen de verbinding met jezelf. Creëer meer bewustzijn\nbij jezelf en de wereld om je heen. \n🗓️ Iedere dinsdag \n🕑 start om 14u \n📍online via Zoom \n💶 Deelname: gratis  \n✨ Iedereen is welkom \n🌍 DUSOD HOLISTISCHE ADEMHALINGSACADEMIDIE is ICF gecertificeerd 🌍 \n🖊️ Meer informatie en inschrijven via Yurdagulcengiz@hotmail.com \n 
URL:https://bindusvzw.be/activiteiten/gesprekken-op-dinsdag-met-dusod-47/
LOCATION:Online\, België
CATEGORIES:Activiteit Leden
ATTACH;FMTTYPE=image/webp:https://bindusvzw.be/wp-content/uploads/2025/04/logo-dusod.webp
END:VEVENT
BEGIN:VEVENT
DTSTART;TZID=Europe/Helsinki:20260811T140000
DTEND;TZID=Europe/Helsinki:20260811T163000
DTSTAMP:20260419T175938
CREATED:20250916T122555Z
LAST-MODIFIED:20250916T122555Z
UID:10001696-1786456800-1786465800@bindusvzw.be
SUMMARY:Gesprekken op dinsdag met Dusod
DESCRIPTION:Bewustwordingsgesprek met de coaches van Dusod\nIedere dinsdag organiseert coach Yurdagül een online\ngespreksmoment dat gericht is op persoonlijke groei\nen de verbinding met jezelf. Creëer meer bewustzijn\nbij jezelf en de wereld om je heen. \n🗓️ Iedere dinsdag \n🕑 start om 14u \n📍online via Zoom \n💶 Deelname: gratis  \n✨ Iedereen is welkom \n🌍 DUSOD HOLISTISCHE ADEMHALINGSACADEMIDIE is ICF gecertificeerd 🌍 \n🖊️ Meer informatie en inschrijven via Yurdagulcengiz@hotmail.com \n 
URL:https://bindusvzw.be/activiteiten/gesprekken-op-dinsdag-met-dusod-48/
LOCATION:Online\, België
CATEGORIES:Activiteit Leden
ATTACH;FMTTYPE=image/webp:https://bindusvzw.be/wp-content/uploads/2025/04/logo-dusod.webp
END:VEVENT
BEGIN:VEVENT
DTSTART;TZID=Europe/Helsinki:20260818T140000
DTEND;TZID=Europe/Helsinki:20260818T163000
DTSTAMP:20260419T175938
CREATED:20250916T122631Z
LAST-MODIFIED:20250916T122631Z
UID:10001697-1787061600-1787070600@bindusvzw.be
SUMMARY:Gesprekken op dinsdag met Dusod
DESCRIPTION:Bewustwordingsgesprek met de coaches van Dusod\nIedere dinsdag organiseert coach Yurdagül een online\ngespreksmoment dat gericht is op persoonlijke groei\nen de verbinding met jezelf. Creëer meer bewustzijn\nbij jezelf en de wereld om je heen. \n🗓️ Iedere dinsdag \n🕑 start om 14u \n📍online via Zoom \n💶 Deelname: gratis  \n✨ Iedereen is welkom \n🌍 DUSOD HOLISTISCHE ADEMHALINGSACADEMIDIE is ICF gecertificeerd 🌍 \n🖊️ Meer informatie en inschrijven via Yurdagulcengiz@hotmail.com \n 
URL:https://bindusvzw.be/activiteiten/gesprekken-op-dinsdag-met-dusod-49/
LOCATION:Online\, België
CATEGORIES:Activiteit Leden
ATTACH;FMTTYPE=image/webp:https://bindusvzw.be/wp-content/uploads/2025/04/logo-dusod.webp
END:VEVENT
BEGIN:VEVENT
DTSTART;TZID=Europe/Helsinki:20260825T140000
DTEND;TZID=Europe/Helsinki:20260825T163000
DTSTAMP:20260419T175938
CREATED:20250916T122702Z
LAST-MODIFIED:20250916T122702Z
UID:10001698-1787666400-1787675400@bindusvzw.be
SUMMARY:Gesprekken op dinsdag met Dusod
DESCRIPTION:Bewustwordingsgesprek met de coaches van Dusod\nIedere dinsdag organiseert coach Yurdagül een online\ngespreksmoment dat gericht is op persoonlijke groei\nen de verbinding met jezelf. Creëer meer bewustzijn\nbij jezelf en de wereld om je heen. \n🗓️ Iedere dinsdag \n🕑 start om 14u \n📍online via Zoom \n💶 Deelname: gratis  \n✨ Iedereen is welkom \n🌍 DUSOD HOLISTISCHE ADEMHALINGSACADEMIDIE is ICF gecertificeerd 🌍 \n🖊️ Meer informatie en inschrijven via Yurdagulcengiz@hotmail.com \n 
URL:https://bindusvzw.be/activiteiten/gesprekken-op-dinsdag-met-dusod-50/
LOCATION:Online\, België
CATEGORIES:Activiteit Leden
ATTACH;FMTTYPE=image/webp:https://bindusvzw.be/wp-content/uploads/2025/04/logo-dusod.webp
END:VEVENT
END:VCALENDAR