BEGIN:VCALENDAR
VERSION:2.0
PRODID:-//Bindus vzw - ECPv6.15.20//NONSGML v1.0//EN
CALSCALE:GREGORIAN
METHOD:PUBLISH
X-ORIGINAL-URL:https://bindusvzw.be
X-WR-CALDESC:Evenementen voor Bindus vzw
REFRESH-INTERVAL;VALUE=DURATION:PT1H
X-Robots-Tag:noindex
X-PUBLISHED-TTL:PT1H
BEGIN:VTIMEZONE
TZID:Europe/Helsinki
BEGIN:DAYLIGHT
TZOFFSETFROM:+0200
TZOFFSETTO:+0300
TZNAME:EEST
DTSTART:20230326T010000
END:DAYLIGHT
BEGIN:STANDARD
TZOFFSETFROM:+0300
TZOFFSETTO:+0200
TZNAME:EET
DTSTART:20231029T010000
END:STANDARD
BEGIN:DAYLIGHT
TZOFFSETFROM:+0200
TZOFFSETTO:+0300
TZNAME:EEST
DTSTART:20240331T010000
END:DAYLIGHT
BEGIN:STANDARD
TZOFFSETFROM:+0300
TZOFFSETTO:+0200
TZNAME:EET
DTSTART:20241027T010000
END:STANDARD
BEGIN:DAYLIGHT
TZOFFSETFROM:+0200
TZOFFSETTO:+0300
TZNAME:EEST
DTSTART:20250330T010000
END:DAYLIGHT
BEGIN:STANDARD
TZOFFSETFROM:+0300
TZOFFSETTO:+0200
TZNAME:EET
DTSTART:20251026T010000
END:STANDARD
END:VTIMEZONE
BEGIN:VEVENT
DTSTART;TZID=Europe/Helsinki:20241018T130000
DTEND;TZID=Europe/Helsinki:20241018T170000
DTSTAMP:20260422T032320
CREATED:20250422T083049Z
LAST-MODIFIED:20250422T083049Z
UID:10000680-1729256400-1729270800@bindusvzw.be
SUMMARY:Herdenking de Slag om de Ardennen
DESCRIPTION:Samen met DMR naar Bastenaken \n🗓️ vrijdag 11 oktober \n⏰ 13-17u   \n❔Ga samen met DMR naar Bastenaken en ontdek de geschiedenis van de slag om de Ardennen die plaatsvond\nvan 16 december 1944 tot en met 25 januari 1945 \n📍 Bastenaken \n❔ Meer informatie via info@demirconsulting.be
URL:https://bindusvzw.be/activiteiten/herdenking-de-slag-om-de-ardennen/
CATEGORIES:Activiteit Leden
ATTACH;FMTTYPE=image/png:https://bindusvzw.be/wp-content/uploads/2025/04/2024_logo_DMR.png
ORGANIZER;CN="DMR":MAILTO:info@demirconsulting.be
END:VEVENT
END:VCALENDAR