BEGIN:VCALENDAR
VERSION:2.0
PRODID:-//Bindus vzw - ECPv6.15.20//NONSGML v1.0//EN
CALSCALE:GREGORIAN
METHOD:PUBLISH
X-WR-CALNAME:Bindus vzw
X-ORIGINAL-URL:https://bindusvzw.be
X-WR-CALDESC:Evenementen voor Bindus vzw
REFRESH-INTERVAL;VALUE=DURATION:PT1H
X-Robots-Tag:noindex
X-PUBLISHED-TTL:PT1H
BEGIN:VTIMEZONE
TZID:Europe/Helsinki
BEGIN:DAYLIGHT
TZOFFSETFROM:+0200
TZOFFSETTO:+0300
TZNAME:EEST
DTSTART:20240331T010000
END:DAYLIGHT
BEGIN:STANDARD
TZOFFSETFROM:+0300
TZOFFSETTO:+0200
TZNAME:EET
DTSTART:20241027T010000
END:STANDARD
BEGIN:DAYLIGHT
TZOFFSETFROM:+0200
TZOFFSETTO:+0300
TZNAME:EEST
DTSTART:20250330T010000
END:DAYLIGHT
BEGIN:STANDARD
TZOFFSETFROM:+0300
TZOFFSETTO:+0200
TZNAME:EET
DTSTART:20251026T010000
END:STANDARD
BEGIN:DAYLIGHT
TZOFFSETFROM:+0200
TZOFFSETTO:+0300
TZNAME:EEST
DTSTART:20260329T010000
END:DAYLIGHT
BEGIN:STANDARD
TZOFFSETFROM:+0300
TZOFFSETTO:+0200
TZNAME:EET
DTSTART:20261025T010000
END:STANDARD
END:VTIMEZONE
BEGIN:VEVENT
DTSTART;TZID=Europe/Helsinki:20250601T140000
DTEND;TZID=Europe/Helsinki:20250601T160000
DTSTAMP:20260425T194627
CREATED:20250203T083635Z
LAST-MODIFIED:20250209T150449Z
UID:10000407-1748786400-1748793600@bindusvzw.be
SUMMARY:Taalproject Jemenitisch Forum
DESCRIPTION:Het Jemenitisch Forum biedt taallessen aan voor kinderen vanuit de gemeenschap\nDoor de verbinding te maken met de moedertaal krijgen kinderen meer mogelijkheden om het Nederlands als nieuwe taal te leren\, wat hun schoolprestaties en integratie ten goede komt \n🗓️ Iedere zondagnamiddag met uitzondering van de vakantieperiodes die van\ntoepassing zijn voor het Nederlandstalig onderwijs in Vlaanderen \n⏰ 14-16u  \n❔ Kinderen van 5 tot 14 jaar \n📍 Bindus\, Brederodestraat 188\, 2018 Antwerpen \n✍️ Inschrijven: Registratieformulier taalles \nℹ️ Inhoud van de lessen:\nbasisprincipes van lezen en schrijven\nEssentiële taalvaardigheden\nBasisgrammaticaregels\nwoordenschat en alledaagse uitdrukkingen\nCulturele verbondenheid\nIntegratie van het bovenstaande met het Nederlands om de integratie van leden van de Jemenitische gemeenschap in de Belgische samenleving te bevorderen. \n💶 Deelname: helemaal gratis  \n❔ Meer informatie via: Jameel.alalimi@hotmail.com of forumyemeni@gmail.com \n 
URL:https://bindusvzw.be/activiteiten/taalproject-jemenitisch-forum-13/
LOCATION:Bindus Antwerpen\, Brederodestraat 188\, Antwerpen\, antwerpen\, 2000\, België
CATEGORIES:Activiteit Leden
ORGANIZER;CN="Jemenitisch Forum":MAILTO:forumyemeni@gmail.com
END:VEVENT
BEGIN:VEVENT
DTSTART;TZID=Europe/Helsinki:20250608T140000
DTEND;TZID=Europe/Helsinki:20250608T160000
DTSTAMP:20260425T194627
CREATED:20250203T083704Z
LAST-MODIFIED:20250209T150505Z
UID:10000408-1749391200-1749398400@bindusvzw.be
SUMMARY:Taalproject Jemenitisch Forum
DESCRIPTION:Het Jemenitisch Forum biedt taallessen aan voor kinderen vanuit de gemeenschap\nDoor de verbinding te maken met de moedertaal krijgen kinderen meer mogelijkheden om het Nederlands als nieuwe taal te leren\, wat hun schoolprestaties en integratie ten goede komt \n🗓️ Iedere zondagnamiddag met uitzondering van de vakantieperiodes die van\ntoepassing zijn voor het Nederlandstalig onderwijs in Vlaanderen \n⏰ 14-16u  \n❔ Kinderen van 5 tot 14 jaar \n📍 Bindus\, Brederodestraat 188\, 2018 Antwerpen \n✍️ Inschrijven: Registratieformulier taalles \nℹ️ Inhoud van de lessen:\nbasisprincipes van lezen en schrijven\nEssentiële taalvaardigheden\nBasisgrammaticaregels\nwoordenschat en alledaagse uitdrukkingen\nCulturele verbondenheid\nIntegratie van het bovenstaande met het Nederlands om de integratie van leden van de Jemenitische gemeenschap in de Belgische samenleving te bevorderen. \n💶 Deelname: helemaal gratis  \n❔ Meer informatie via: Jameel.alalimi@hotmail.com of forumyemeni@gmail.com \n 
URL:https://bindusvzw.be/activiteiten/taalproject-jemenitisch-forum-14/
LOCATION:Bindus Antwerpen\, Brederodestraat 188\, Antwerpen\, antwerpen\, 2000\, België
CATEGORIES:Activiteit Leden
ORGANIZER;CN="Jemenitisch Forum":MAILTO:forumyemeni@gmail.com
END:VEVENT
BEGIN:VEVENT
DTSTART;TZID=Europe/Helsinki:20250615T140000
DTEND;TZID=Europe/Helsinki:20250615T160000
DTSTAMP:20260425T194627
CREATED:20250203T083738Z
LAST-MODIFIED:20250209T150527Z
UID:10000409-1749996000-1750003200@bindusvzw.be
SUMMARY:Taalproject Jemenitisch Forum
DESCRIPTION:Het Jemenitisch Forum biedt taallessen aan voor kinderen vanuit de gemeenschap\nDoor de verbinding te maken met de moedertaal krijgen kinderen meer mogelijkheden om het Nederlands als nieuwe taal te leren\, wat hun schoolprestaties en integratie ten goede komt \n🗓️ Iedere zondagnamiddag met uitzondering van de vakantieperiodes die van\ntoepassing zijn voor het Nederlandstalig onderwijs in Vlaanderen \n⏰ 14-16u  \n❔ Kinderen van 5 tot 14 jaar \n📍 Bindus\, Brederodestraat 188\, 2018 Antwerpen \n✍️ Inschrijven: Registratieformulier taalles \nℹ️ Inhoud van de lessen:\nbasisprincipes van lezen en schrijven\nEssentiële taalvaardigheden\nBasisgrammaticaregels\nwoordenschat en alledaagse uitdrukkingen\nCulturele verbondenheid\nIntegratie van het bovenstaande met het Nederlands om de integratie van leden van de Jemenitische gemeenschap in de Belgische samenleving te bevorderen. \n💶 Deelname: helemaal gratis  \n❔ Meer informatie via: Jameel.alalimi@hotmail.com of forumyemeni@gmail.com \n 
URL:https://bindusvzw.be/activiteiten/taalproject-jemenitisch-forum-15/
LOCATION:Bindus Antwerpen\, Brederodestraat 188\, Antwerpen\, antwerpen\, 2000\, België
CATEGORIES:Activiteit Leden
ORGANIZER;CN="Jemenitisch Forum":MAILTO:forumyemeni@gmail.com
END:VEVENT
BEGIN:VEVENT
DTSTART;TZID=Europe/Helsinki:20250620T190000
DTEND;TZID=Europe/Helsinki:20250620T210000
DTSTAMP:20260425T194627
CREATED:20250618T090500Z
LAST-MODIFIED:20250618T090500Z
UID:10001256-1750446000-1750453200@bindusvzw.be
SUMMARY:Gesprekken op vrijdag
DESCRIPTION:Tekin aan de overkant \n🗓️ Iedere vrijdag het hele jaar door \n❔Thema’s die aan bod komen: We zullen praten over de fijnheden van het leven\, de schoonheid\nvan in het moment leven en de manier om onszelf dieper te ontdekken \n📍online via Zoom\nhttps://us02web.zoom.us/j/89285687885?pwd=YzR1aXROQ0VEd1REUWh5UWM5ZmlGUT09\nVergader-ID: 892 8568 7885\nWachtwoord: 208532 \n💶 Deelname: gratis  \n✨ Iedereen is welkom 🌿✨ \n🖊️ Meer informatie en inschrijven via Yurdagulcengiz@hotmail.com \n 
URL:https://bindusvzw.be/activiteiten/gesprekken-op-vrijdag-52/
LOCATION:Online\, België
CATEGORIES:Activiteit Leden
ATTACH;FMTTYPE=image/webp:https://bindusvzw.be/wp-content/uploads/2025/04/logo-dusod.webp
END:VEVENT
BEGIN:VEVENT
DTSTART;TZID=Europe/Helsinki:20250622T140000
DTEND;TZID=Europe/Helsinki:20250622T160000
DTSTAMP:20260425T194627
CREATED:20250203T083816Z
LAST-MODIFIED:20250209T150546Z
UID:10000410-1750600800-1750608000@bindusvzw.be
SUMMARY:Taalproject Jemenitisch Forum
DESCRIPTION:Het Jemenitisch Forum biedt taallessen aan voor kinderen vanuit de gemeenschap\nDoor de verbinding te maken met de moedertaal krijgen kinderen meer mogelijkheden om het Nederlands als nieuwe taal te leren\, wat hun schoolprestaties en integratie ten goede komt \n🗓️ Iedere zondagnamiddag met uitzondering van de vakantieperiodes die van\ntoepassing zijn voor het Nederlandstalig onderwijs in Vlaanderen \n⏰ 14-16u  \n❔ Kinderen van 5 tot 14 jaar \n📍 Bindus\, Brederodestraat 188\, 2018 Antwerpen \n✍️ Inschrijven: Registratieformulier taalles \nℹ️ Inhoud van de lessen:\nbasisprincipes van lezen en schrijven\nEssentiële taalvaardigheden\nBasisgrammaticaregels\nwoordenschat en alledaagse uitdrukkingen\nCulturele verbondenheid\nIntegratie van het bovenstaande met het Nederlands om de integratie van leden van de Jemenitische gemeenschap in de Belgische samenleving te bevorderen. \n💶 Deelname: helemaal gratis  \n❔ Meer informatie via: Jameel.alalimi@hotmail.com of forumyemeni@gmail.com \n 
URL:https://bindusvzw.be/activiteiten/taalproject-jemenitisch-forum-16/
LOCATION:Bindus Antwerpen\, Brederodestraat 188\, Antwerpen\, antwerpen\, 2000\, België
CATEGORIES:Activiteit Leden
ORGANIZER;CN="Jemenitisch Forum":MAILTO:forumyemeni@gmail.com
END:VEVENT
BEGIN:VEVENT
DTSTART;TZID=Europe/Helsinki:20250629T140000
DTEND;TZID=Europe/Helsinki:20250629T160000
DTSTAMP:20260425T194627
CREATED:20250203T083844Z
LAST-MODIFIED:20250209T150604Z
UID:10000411-1751205600-1751212800@bindusvzw.be
SUMMARY:Taalproject Jemenitisch Forum
DESCRIPTION:Het Jemenitisch Forum biedt taallessen aan voor kinderen vanuit de gemeenschap\nDoor de verbinding te maken met de moedertaal krijgen kinderen meer mogelijkheden om het Nederlands als nieuwe taal te leren\, wat hun schoolprestaties en integratie ten goede komt \n🗓️ Iedere zondagnamiddag met uitzondering van de vakantieperiodes die van\ntoepassing zijn voor het Nederlandstalig onderwijs in Vlaanderen \n⏰ 14-16u  \n❔ Kinderen van 5 tot 14 jaar \n📍 Bindus\, Brederodestraat 188\, 2018 Antwerpen \n✍️ Inschrijven: Registratieformulier taalles \nℹ️ Inhoud van de lessen:\nbasisprincipes van lezen en schrijven\nEssentiële taalvaardigheden\nBasisgrammaticaregels\nwoordenschat en alledaagse uitdrukkingen\nCulturele verbondenheid\nIntegratie van het bovenstaande met het Nederlands om de integratie van leden van de Jemenitische gemeenschap in de Belgische samenleving te bevorderen. \n💶 Deelname: helemaal gratis  \n❔ Meer informatie via: Jameel.alalimi@hotmail.com of forumyemeni@gmail.com \n 
URL:https://bindusvzw.be/activiteiten/taalproject-jemenitisch-forum-17/
LOCATION:Bindus Antwerpen\, Brederodestraat 188\, Antwerpen\, antwerpen\, 2000\, België
CATEGORIES:Activiteit Leden
ORGANIZER;CN="Jemenitisch Forum":MAILTO:forumyemeni@gmail.com
END:VEVENT
END:VCALENDAR