BEGIN:VCALENDAR
VERSION:2.0
PRODID:-//Bindus vzw - ECPv6.15.20//NONSGML v1.0//EN
CALSCALE:GREGORIAN
METHOD:PUBLISH
X-ORIGINAL-URL:https://bindusvzw.be
X-WR-CALDESC:Evenementen voor Bindus vzw
REFRESH-INTERVAL;VALUE=DURATION:PT1H
X-Robots-Tag:noindex
X-PUBLISHED-TTL:PT1H
BEGIN:VTIMEZONE
TZID:Europe/Helsinki
BEGIN:DAYLIGHT
TZOFFSETFROM:+0200
TZOFFSETTO:+0300
TZNAME:EEST
DTSTART:20240331T010000
END:DAYLIGHT
BEGIN:STANDARD
TZOFFSETFROM:+0300
TZOFFSETTO:+0200
TZNAME:EET
DTSTART:20241027T010000
END:STANDARD
BEGIN:DAYLIGHT
TZOFFSETFROM:+0200
TZOFFSETTO:+0300
TZNAME:EEST
DTSTART:20250330T010000
END:DAYLIGHT
BEGIN:STANDARD
TZOFFSETFROM:+0300
TZOFFSETTO:+0200
TZNAME:EET
DTSTART:20251026T010000
END:STANDARD
BEGIN:DAYLIGHT
TZOFFSETFROM:+0200
TZOFFSETTO:+0300
TZNAME:EEST
DTSTART:20260329T010000
END:DAYLIGHT
BEGIN:STANDARD
TZOFFSETFROM:+0300
TZOFFSETTO:+0200
TZNAME:EET
DTSTART:20261025T010000
END:STANDARD
END:VTIMEZONE
BEGIN:VEVENT
DTSTART;TZID=Europe/Helsinki:20250629T140000
DTEND;TZID=Europe/Helsinki:20250629T160000
DTSTAMP:20260422T050329
CREATED:20250203T083844Z
LAST-MODIFIED:20250209T150604Z
UID:10000411-1751205600-1751212800@bindusvzw.be
SUMMARY:Taalproject Jemenitisch Forum
DESCRIPTION:Het Jemenitisch Forum biedt taallessen aan voor kinderen vanuit de gemeenschap\nDoor de verbinding te maken met de moedertaal krijgen kinderen meer mogelijkheden om het Nederlands als nieuwe taal te leren\, wat hun schoolprestaties en integratie ten goede komt \n🗓️ Iedere zondagnamiddag met uitzondering van de vakantieperiodes die van\ntoepassing zijn voor het Nederlandstalig onderwijs in Vlaanderen \n⏰ 14-16u  \n❔ Kinderen van 5 tot 14 jaar \n📍 Bindus\, Brederodestraat 188\, 2018 Antwerpen \n✍️ Inschrijven: Registratieformulier taalles \nℹ️ Inhoud van de lessen:\nbasisprincipes van lezen en schrijven\nEssentiële taalvaardigheden\nBasisgrammaticaregels\nwoordenschat en alledaagse uitdrukkingen\nCulturele verbondenheid\nIntegratie van het bovenstaande met het Nederlands om de integratie van leden van de Jemenitische gemeenschap in de Belgische samenleving te bevorderen. \n💶 Deelname: helemaal gratis  \n❔ Meer informatie via: Jameel.alalimi@hotmail.com of forumyemeni@gmail.com \n 
URL:https://bindusvzw.be/activiteiten/taalproject-jemenitisch-forum-17/
LOCATION:Bindus Antwerpen\, Brederodestraat 188\, Antwerpen\, antwerpen\, 2000\, België
CATEGORIES:Activiteit Leden
ORGANIZER;CN="Jemenitisch Forum":MAILTO:forumyemeni@gmail.com
END:VEVENT
BEGIN:VEVENT
DTSTART;TZID=Europe/Helsinki:20250622T140000
DTEND;TZID=Europe/Helsinki:20250622T160000
DTSTAMP:20260422T050329
CREATED:20250203T083816Z
LAST-MODIFIED:20250209T150546Z
UID:10000410-1750600800-1750608000@bindusvzw.be
SUMMARY:Taalproject Jemenitisch Forum
DESCRIPTION:Het Jemenitisch Forum biedt taallessen aan voor kinderen vanuit de gemeenschap\nDoor de verbinding te maken met de moedertaal krijgen kinderen meer mogelijkheden om het Nederlands als nieuwe taal te leren\, wat hun schoolprestaties en integratie ten goede komt \n🗓️ Iedere zondagnamiddag met uitzondering van de vakantieperiodes die van\ntoepassing zijn voor het Nederlandstalig onderwijs in Vlaanderen \n⏰ 14-16u  \n❔ Kinderen van 5 tot 14 jaar \n📍 Bindus\, Brederodestraat 188\, 2018 Antwerpen \n✍️ Inschrijven: Registratieformulier taalles \nℹ️ Inhoud van de lessen:\nbasisprincipes van lezen en schrijven\nEssentiële taalvaardigheden\nBasisgrammaticaregels\nwoordenschat en alledaagse uitdrukkingen\nCulturele verbondenheid\nIntegratie van het bovenstaande met het Nederlands om de integratie van leden van de Jemenitische gemeenschap in de Belgische samenleving te bevorderen. \n💶 Deelname: helemaal gratis  \n❔ Meer informatie via: Jameel.alalimi@hotmail.com of forumyemeni@gmail.com \n 
URL:https://bindusvzw.be/activiteiten/taalproject-jemenitisch-forum-16/
LOCATION:Bindus Antwerpen\, Brederodestraat 188\, Antwerpen\, antwerpen\, 2000\, België
CATEGORIES:Activiteit Leden
ORGANIZER;CN="Jemenitisch Forum":MAILTO:forumyemeni@gmail.com
END:VEVENT
BEGIN:VEVENT
DTSTART;TZID=Europe/Helsinki:20250620T190000
DTEND;TZID=Europe/Helsinki:20250620T210000
DTSTAMP:20260422T050329
CREATED:20250618T090500Z
LAST-MODIFIED:20250618T090500Z
UID:10001256-1750446000-1750453200@bindusvzw.be
SUMMARY:Gesprekken op vrijdag
DESCRIPTION:Tekin aan de overkant \n🗓️ Iedere vrijdag het hele jaar door \n❔Thema’s die aan bod komen: We zullen praten over de fijnheden van het leven\, de schoonheid\nvan in het moment leven en de manier om onszelf dieper te ontdekken \n📍online via Zoom\nhttps://us02web.zoom.us/j/89285687885?pwd=YzR1aXROQ0VEd1REUWh5UWM5ZmlGUT09\nVergader-ID: 892 8568 7885\nWachtwoord: 208532 \n💶 Deelname: gratis  \n✨ Iedereen is welkom 🌿✨ \n🖊️ Meer informatie en inschrijven via Yurdagulcengiz@hotmail.com \n 
URL:https://bindusvzw.be/activiteiten/gesprekken-op-vrijdag-52/
LOCATION:Online\, België
CATEGORIES:Activiteit Leden
ATTACH;FMTTYPE=image/webp:https://bindusvzw.be/wp-content/uploads/2025/04/logo-dusod.webp
END:VEVENT
BEGIN:VEVENT
DTSTART;TZID=Europe/Helsinki:20250615T140000
DTEND;TZID=Europe/Helsinki:20250615T160000
DTSTAMP:20260422T050329
CREATED:20250203T083738Z
LAST-MODIFIED:20250209T150527Z
UID:10000409-1749996000-1750003200@bindusvzw.be
SUMMARY:Taalproject Jemenitisch Forum
DESCRIPTION:Het Jemenitisch Forum biedt taallessen aan voor kinderen vanuit de gemeenschap\nDoor de verbinding te maken met de moedertaal krijgen kinderen meer mogelijkheden om het Nederlands als nieuwe taal te leren\, wat hun schoolprestaties en integratie ten goede komt \n🗓️ Iedere zondagnamiddag met uitzondering van de vakantieperiodes die van\ntoepassing zijn voor het Nederlandstalig onderwijs in Vlaanderen \n⏰ 14-16u  \n❔ Kinderen van 5 tot 14 jaar \n📍 Bindus\, Brederodestraat 188\, 2018 Antwerpen \n✍️ Inschrijven: Registratieformulier taalles \nℹ️ Inhoud van de lessen:\nbasisprincipes van lezen en schrijven\nEssentiële taalvaardigheden\nBasisgrammaticaregels\nwoordenschat en alledaagse uitdrukkingen\nCulturele verbondenheid\nIntegratie van het bovenstaande met het Nederlands om de integratie van leden van de Jemenitische gemeenschap in de Belgische samenleving te bevorderen. \n💶 Deelname: helemaal gratis  \n❔ Meer informatie via: Jameel.alalimi@hotmail.com of forumyemeni@gmail.com \n 
URL:https://bindusvzw.be/activiteiten/taalproject-jemenitisch-forum-15/
LOCATION:Bindus Antwerpen\, Brederodestraat 188\, Antwerpen\, antwerpen\, 2000\, België
CATEGORIES:Activiteit Leden
ORGANIZER;CN="Jemenitisch Forum":MAILTO:forumyemeni@gmail.com
END:VEVENT
BEGIN:VEVENT
DTSTART;TZID=Europe/Helsinki:20250608T140000
DTEND;TZID=Europe/Helsinki:20250608T160000
DTSTAMP:20260422T050329
CREATED:20250203T083704Z
LAST-MODIFIED:20250209T150505Z
UID:10000408-1749391200-1749398400@bindusvzw.be
SUMMARY:Taalproject Jemenitisch Forum
DESCRIPTION:Het Jemenitisch Forum biedt taallessen aan voor kinderen vanuit de gemeenschap\nDoor de verbinding te maken met de moedertaal krijgen kinderen meer mogelijkheden om het Nederlands als nieuwe taal te leren\, wat hun schoolprestaties en integratie ten goede komt \n🗓️ Iedere zondagnamiddag met uitzondering van de vakantieperiodes die van\ntoepassing zijn voor het Nederlandstalig onderwijs in Vlaanderen \n⏰ 14-16u  \n❔ Kinderen van 5 tot 14 jaar \n📍 Bindus\, Brederodestraat 188\, 2018 Antwerpen \n✍️ Inschrijven: Registratieformulier taalles \nℹ️ Inhoud van de lessen:\nbasisprincipes van lezen en schrijven\nEssentiële taalvaardigheden\nBasisgrammaticaregels\nwoordenschat en alledaagse uitdrukkingen\nCulturele verbondenheid\nIntegratie van het bovenstaande met het Nederlands om de integratie van leden van de Jemenitische gemeenschap in de Belgische samenleving te bevorderen. \n💶 Deelname: helemaal gratis  \n❔ Meer informatie via: Jameel.alalimi@hotmail.com of forumyemeni@gmail.com \n 
URL:https://bindusvzw.be/activiteiten/taalproject-jemenitisch-forum-14/
LOCATION:Bindus Antwerpen\, Brederodestraat 188\, Antwerpen\, antwerpen\, 2000\, België
CATEGORIES:Activiteit Leden
ORGANIZER;CN="Jemenitisch Forum":MAILTO:forumyemeni@gmail.com
END:VEVENT
BEGIN:VEVENT
DTSTART;TZID=Europe/Helsinki:20250601T140000
DTEND;TZID=Europe/Helsinki:20250601T160000
DTSTAMP:20260422T050329
CREATED:20250203T083635Z
LAST-MODIFIED:20250209T150449Z
UID:10000407-1748786400-1748793600@bindusvzw.be
SUMMARY:Taalproject Jemenitisch Forum
DESCRIPTION:Het Jemenitisch Forum biedt taallessen aan voor kinderen vanuit de gemeenschap\nDoor de verbinding te maken met de moedertaal krijgen kinderen meer mogelijkheden om het Nederlands als nieuwe taal te leren\, wat hun schoolprestaties en integratie ten goede komt \n🗓️ Iedere zondagnamiddag met uitzondering van de vakantieperiodes die van\ntoepassing zijn voor het Nederlandstalig onderwijs in Vlaanderen \n⏰ 14-16u  \n❔ Kinderen van 5 tot 14 jaar \n📍 Bindus\, Brederodestraat 188\, 2018 Antwerpen \n✍️ Inschrijven: Registratieformulier taalles \nℹ️ Inhoud van de lessen:\nbasisprincipes van lezen en schrijven\nEssentiële taalvaardigheden\nBasisgrammaticaregels\nwoordenschat en alledaagse uitdrukkingen\nCulturele verbondenheid\nIntegratie van het bovenstaande met het Nederlands om de integratie van leden van de Jemenitische gemeenschap in de Belgische samenleving te bevorderen. \n💶 Deelname: helemaal gratis  \n❔ Meer informatie via: Jameel.alalimi@hotmail.com of forumyemeni@gmail.com \n 
URL:https://bindusvzw.be/activiteiten/taalproject-jemenitisch-forum-13/
LOCATION:Bindus Antwerpen\, Brederodestraat 188\, Antwerpen\, antwerpen\, 2000\, België
CATEGORIES:Activiteit Leden
ORGANIZER;CN="Jemenitisch Forum":MAILTO:forumyemeni@gmail.com
END:VEVENT
BEGIN:VEVENT
DTSTART;TZID=Europe/Helsinki:20250525T140000
DTEND;TZID=Europe/Helsinki:20250525T160000
DTSTAMP:20260422T050329
CREATED:20250203T083603Z
LAST-MODIFIED:20250209T150424Z
UID:10000406-1748181600-1748188800@bindusvzw.be
SUMMARY:Taalproject Jemenitisch Forum
DESCRIPTION:Het Jemenitisch Forum biedt taallessen aan voor kinderen vanuit de gemeenschap\nDoor de verbinding te maken met de moedertaal krijgen kinderen meer mogelijkheden om het Nederlands als nieuwe taal te leren\, wat hun schoolprestaties en integratie ten goede komt \n🗓️ Iedere zondagnamiddag met uitzondering van de vakantieperiodes die van\ntoepassing zijn voor het Nederlandstalig onderwijs in Vlaanderen \n⏰ 14-16u  \n❔ Kinderen van 5 tot 14 jaar \n📍 Bindus\, Brederodestraat 188\, 2018 Antwerpen \n✍️ Inschrijven: Registratieformulier taalles \nℹ️ Inhoud van de lessen:\nbasisprincipes van lezen en schrijven\nEssentiële taalvaardigheden\nBasisgrammaticaregels\nwoordenschat en alledaagse uitdrukkingen\nCulturele verbondenheid\nIntegratie van het bovenstaande met het Nederlands om de integratie van leden van de Jemenitische gemeenschap in de Belgische samenleving te bevorderen. \n💶 Deelname: helemaal gratis  \n❔ Meer informatie via: Jameel.alalimi@hotmail.com of forumyemeni@gmail.com \n 
URL:https://bindusvzw.be/activiteiten/taalproject-jemenitisch-forum-12/
LOCATION:Bindus Antwerpen\, Brederodestraat 188\, Antwerpen\, antwerpen\, 2000\, België
CATEGORIES:Activiteit Leden
ORGANIZER;CN="Jemenitisch Forum":MAILTO:forumyemeni@gmail.com
END:VEVENT
BEGIN:VEVENT
DTSTART;TZID=Europe/Helsinki:20250518T140000
DTEND;TZID=Europe/Helsinki:20250518T160000
DTSTAMP:20260422T050329
CREATED:20250203T083530Z
LAST-MODIFIED:20250209T150409Z
UID:10000405-1747576800-1747584000@bindusvzw.be
SUMMARY:Taalproject Jemenitisch Forum
DESCRIPTION:Het Jemenitisch Forum biedt taallessen aan voor kinderen vanuit de gemeenschap\nDoor de verbinding te maken met de moedertaal krijgen kinderen meer mogelijkheden om het Nederlands als nieuwe taal te leren\, wat hun schoolprestaties en integratie ten goede komt \n🗓️ Iedere zondagnamiddag met uitzondering van de vakantieperiodes die van\ntoepassing zijn voor het Nederlandstalig onderwijs in Vlaanderen \n⏰ 14-16u  \n❔ Kinderen van 5 tot 14 jaar \n📍 Bindus\, Brederodestraat 188\, 2018 Antwerpen \n✍️ Inschrijven: Registratieformulier taalles \nℹ️ Inhoud van de lessen:\nbasisprincipes van lezen en schrijven\nEssentiële taalvaardigheden\nBasisgrammaticaregels\nwoordenschat en alledaagse uitdrukkingen\nCulturele verbondenheid\nIntegratie van het bovenstaande met het Nederlands om de integratie van leden van de Jemenitische gemeenschap in de Belgische samenleving te bevorderen. \n💶 Deelname: helemaal gratis  \n❔ Meer informatie via: Jameel.alalimi@hotmail.com of forumyemeni@gmail.com \n 
URL:https://bindusvzw.be/activiteiten/taalproject-jemenitisch-forum-11/
LOCATION:Bindus Antwerpen\, Brederodestraat 188\, Antwerpen\, antwerpen\, 2000\, België
CATEGORIES:Activiteit Leden
ORGANIZER;CN="Jemenitisch Forum":MAILTO:forumyemeni@gmail.com
END:VEVENT
BEGIN:VEVENT
DTSTART;TZID=Europe/Helsinki:20250511T140000
DTEND;TZID=Europe/Helsinki:20250511T160000
DTSTAMP:20260422T050329
CREATED:20250203T083458Z
LAST-MODIFIED:20250209T150346Z
UID:10000404-1746972000-1746979200@bindusvzw.be
SUMMARY:Taalproject Jemenitisch Forum
DESCRIPTION:Het Jemenitisch Forum biedt taallessen aan voor kinderen vanuit de gemeenschap\nDoor de verbinding te maken met de moedertaal krijgen kinderen meer mogelijkheden om het Nederlands als nieuwe taal te leren\, wat hun schoolprestaties en integratie ten goede komt \n🗓️ Iedere zondagnamiddag met uitzondering van de vakantieperiodes die van\ntoepassing zijn voor het Nederlandstalig onderwijs in Vlaanderen \n⏰ 14-16u  \n❔ Kinderen van 5 tot 14 jaar \n📍 Bindus\, Brederodestraat 188\, 2018 Antwerpen \n✍️ Inschrijven: Registratieformulier taalles \nℹ️ Inhoud van de lessen:\nbasisprincipes van lezen en schrijven\nEssentiële taalvaardigheden\nBasisgrammaticaregels\nwoordenschat en alledaagse uitdrukkingen\nCulturele verbondenheid\nIntegratie van het bovenstaande met het Nederlands om de integratie van leden van de Jemenitische gemeenschap in de Belgische samenleving te bevorderen. \n💶 Deelname: helemaal gratis  \n❔ Meer informatie via: Jameel.alalimi@hotmail.com of forumyemeni@gmail.com \n 
URL:https://bindusvzw.be/activiteiten/taalproject-jemenitisch-forum-10/
LOCATION:Bindus Antwerpen\, Brederodestraat 188\, Antwerpen\, antwerpen\, 2000\, België
CATEGORIES:Activiteit Leden
ORGANIZER;CN="Jemenitisch Forum":MAILTO:forumyemeni@gmail.com
END:VEVENT
BEGIN:VEVENT
DTSTART;TZID=Europe/Helsinki:20250504T140000
DTEND;TZID=Europe/Helsinki:20250504T160000
DTSTAMP:20260422T050329
CREATED:20250203T083420Z
LAST-MODIFIED:20250209T150330Z
UID:10000403-1746367200-1746374400@bindusvzw.be
SUMMARY:Taalproject Jemenitisch Forum
DESCRIPTION:Het Jemenitisch Forum biedt taallessen aan voor kinderen vanuit de gemeenschap\nDoor de verbinding te maken met de moedertaal krijgen kinderen meer mogelijkheden om het Nederlands als nieuwe taal te leren\, wat hun schoolprestaties en integratie ten goede komt \n🗓️ Iedere zondagnamiddag met uitzondering van de vakantieperiodes die van\ntoepassing zijn voor het Nederlandstalig onderwijs in Vlaanderen \n⏰ 14-16u  \n❔ Kinderen van 5 tot 14 jaar \n📍 Bindus\, Brederodestraat 188\, 2018 Antwerpen \n✍️ Inschrijven: Registratieformulier taalles \nℹ️ Inhoud van de lessen:\nbasisprincipes van lezen en schrijven\nEssentiële taalvaardigheden\nBasisgrammaticaregels\nwoordenschat en alledaagse uitdrukkingen\nCulturele verbondenheid\nIntegratie van het bovenstaande met het Nederlands om de integratie van leden van de Jemenitische gemeenschap in de Belgische samenleving te bevorderen. \n💶 Deelname: helemaal gratis  \n❔ Meer informatie via: Jameel.alalimi@hotmail.com of forumyemeni@gmail.com \n 
URL:https://bindusvzw.be/activiteiten/taalproject-jemenitisch-forum-9/
LOCATION:Bindus Antwerpen\, Brederodestraat 188\, Antwerpen\, antwerpen\, 2000\, België
CATEGORIES:Activiteit Leden
ORGANIZER;CN="Jemenitisch Forum":MAILTO:forumyemeni@gmail.com
END:VEVENT
BEGIN:VEVENT
DTSTART;TZID=Europe/Helsinki:20250427T140000
DTEND;TZID=Europe/Helsinki:20250427T160000
DTSTAMP:20260422T050329
CREATED:20250203T083326Z
LAST-MODIFIED:20250209T150307Z
UID:10000402-1745762400-1745769600@bindusvzw.be
SUMMARY:Taalproject Jemenitisch Forum
DESCRIPTION:Het Jemenitisch Forum biedt taallessen aan voor kinderen vanuit de gemeenschap\nDoor de verbinding te maken met de moedertaal krijgen kinderen meer mogelijkheden om het Nederlands als nieuwe taal te leren\, wat hun schoolprestaties en integratie ten goede komt \n🗓️ Iedere zondagnamiddag met uitzondering van de vakantieperiodes die van\ntoepassing zijn voor het Nederlandstalig onderwijs in Vlaanderen \n⏰ 14-16u  \n❔ Kinderen van 5 tot 14 jaar \n📍 Bindus\, Brederodestraat 188\, 2018 Antwerpen \n✍️ Inschrijven: Registratieformulier taalles \nℹ️ Inhoud van de lessen:\nbasisprincipes van lezen en schrijven\nEssentiële taalvaardigheden\nBasisgrammaticaregels\nwoordenschat en alledaagse uitdrukkingen\nCulturele verbondenheid\nIntegratie van het bovenstaande met het Nederlands om de integratie van leden van de          Jemenitische gemeenschap in de Belgische samenleving te bevorderen \n💶 Deelname: helemaal gratis  \n❔ Meer informatie via: Jameel.alalimi@hotmail.com of forumyemeni@gmail.com \n 
URL:https://bindusvzw.be/activiteiten/taalproject-jemenitisch-forum-8/
LOCATION:Bindus Antwerpen\, Brederodestraat 188\, Antwerpen\, antwerpen\, 2000\, België
CATEGORIES:Activiteit Leden
ORGANIZER;CN="Jemenitisch Forum":MAILTO:forumyemeni@gmail.com
END:VEVENT
BEGIN:VEVENT
DTSTART;TZID=Europe/Helsinki:20250406T140000
DTEND;TZID=Europe/Helsinki:20250406T160000
DTSTAMP:20260422T050329
CREATED:20250203T083250Z
LAST-MODIFIED:20250209T150247Z
UID:10000401-1743948000-1743955200@bindusvzw.be
SUMMARY:Taalproject Jemenitisch Forum
DESCRIPTION:Het Jemenitisch Forum biedt taallessen aan voor kinderen vanuit de gemeenschap\nDoor de verbinding te maken met de moedertaal krijgen kinderen meer mogelijkheden om het Nederlands als nieuwe taal te leren\, wat hun schoolprestaties en integratie ten goede komt \n🗓️ Iedere zondagnamiddag met uitzondering van de vakantieperiodes die van\ntoepassing zijn voor het Nederlandstalig onderwijs in Vlaanderen \n⏰ 14-16u  \n❔ Kinderen van 5 tot 14 jaar \n📍 Bindus\, Brederodestraat 188\, 2018 Antwerpen \n✍️ Inschrijven: Registratieformulier taalles \nℹ️ Inhoud van de lessen:\nbasisprincipes van lezen en schrijven\nEssentiële taalvaardigheden\nBasisgrammaticaregels\nwoordenschat en alledaagse uitdrukkingen\nCulturele verbondenheid\nIntegratie van het bovenstaande met het Nederlands om de integratie van leden van de          Jemenitische gemeenschap in de Belgische samenleving te bevorderen \n💶 Deelname: helemaal gratis  \n❔ Meer informatie via: Jameel.alalimi@hotmail.com of forumyemeni@gmail.com \n 
URL:https://bindusvzw.be/activiteiten/taalproject-jemenitisch-forum-7/
LOCATION:Bindus Antwerpen\, Brederodestraat 188\, Antwerpen\, antwerpen\, 2000\, België
CATEGORIES:Activiteit Leden
ORGANIZER;CN="Jemenitisch Forum":MAILTO:forumyemeni@gmail.com
END:VEVENT
BEGIN:VEVENT
DTSTART;TZID=Europe/Helsinki:20250330T140000
DTEND;TZID=Europe/Helsinki:20250330T160000
DTSTAMP:20260422T050329
CREATED:20250203T083218Z
LAST-MODIFIED:20250209T150225Z
UID:10000400-1743343200-1743350400@bindusvzw.be
SUMMARY:Taalproject Jemenitisch Forum
DESCRIPTION:Het Jemenitisch Forum biedt taallessen aan voor kinderen vanuit de gemeenschap\nDoor de verbinding te maken met de moedertaal krijgen kinderen meer mogelijkheden om het Nederlands als nieuwe taal te leren\, wat hun schoolprestaties en integratie ten goede komt \n🗓️ Iedere zondagnamiddag met uitzondering van de vakantieperiodes die van\ntoepassing zijn voor het Nederlandstalig onderwijs in Vlaanderen \n⏰ 14-16u  \n❔ Kinderen van 5 tot 14 jaar \n📍 Bindus\, Brederodestraat 188\, 2018 Antwerpen \n✍️ Inschrijven: Registratieformulier taalles \nℹ️ Inhoud van de lessen:\nbasisprincipes van lezen en schrijven\nEssentiële taalvaardigheden\nBasisgrammaticaregels\nwoordenschat en alledaagse uitdrukkingen\nCulturele verbondenheid\nIntegratie van het bovenstaande met het Nederlands om de integratie van leden van de          Jemenitische gemeenschap in de Belgische samenleving te bevorderen \n💶 Deelname: helemaal gratis  \n❔ Meer informatie via: Jameel.alalimi@hotmail.com of forumyemeni@gmail.com \n 
URL:https://bindusvzw.be/activiteiten/taalproject-jemenitisch-forum-6/
LOCATION:Bindus Antwerpen\, Brederodestraat 188\, Antwerpen\, antwerpen\, 2000\, België
CATEGORIES:Activiteit Leden
ORGANIZER;CN="Jemenitisch Forum":MAILTO:forumyemeni@gmail.com
END:VEVENT
BEGIN:VEVENT
DTSTART;TZID=Europe/Helsinki:20250323T140000
DTEND;TZID=Europe/Helsinki:20250323T160000
DTSTAMP:20260422T050329
CREATED:20250203T083142Z
LAST-MODIFIED:20250209T150204Z
UID:10000399-1742738400-1742745600@bindusvzw.be
SUMMARY:Taalproject Jemenitisch Forum
DESCRIPTION:Het Jemenitisch Forum biedt taallessen aan voor kinderen vanuit de gemeenschap\nDoor de verbinding te maken met de moedertaal krijgen kinderen meer mogelijkheden om het Nederlands als nieuwe taal te leren\, wat hun schoolprestaties en integratie ten goede komt \n🗓️ Iedere zondagnamiddag met uitzondering van de vakantieperiodes die van\ntoepassing zijn voor het Nederlandstalig onderwijs in Vlaanderen \n⏰ 14-16u  \n❔ Kinderen van 5 tot 14 jaar \n📍 Bindus\, Brederodestraat 188\, 2018 Antwerpen \n✍️ Inschrijven: Registratieformulier taalles \nℹ️ Inhoud van de lessen:\nbasisprincipes van lezen en schrijven\nEssentiële taalvaardigheden\nBasisgrammaticaregels\nwoordenschat en alledaagse uitdrukkingen\nCulturele verbondenheid\nIntegratie van het bovenstaande met het Nederlands om de integratie van leden van de          Jemenitische gemeenschap in de Belgische samenleving te bevorderen \n💶 Deelname: helemaal gratis  \n❔ Meer informatie via: Jameel.alalimi@hotmail.com of forumyemeni@gmail.com \n 
URL:https://bindusvzw.be/activiteiten/taalproject-jemenitisch-forum-5/
LOCATION:Bindus Antwerpen\, Brederodestraat 188\, Antwerpen\, antwerpen\, 2000\, België
CATEGORIES:Activiteit Leden
ORGANIZER;CN="Jemenitisch Forum":MAILTO:forumyemeni@gmail.com
END:VEVENT
BEGIN:VEVENT
DTSTART;TZID=Europe/Helsinki:20250316T140000
DTEND;TZID=Europe/Helsinki:20250316T160000
DTSTAMP:20260422T050329
CREATED:20250203T083005Z
LAST-MODIFIED:20250209T150138Z
UID:10000398-1742133600-1742140800@bindusvzw.be
SUMMARY:Taalproject Jemenitisch Forum
DESCRIPTION:Het Jemenitisch Forum biedt taallessen aan voor kinderen vanuit de gemeenschap\nDoor de verbinding te maken met de moedertaal krijgen kinderen meer mogelijkheden om het Nederlands als nieuwe taal te leren\, wat hun schoolprestaties en integratie ten goede komt \n🗓️ Iedere zondagnamiddag met uitzondering van de vakantieperiodes die van\ntoepassing zijn voor het Nederlandstalig onderwijs in Vlaanderen \n⏰ 14-16  \n❔ Kinderen van 5 tot 14 jaar \n📍 Bindus\, Brederodestraat 188\, 2018 Antwerpen \n✍️ Inschrijven: Registratieformulier taalles \nℹ️ Inhoud van de lessen:\nbasisprincipes van lezen en schrijven\nEssentiële taalvaardigheden\nBasisgrammaticaregels\nwoordenschat en alledaagse uitdrukkingen\nCulturele verbondenheid\nIntegratie van het bovenstaande met het Nederlands om de integratie van leden van de          Jemenitische gemeenschap in de Belgische samenleving te bevorderen \n💶 Deelname: helemaal gratis  \n❔ Meer informatie via: Jameel.alalimi@hotmail.com of forumyemeni@gmail.com \n 
URL:https://bindusvzw.be/activiteiten/taalproject-jemenitisch-forum-4/
LOCATION:Bindus Antwerpen\, Brederodestraat 188\, Antwerpen\, antwerpen\, 2000\, België
CATEGORIES:Activiteit Leden
ORGANIZER;CN="Jemenitisch Forum":MAILTO:forumyemeni@gmail.com
END:VEVENT
BEGIN:VEVENT
DTSTART;TZID=Europe/Helsinki:20250223T140000
DTEND;TZID=Europe/Helsinki:20250223T160000
DTSTAMP:20260422T050329
CREATED:20250203T082921Z
LAST-MODIFIED:20250209T150114Z
UID:10000397-1740319200-1740326400@bindusvzw.be
SUMMARY:Taalproject Jemenitisch Forum
DESCRIPTION:Het Jemenitisch Forum biedt taallessen aan voor kinderen vanuit de gemeenschap\nDoor de verbinding te maken met de moedertaal krijgen kinderen meer mogelijkheden om het Nederlands als nieuwe taal te leren\, wat hun schoolprestaties en integratie ten goede komt \n🗓️ Iedere zondagnamiddag met uitzondering van de vakantieperiodes die van\ntoepassing zijn voor het Nederlandstalig onderwijs in Vlaanderen \n⏰ 14-16u  \n❔ Kinderen van 5 tot 14 jaar \n📍 Bindus\, Brederodestraat 188\, 2018 Antwerpen \n✍️ Inschrijven: Registratieformulier taalles \nℹ️ Inhoud van de lessen:\nbasisprincipes van lezen en schrijven\nEssentiële taalvaardigheden\nBasisgrammaticaregels\nwoordenschat en alledaagse uitdrukkingen\nCulturele verbondenheid\nIntegratie van het bovenstaande met het Nederlands om de integratie van leden van de          Jemenitische gemeenschap in de Belgische samenleving te bevorderen \n💶 Deelname: helemaal gratis  \n❔ Meer informatie via: Jameel.alalimi@hotmail.com of forumyemeni@gmail.com \n 
URL:https://bindusvzw.be/activiteiten/taalproject-jemenitisch-forum-3/
LOCATION:Bindus Antwerpen\, Brederodestraat 188\, Antwerpen\, antwerpen\, 2000\, België
CATEGORIES:Activiteit Leden
ORGANIZER;CN="Jemenitisch Forum":MAILTO:forumyemeni@gmail.com
END:VEVENT
BEGIN:VEVENT
DTSTART;TZID=Europe/Helsinki:20250216T140000
DTEND;TZID=Europe/Helsinki:20250216T160000
DTSTAMP:20260422T050329
CREATED:20250203T082821Z
LAST-MODIFIED:20250209T150047Z
UID:10000396-1739714400-1739721600@bindusvzw.be
SUMMARY:Taalproject Jemenitisch Forum
DESCRIPTION:Het Jemenitisch Forum biedt taallessen aan voor kinderen vanuit de gemeenschap\nDoor de verbinding te maken met de moedertaal krijgen kinderen meer mogelijkheden om het Nederlands als nieuwe taal te leren\, wat hun schoolprestaties en integratie ten goede komt \n🗓️ Iedere zondagnamiddag met uitzondering van de vakantieperiodes die van\ntoepassing zijn voor het Nederlandstalig onderwijs in Vlaanderen \n⏰ 14-16u  \n❔ Kinderen van 5 tot 14 jaar \n📍 Bindus\, Brederodestraat 188\, 2018 Antwerpen \n✍️ Inschrijven: Registratieformulier taalles \nℹ️ Inhoud van de lessen:\nbasisprincipes van lezen en schrijven\nEssentiële taalvaardigheden\nBasisgrammaticaregels\nwoordenschat en alledaagse uitdrukkingen\nCulturele verbondenheid\nIntegratie van het bovenstaande met het Nederlands om de integratie van leden van de          Jemenitische gemeenschap in de Belgische samenleving te bevorderen \n💶 Deelname: helemaal gratis  \n❔ Meer informatie via: Jameel.alalimi@hotmail.com of forumyemeni@gmail.com \n 
URL:https://bindusvzw.be/activiteiten/taalproject-jemenitisch-forum-2/
LOCATION:Bindus Antwerpen\, Brederodestraat 188\, Antwerpen\, antwerpen\, 2000\, België
CATEGORIES:Activiteit Leden
ORGANIZER;CN="Jemenitisch Forum":MAILTO:forumyemeni@gmail.com
END:VEVENT
BEGIN:VEVENT
DTSTART;TZID=Europe/Helsinki:20250209T140000
DTEND;TZID=Europe/Helsinki:20250209T160000
DTSTAMP:20260422T050329
CREATED:20250130T142404Z
LAST-MODIFIED:20250209T150005Z
UID:10000395-1739109600-1739116800@bindusvzw.be
SUMMARY:Taalproject Jemenitisch Forum
DESCRIPTION:Het Jemenitisch Forum biedt taallessen aan voor kinderen vanuit de gemeenschap\nDoor de verbinding te maken met de moedertaal krijgen kinderen meer mogelijkheden om het Nederlands als nieuwe taal te leren\, wat hun schoolprestaties en integratie ten goede komt \n🗓️ Iedere zondagnamiddag met uitzondering van de vakantieperiodes die van\ntoepassing zijn voor het Nederlandstalig onderwijs in Vlaanderen \n⏰ 14-16u  \n❔ Kinderen van 5 tot 14 jaar \n📍 Bindus\, Brederodestraat 188\, 2018 Antwerpen \n✍️ Inschrijven: Registratieformulier taalles \nℹ️ Inhoud van de lessen:\nbasisprincipes van lezen en schrijven\nEssentiële taalvaardigheden\nBasisgrammaticaregels\nwoordenschat en alledaagse uitdrukkingen\nCulturele verbondenheid\nIntegratie van het bovenstaande met het Nederlands om de integratie van leden van de          Jemenitische gemeenschap in de Belgische samenleving te bevorderen \n💶 Deelname: helemaal gratis  \n❔ Meer informatie via: Jameel.alalimi@hotmail.com of forumyemeni@gmail.com \n 
URL:https://bindusvzw.be/activiteiten/taalproject-jemenitisch-forum/
LOCATION:Bindus Antwerpen\, Brederodestraat 188\, Antwerpen\, antwerpen\, 2000\, België
CATEGORIES:Activiteit Leden
ORGANIZER;CN="Jemenitisch Forum":MAILTO:forumyemeni@gmail.com
END:VEVENT
BEGIN:VEVENT
DTSTART;TZID=Europe/Helsinki:20250124T160000
DTEND;TZID=Europe/Helsinki:20250124T180000
DTSTAMP:20260422T050329
CREATED:20250121T132754Z
LAST-MODIFIED:20250121T141605Z
UID:10000391-1737734400-1737741600@bindusvzw.be
SUMMARY:SoepWarme Omhelzing
DESCRIPTION:WEFA Benelux nodigt je uit voor SoepWarme Omhelzing\, een hartverwarmende activiteit mogelijk gemaakt door de Bindussubsidie. Op deze eerste bijeenkomst delen we niet alleen warme soep\, maar ook warme woorden. \nOf je nu nieuwsgierig bent naar je buren of gewoon wilt genieten van een kopje soep in goed gezelschap\, iedereen is welkom! \nSamen bouwen we aan verbinding\, één lepel soep tegelijk. 🌟🥣 \n📍 Locatie: Halfmaanpleintje\, 2018 Antwerpen \n📅 Datum: 24 januari 2025 \n⏰ Uur: 16:00 – 18:00 \n🎟️ Toegang: Gratis voor iedereen
URL:https://bindusvzw.be/activiteiten/soepwarme-omhelzing/
LOCATION:Halfmaanpleintje\, Halfmaanpleintje\, Antwerpen\, Antwerpen\, 2018\, België
CATEGORIES:Activiteit Leden,Regionale Activiteit Antwerpen
ATTACH;FMTTYPE=image/png:https://bindusvzw.be/wp-content/uploads/2025/01/Wefa-soep.png
ORGANIZER;CN="WEFA Benelux":MAILTO:Brederodestraat 48, 2018 Antwerpen
END:VEVENT
END:VCALENDAR