BEGIN:VCALENDAR
VERSION:2.0
PRODID:-//Bindus vzw - ECPv6.15.20//NONSGML v1.0//EN
CALSCALE:GREGORIAN
METHOD:PUBLISH
X-ORIGINAL-URL:https://bindusvzw.be
X-WR-CALDESC:Evenementen voor Bindus vzw
REFRESH-INTERVAL;VALUE=DURATION:PT1H
X-Robots-Tag:noindex
X-PUBLISHED-TTL:PT1H
BEGIN:VTIMEZONE
TZID:Europe/Helsinki
BEGIN:DAYLIGHT
TZOFFSETFROM:+0200
TZOFFSETTO:+0300
TZNAME:EEST
DTSTART:20240331T010000
END:DAYLIGHT
BEGIN:STANDARD
TZOFFSETFROM:+0300
TZOFFSETTO:+0200
TZNAME:EET
DTSTART:20241027T010000
END:STANDARD
BEGIN:DAYLIGHT
TZOFFSETFROM:+0200
TZOFFSETTO:+0300
TZNAME:EEST
DTSTART:20250330T010000
END:DAYLIGHT
BEGIN:STANDARD
TZOFFSETFROM:+0300
TZOFFSETTO:+0200
TZNAME:EET
DTSTART:20251026T010000
END:STANDARD
BEGIN:DAYLIGHT
TZOFFSETFROM:+0200
TZOFFSETTO:+0300
TZNAME:EEST
DTSTART:20260329T010000
END:DAYLIGHT
BEGIN:STANDARD
TZOFFSETFROM:+0300
TZOFFSETTO:+0200
TZNAME:EET
DTSTART:20261025T010000
END:STANDARD
END:VTIMEZONE
BEGIN:VEVENT
DTSTART;TZID=Europe/Helsinki:20250927T120000
DTEND;TZID=Europe/Helsinki:20250927T200000
DTSTAMP:20260421T065646
CREATED:20250907T071404Z
LAST-MODIFIED:20250907T071404Z
UID:10001647-1758974400-1759003200@bindusvzw.be
SUMMARY:Let's Bind Us Festival
DESCRIPTION:Op zaterdag 27 september verandert het Operaplein van Antwerpen in een levendig ontmoetingsplek. Na de geslaagde editie van 2024 keert het gratis stadsfestival Let’s Bind Us terug.  \n \nGeniet van muziek\, dans\, eten en een interculturele markt die de stad doet bruisen. Ook dit jaar hebben we een gevarieerd aanbod van optredens voorzien\, zodat er voor ieder wat wils is. Of je nu bewust of toevallig passeert: Let’s Bind Us is er voor iedereen. Dit initiatief van Bindus vzw staat volledig in het teken van verbinding.
URL:https://bindusvzw.be/activiteiten/lets-bind-us-festival/
LOCATION:Operaplein\, Operaplein 1\, Antwerpen\, 2000
ORGANIZER;CN="Bindus vzw":MAILTO:info@bindusvzw.be
END:VEVENT
END:VCALENDAR