BEGIN:VCALENDAR
VERSION:2.0
PRODID:-//Bindus vzw - ECPv6.15.20//NONSGML v1.0//EN
CALSCALE:GREGORIAN
METHOD:PUBLISH
X-ORIGINAL-URL:https://bindusvzw.be
X-WR-CALDESC:Evenementen voor Bindus vzw
REFRESH-INTERVAL;VALUE=DURATION:PT1H
X-Robots-Tag:noindex
X-PUBLISHED-TTL:PT1H
BEGIN:VTIMEZONE
TZID:Europe/Helsinki
BEGIN:DAYLIGHT
TZOFFSETFROM:+0200
TZOFFSETTO:+0300
TZNAME:EEST
DTSTART:20240331T010000
END:DAYLIGHT
BEGIN:STANDARD
TZOFFSETFROM:+0300
TZOFFSETTO:+0200
TZNAME:EET
DTSTART:20241027T010000
END:STANDARD
BEGIN:DAYLIGHT
TZOFFSETFROM:+0200
TZOFFSETTO:+0300
TZNAME:EEST
DTSTART:20250330T010000
END:DAYLIGHT
BEGIN:STANDARD
TZOFFSETFROM:+0300
TZOFFSETTO:+0200
TZNAME:EET
DTSTART:20251026T010000
END:STANDARD
BEGIN:DAYLIGHT
TZOFFSETFROM:+0200
TZOFFSETTO:+0300
TZNAME:EEST
DTSTART:20260329T010000
END:DAYLIGHT
BEGIN:STANDARD
TZOFFSETFROM:+0300
TZOFFSETTO:+0200
TZNAME:EET
DTSTART:20261025T010000
END:STANDARD
END:VTIMEZONE
BEGIN:VEVENT
DTSTART;TZID=Europe/Helsinki:20251207T131000
DTEND;TZID=Europe/Helsinki:20251207T173000
DTSTAMP:20260420T045738
CREATED:20250807T123916Z
LAST-MODIFIED:20250807T123916Z
UID:10001449-1765113000-1765128600@bindusvzw.be
SUMMARY:Volksdansgroep "Izvor"
DESCRIPTION:Danslessen in Bulgaarse traditionele volksdansen \n🗓️ Iedere zondag met uitzondering van de schoolvakanties en feestdagen \n⏰ 13u10-14u: kinderdansgroep “Izvor”\n⏰14u10- 15u10: beginners\n ⏰ 15u20- 16u20: semi-gevorderde dansers\n⏰ 16u30-17u30: gevorderde dansers       \n📍 Academie Hoboken\, Lageweg 141\, 2660 Hoboken \n✨ Mee te nemen: dansschoenen en comfortabele danskleding en een flesje water \n💶 Deelname: afhankelijk van de inschrijving \n🖊️ inschrijven via info@izvor.be
URL:https://bindusvzw.be/activiteiten/volksdansgroep-izvor-41/
LOCATION:Academie Hoboken\, Lageweg 141\, Antwerpen\, 2660
CATEGORIES:Activiteit Leden
ATTACH;FMTTYPE=image/jpeg:https://bindusvzw.be/wp-content/uploads/2024/12/2024_Folder_6.jpeg
ORGANIZER;CN="Izvor vzw":MAILTO:info@izvor.be
END:VEVENT
BEGIN:VEVENT
DTSTART;TZID=Europe/Helsinki:20251214T131000
DTEND;TZID=Europe/Helsinki:20251214T173000
DTSTAMP:20260420T045738
CREATED:20250807T123957Z
LAST-MODIFIED:20250807T123957Z
UID:10001450-1765717800-1765733400@bindusvzw.be
SUMMARY:Volksdansgroep "Izvor"
DESCRIPTION:Danslessen in Bulgaarse traditionele volksdansen \n🗓️ Iedere zondag met uitzondering van de schoolvakanties en feestdagen \n⏰ 13u10-14u: kinderdansgroep “Izvor”\n⏰14u10- 15u10: beginners\n ⏰ 15u20- 16u20: semi-gevorderde dansers\n⏰ 16u30-17u30: gevorderde dansers       \n📍 Academie Hoboken\, Lageweg 141\, 2660 Hoboken \n✨ Mee te nemen: dansschoenen en comfortabele danskleding en een flesje water \n💶 Deelname: afhankelijk van de inschrijving \n🖊️ inschrijven via info@izvor.be
URL:https://bindusvzw.be/activiteiten/volksdansgroep-izvor-42/
LOCATION:Academie Hoboken\, Lageweg 141\, Antwerpen\, 2660
CATEGORIES:Activiteit Leden
ATTACH;FMTTYPE=image/jpeg:https://bindusvzw.be/wp-content/uploads/2024/12/2024_Folder_6.jpeg
ORGANIZER;CN="Izvor vzw":MAILTO:info@izvor.be
END:VEVENT
BEGIN:VEVENT
DTSTART;TZID=Europe/Helsinki:20251220T143000
DTEND;TZID=Europe/Helsinki:20251220T170000
DTSTAMP:20260420T045738
CREATED:20241116T110926Z
LAST-MODIFIED:20250728T135601Z
UID:10000088-1766241000-1766250000@bindusvzw.be
SUMMARY:Wandel naar jezelf - met Womanifest
DESCRIPTION:Zin in een ontspannend én verbindende wandeling?\nElke derde zondag van de maand organiseert Womanifest een wandeling doorheen het prachtige Polderbos in Hoboken. \n🗓️ Elke derde zondag van de maand\, nu 16/11 \n⏰ Van 14.30 tot 17.00 \n📍 Verzamelen om 14.30 uur aan STAERK GYM – Kapelstraat 70\, Hoboken \n💶 Deelname: Slechts 5 euro per persoon \n  \n👶 Kinderopvang nodig?\nGeen zorgen\, Womanifest heeft eraan gedacht! Terwijl jij geniet\, worden je kinderen vermaakt met leuke animatie. Vergeet niet een hapje en drankje voor hen mee te nemen. \nOpvangkosten: \n\n1 kind: 5 euro\n2 kinderen: 4 euro per kind\n3 kinderen: 3 euro per kind\n\n✨ Voel jij het al kriebelen?\nSchrijf je snel in via info@womanifest.be! \n💡 Nog niet bekend met Womanifest?\nDit is een inclusieve vereniging voor en door vrouwen 💕. Hier vind je een safe space om jezelf te zijn\, nieuwe grenzen te verkennen\, en te groeien in verbinding\, educatie en welzijn.
URL:https://bindusvzw.be/activiteiten/wandel-naar-jezelf-met-womanifest/2025-12-20/
LOCATION:STAERK GYM\, Hoboken\, Kapelstraat 70\, Hoboken\, Antwerpen\, 2660\, België
CATEGORIES:Activiteit Leden
ORGANIZER;CN="Womanifest":MAILTO:info@womanifest.be
END:VEVENT
BEGIN:VEVENT
DTSTART;TZID=Europe/Helsinki:20251221T131000
DTEND;TZID=Europe/Helsinki:20251221T173000
DTSTAMP:20260420T045738
CREATED:20250807T124048Z
LAST-MODIFIED:20250807T124048Z
UID:10001451-1766322600-1766338200@bindusvzw.be
SUMMARY:Volksdansgroep "Izvor"
DESCRIPTION:Danslessen in Bulgaarse traditionele volksdansen \n🗓️ Iedere zondag met uitzondering van de schoolvakanties en feestdagen \n⏰ 13u10-14u: kinderdansgroep “Izvor”\n⏰14u10- 15u10: beginners\n ⏰ 15u20- 16u20: semi-gevorderde dansers\n⏰ 16u30-17u30: gevorderde dansers       \n📍 Academie Hoboken\, Lageweg 141\, 2660 Hoboken \n✨ Mee te nemen: dansschoenen en comfortabele danskleding en een flesje water \n💶 Deelname: afhankelijk van de inschrijving \n🖊️ inschrijven via info@izvor.be
URL:https://bindusvzw.be/activiteiten/volksdansgroep-izvor-43/
LOCATION:Academie Hoboken\, Lageweg 141\, Antwerpen\, 2660
CATEGORIES:Activiteit Leden
ATTACH;FMTTYPE=image/jpeg:https://bindusvzw.be/wp-content/uploads/2024/12/2024_Folder_6.jpeg
ORGANIZER;CN="Izvor vzw":MAILTO:info@izvor.be
END:VEVENT
END:VCALENDAR