BEGIN:VCALENDAR
VERSION:2.0
PRODID:-//Bindus vzw - ECPv6.15.20//NONSGML v1.0//EN
CALSCALE:GREGORIAN
METHOD:PUBLISH
X-WR-CALNAME:Bindus vzw
X-ORIGINAL-URL:https://bindusvzw.be
X-WR-CALDESC:Evenementen voor Bindus vzw
REFRESH-INTERVAL;VALUE=DURATION:PT1H
X-Robots-Tag:noindex
X-PUBLISHED-TTL:PT1H
BEGIN:VTIMEZONE
TZID:Europe/Helsinki
BEGIN:DAYLIGHT
TZOFFSETFROM:+0200
TZOFFSETTO:+0300
TZNAME:EEST
DTSTART:20250330T010000
END:DAYLIGHT
BEGIN:STANDARD
TZOFFSETFROM:+0300
TZOFFSETTO:+0200
TZNAME:EET
DTSTART:20251026T010000
END:STANDARD
BEGIN:DAYLIGHT
TZOFFSETFROM:+0200
TZOFFSETTO:+0300
TZNAME:EEST
DTSTART:20260329T010000
END:DAYLIGHT
BEGIN:STANDARD
TZOFFSETFROM:+0300
TZOFFSETTO:+0200
TZNAME:EET
DTSTART:20261025T010000
END:STANDARD
BEGIN:DAYLIGHT
TZOFFSETFROM:+0200
TZOFFSETTO:+0300
TZNAME:EEST
DTSTART:20270328T010000
END:DAYLIGHT
BEGIN:STANDARD
TZOFFSETFROM:+0300
TZOFFSETTO:+0200
TZNAME:EET
DTSTART:20271031T010000
END:STANDARD
END:VTIMEZONE
BEGIN:VEVENT
DTSTART;TZID=Europe/Helsinki:20260707T140000
DTEND;TZID=Europe/Helsinki:20260707T163000
DTSTAMP:20260420T051637
CREATED:20250916T122237Z
LAST-MODIFIED:20250916T122237Z
UID:10001691-1783432800-1783441800@bindusvzw.be
SUMMARY:Gesprekken op dinsdag met Dusod
DESCRIPTION:Bewustwordingsgesprek met de coaches van Dusod\nIedere dinsdag organiseert coach Yurdagül een online\ngespreksmoment dat gericht is op persoonlijke groei\nen de verbinding met jezelf. Creëer meer bewustzijn\nbij jezelf en de wereld om je heen. \n🗓️ Iedere dinsdag \n🕑 start om 14u \n📍online via Zoom \n💶 Deelname: gratis  \n✨ Iedereen is welkom \n🌍 DUSOD HOLISTISCHE ADEMHALINGSACADEMIDIE is ICF gecertificeerd 🌍 \n🖊️ Meer informatie en inschrijven via Yurdagulcengiz@hotmail.com \n 
URL:https://bindusvzw.be/activiteiten/gesprekken-op-dinsdag-met-dusod-43/
LOCATION:Online\, België
CATEGORIES:Activiteit Leden
ATTACH;FMTTYPE=image/webp:https://bindusvzw.be/wp-content/uploads/2025/04/logo-dusod.webp
END:VEVENT
BEGIN:VEVENT
DTSTART;TZID=Europe/Helsinki:20260714T140000
DTEND;TZID=Europe/Helsinki:20260714T163000
DTSTAMP:20260420T051637
CREATED:20250916T122311Z
LAST-MODIFIED:20250916T122311Z
UID:10001692-1784037600-1784046600@bindusvzw.be
SUMMARY:Gesprekken op dinsdag met Dusod
DESCRIPTION:Bewustwordingsgesprek met de coaches van Dusod\nIedere dinsdag organiseert coach Yurdagül een online\ngespreksmoment dat gericht is op persoonlijke groei\nen de verbinding met jezelf. Creëer meer bewustzijn\nbij jezelf en de wereld om je heen. \n🗓️ Iedere dinsdag \n🕑 start om 14u \n📍online via Zoom \n💶 Deelname: gratis  \n✨ Iedereen is welkom \n🌍 DUSOD HOLISTISCHE ADEMHALINGSACADEMIDIE is ICF gecertificeerd 🌍 \n🖊️ Meer informatie en inschrijven via Yurdagulcengiz@hotmail.com \n 
URL:https://bindusvzw.be/activiteiten/gesprekken-op-dinsdag-met-dusod-44/
LOCATION:Online\, België
CATEGORIES:Activiteit Leden
ATTACH;FMTTYPE=image/webp:https://bindusvzw.be/wp-content/uploads/2025/04/logo-dusod.webp
END:VEVENT
BEGIN:VEVENT
DTSTART;TZID=Europe/Helsinki:20260721T140000
DTEND;TZID=Europe/Helsinki:20260721T163000
DTSTAMP:20260420T051637
CREATED:20250916T122351Z
LAST-MODIFIED:20250916T122351Z
UID:10001693-1784642400-1784651400@bindusvzw.be
SUMMARY:Gesprekken op dinsdag met Dusod
DESCRIPTION:Bewustwordingsgesprek met de coaches van Dusod\nIedere dinsdag organiseert coach Yurdagül een online\ngespreksmoment dat gericht is op persoonlijke groei\nen de verbinding met jezelf. Creëer meer bewustzijn\nbij jezelf en de wereld om je heen. \n🗓️ Iedere dinsdag \n🕑 start om 14u \n📍online via Zoom \n💶 Deelname: gratis  \n✨ Iedereen is welkom \n🌍 DUSOD HOLISTISCHE ADEMHALINGSACADEMIDIE is ICF gecertificeerd 🌍 \n🖊️ Meer informatie en inschrijven via Yurdagulcengiz@hotmail.com \n 
URL:https://bindusvzw.be/activiteiten/gesprekken-op-dinsdag-met-dusod-45/
LOCATION:Online\, België
CATEGORIES:Activiteit Leden
ATTACH;FMTTYPE=image/webp:https://bindusvzw.be/wp-content/uploads/2025/04/logo-dusod.webp
END:VEVENT
BEGIN:VEVENT
DTSTART;TZID=Europe/Helsinki:20260728T140000
DTEND;TZID=Europe/Helsinki:20260728T163000
DTSTAMP:20260420T051637
CREATED:20250916T122434Z
LAST-MODIFIED:20250916T122434Z
UID:10001694-1785247200-1785256200@bindusvzw.be
SUMMARY:Gesprekken op dinsdag met Dusod
DESCRIPTION:Bewustwordingsgesprek met de coaches van Dusod\nIedere dinsdag organiseert coach Yurdagül een online\ngespreksmoment dat gericht is op persoonlijke groei\nen de verbinding met jezelf. Creëer meer bewustzijn\nbij jezelf en de wereld om je heen. \n🗓️ Iedere dinsdag \n🕑 start om 14u \n📍online via Zoom \n💶 Deelname: gratis  \n✨ Iedereen is welkom \n🌍 DUSOD HOLISTISCHE ADEMHALINGSACADEMIDIE is ICF gecertificeerd 🌍 \n🖊️ Meer informatie en inschrijven via Yurdagulcengiz@hotmail.com \n 
URL:https://bindusvzw.be/activiteiten/gesprekken-op-dinsdag-met-dusod-46/
LOCATION:Online\, België
CATEGORIES:Activiteit Leden
ATTACH;FMTTYPE=image/webp:https://bindusvzw.be/wp-content/uploads/2025/04/logo-dusod.webp
END:VEVENT
END:VCALENDAR