BEGIN:VCALENDAR
VERSION:2.0
PRODID:-//Bindus vzw - ECPv6.15.20//NONSGML v1.0//EN
CALSCALE:GREGORIAN
METHOD:PUBLISH
X-ORIGINAL-URL:https://bindusvzw.be
X-WR-CALDESC:Evenementen voor Bindus vzw
REFRESH-INTERVAL;VALUE=DURATION:PT1H
X-Robots-Tag:noindex
X-PUBLISHED-TTL:PT1H
BEGIN:VTIMEZONE
TZID:Europe/Helsinki
BEGIN:DAYLIGHT
TZOFFSETFROM:+0200
TZOFFSETTO:+0300
TZNAME:EEST
DTSTART:20230326T010000
END:DAYLIGHT
BEGIN:STANDARD
TZOFFSETFROM:+0300
TZOFFSETTO:+0200
TZNAME:EET
DTSTART:20231029T010000
END:STANDARD
BEGIN:DAYLIGHT
TZOFFSETFROM:+0200
TZOFFSETTO:+0300
TZNAME:EEST
DTSTART:20240331T010000
END:DAYLIGHT
BEGIN:STANDARD
TZOFFSETFROM:+0300
TZOFFSETTO:+0200
TZNAME:EET
DTSTART:20241027T010000
END:STANDARD
BEGIN:DAYLIGHT
TZOFFSETFROM:+0200
TZOFFSETTO:+0300
TZNAME:EEST
DTSTART:20250330T010000
END:DAYLIGHT
BEGIN:STANDARD
TZOFFSETFROM:+0300
TZOFFSETTO:+0200
TZNAME:EET
DTSTART:20251026T010000
END:STANDARD
BEGIN:DAYLIGHT
TZOFFSETFROM:+0200
TZOFFSETTO:+0300
TZNAME:EEST
DTSTART:20260329T010000
END:DAYLIGHT
BEGIN:STANDARD
TZOFFSETFROM:+0300
TZOFFSETTO:+0200
TZNAME:EET
DTSTART:20261025T010000
END:STANDARD
END:VTIMEZONE
BEGIN:VEVENT
DTSTART;TZID=Europe/Helsinki:20251005T140000
DTEND;TZID=Europe/Helsinki:20251005T170000
DTSTAMP:20260422T051910
CREATED:20250907T070235Z
LAST-MODIFIED:20250907T070501Z
UID:10001646-1759672800-1759683600@bindusvzw.be
SUMMARY:Ga mee op taalreis met Tülin Erkan
DESCRIPTION:Taal is een plek om in te wonen maar wat doe je als thuis meerdere plekken is? \nIn deze lezing ga je mee op taalreis: een zoektocht naar de wortels en kiemen van de talen waaruit schrijver Tülin Erkan put. Opgegroeid in een meertalig nest\, voelt Tülin hoe taal bruggen kan slaan tussen mensen\, culturen en werelden. Deze lezing is een morele ode aan meertaligheid. Na afloop van de lezing ben je welkom op een gezellige gedachtewisseling met het diverse publiek. \nMet een lezing van auteur Tülin Erkan rond taligheid brengen we de veelzijdigheid van het Nederlands onder de aandacht. Ze groeide op in een meertalig nest\, onder de vleugels van een Franstalige moeder en een Engelstalige grootmoeder. Haar zomers bracht ze door bij haar vader in Turkije. Ze voelt zich daarom niet half maar dubbel. Ze vertelt graag over haar schrijfproces\, over de clash tussen moeder- en vadertaal\, over hoe vreemd de dingen soms lopen\, over toeval en geluk\, over schrijfangst en -durf. Zo creëert ze raakvlakken met het publiek\, ergens tussen boek\, mens en taal in. \nTülin Erkan debuteerde in 2021 met de roman Honingeter bij Uitgeverij Pelckmans. Het boek haalde de shortlist van zowel de Boon Literatuurprijs als De Bronzen Uil en de longlist van de Boekenbon Literatuurprijs. Momenteel werkt ze aan haar tweede roman. \nDeze activiteit is een samenwerking tussen Willemsfonds Deurne\, Bindus vzw\, het Huis van de Mens Antwerpen en het Letterenhuis in het kader van de Week van het Nederlands met steun van Literatuur Vlaanderen en auteurslezingen en Willemsfonds. \nNa de lezing reflecteert Karin Heremans\, directeur Koninklijk Atheneum Antwerpen en tevens taalkundige (Romaanse talen)\, over meertaligheid in een onderwijscontext ter opening van het gesprek met de aanwezigen. \nTer afsluiting wordt er een drankje aangeboden. \n🎟️ Tickets: €5 (storten op BE86 0016 9251 9250\, t.n.v. WF Deurne + mail naar ludovic.storme@telenet.be) \n📍 Letterenhuis\, Minderbroedersstraat 22\, 2000 Antwerpen\n📅 Zondag 5 oktober 2025 – 14:00 \n💡 Goed om te weten: Bindus heeft 20 vrijkaarten beschikbaar. Lidverenigingen die interesse hebben\, kunnen hun ondersteuningscoach contacteren.
URL:https://bindusvzw.be/activiteiten/ga-mee-op-taalreis-met-tulin-erkan/
LOCATION:Letterenhuis\, Minderbroedersstraat 22\, Antwerpen\, Antwerpen\, 2000\, België
ATTACH;FMTTYPE=image/jpeg:https://bindusvzw.be/wp-content/uploads/2025/09/20251005-foto-tulin-erkan-©-Wouter-Van-Vooren.jpg
END:VEVENT
BEGIN:VEVENT
DTSTART;TZID=Europe/Helsinki:20240309T153000
DTEND;TZID=Europe/Helsinki:20240309T170000
DTSTAMP:20260422T051910
CREATED:20250804T115123Z
LAST-MODIFIED:20250804T115123Z
UID:10001421-1709998200-1710003600@bindusvzw.be
SUMMARY:Womanifest (powered by Grow2) organiseert een lezing
DESCRIPTION:Gezonde voeding\, gezond winkelen \nWat is gezonde voeding en hoe vinden we juist die gezonde voedingsmiddelen in de winkel?\nDiëtisten Els Boeynaems en Sinem Ünal leggen het graag uit\, in een intieme kleine groep vergezeld van een hapje en drankje. \n🗓️ 9 maart \n⏰ 15.30u  \n📍 Costa– Sint Andries \, Antwerpen \n💶 Deelname: 5 euro per persoon \n✨ inclusief hapje en drankje \n🖊️ inschrijven via info@womanifest.be \n 
URL:https://bindusvzw.be/activiteiten/womanifest-organiseert-een-lezing/
LOCATION:Costa\, Sint Andries\, Antwerpen
CATEGORIES:Activiteit Leden
ORGANIZER;CN="Womanifest":MAILTO:info@womanifest.be
END:VEVENT
END:VCALENDAR