BEGIN:VCALENDAR
VERSION:2.0
PRODID:-//Bindus vzw - ECPv6.15.20//NONSGML v1.0//EN
CALSCALE:GREGORIAN
METHOD:PUBLISH
X-ORIGINAL-URL:https://bindusvzw.be
X-WR-CALDESC:Evenementen voor Bindus vzw
REFRESH-INTERVAL;VALUE=DURATION:PT1H
X-Robots-Tag:noindex
X-PUBLISHED-TTL:PT1H
BEGIN:VTIMEZONE
TZID:Europe/Helsinki
BEGIN:DAYLIGHT
TZOFFSETFROM:+0200
TZOFFSETTO:+0300
TZNAME:EEST
DTSTART:20240331T010000
END:DAYLIGHT
BEGIN:STANDARD
TZOFFSETFROM:+0300
TZOFFSETTO:+0200
TZNAME:EET
DTSTART:20241027T010000
END:STANDARD
BEGIN:DAYLIGHT
TZOFFSETFROM:+0200
TZOFFSETTO:+0300
TZNAME:EEST
DTSTART:20250330T010000
END:DAYLIGHT
BEGIN:STANDARD
TZOFFSETFROM:+0300
TZOFFSETTO:+0200
TZNAME:EET
DTSTART:20251026T010000
END:STANDARD
BEGIN:DAYLIGHT
TZOFFSETFROM:+0200
TZOFFSETTO:+0300
TZNAME:EEST
DTSTART:20260329T010000
END:DAYLIGHT
BEGIN:STANDARD
TZOFFSETFROM:+0300
TZOFFSETTO:+0200
TZNAME:EET
DTSTART:20261025T010000
END:STANDARD
END:VTIMEZONE
BEGIN:VEVENT
DTSTART;TZID=Europe/Helsinki:20251001T153000
DTEND;TZID=Europe/Helsinki:20251001T183000
DTSTAMP:20260420T222103
CREATED:20250904T115033Z
LAST-MODIFIED:20250904T115033Z
UID:10001523-1759332600-1759343400@bindusvzw.be
SUMMARY:Voetbalacademy van Galaxy Academy
DESCRIPTION:De perfecte balans tussen plezier en leren via de voetbalacademy\n  \nSinds 2021 verwelkomt Galaxy Academy alle kinderen\,\nongeacht hun niveau\, om hun sportieve en persoonlijke vaardigheden te ontwikkelen in een inclusieve omgeving waar plezier en essentiële waarden centraal staan in hun aanpak. \n🗓️ Iedere woensdag met uitzondering van de zomervakantie (juli en augustus) \n⏰ 15u30-16u30: U6-U8\n \n⏰ 16u30-17u30: U9-U11 \n⏰ 17u30-18u30: U12-U14 \n📍 Atheneum Go! 4 Business\, Toverfluitstraat 19/21\, 1080 Sint-Jans-Molenbeek \n💶 afhankelijk van de inschrijving* \n🖊️ inschrijven en meer informatie via galaxyacademy@outlook.be
URL:https://bindusvzw.be/activiteiten/voetbalacademy-van-galaxy-academy-4/
LOCATION:Atheneum Go! 4 Business\, Toverfluitstraat 19/21\, 1080
CATEGORIES:Activiteit Leden
ORGANIZER;CN="Galaxy Academy":MAILTO:galaxyacademy@outlook.be
END:VEVENT
BEGIN:VEVENT
DTSTART;TZID=Europe/Helsinki:20251004T130000
DTEND;TZID=Europe/Helsinki:20251004T170000
DTSTAMP:20260420T222103
CREATED:20250904T123901Z
LAST-MODIFIED:20250904T123901Z
UID:10001565-1759582800-1759597200@bindusvzw.be
SUMMARY:Voetbalacademy van Galaxy Academy
DESCRIPTION:De perfecte balans tussen plezier en leren via de voetbalacademy\n  \nSinds 2021 verwelkomt Galaxy Academy alle kinderen\,\nongeacht hun niveau\, om hun sportieve en persoonlijke vaardigheden te ontwikkelen in een inclusieve omgeving waar plezier en essentiële waarden centraal staan in hun aanpak. \n🗓️ Iedere zaterdag met uitzondering van de zomervakantie (juli en augustus) \n⏰ 13u00-14u00: U6-U7\n \n⏰ 14u30-15u00: U8-U9 \n⏰ 15u00-16u00: U10-U11 \n⏰ 16u00-17u00: U12-U14 \n📍 Sporthal St- Michel\, Picardstraat 170\, 1080 Sint-Jans-Molenbeek \n💶 afhankelijk van de inschrijving* \n🖊️ inschrijven en meer informatie via galaxyacademy@outlook.be
URL:https://bindusvzw.be/activiteiten/voetbalacademy-van-galaxy-academy-46/
LOCATION:Sporthal ST-Michel\, Picardstraat 170\, 1080\, België
CATEGORIES:Activiteit Leden
ATTACH;FMTTYPE=image/png:https://bindusvzw.be/wp-content/uploads/2025/09/Galaxy-Academy-Logo-Square.png
ORGANIZER;CN="Galaxy Academy":MAILTO:galaxyacademy@outlook.be
END:VEVENT
BEGIN:VEVENT
DTSTART;TZID=Europe/Helsinki:20251005T150000
DTEND;TZID=Europe/Helsinki:20251005T172000
DTSTAMP:20260420T222103
CREATED:20250904T133826Z
LAST-MODIFIED:20250904T133826Z
UID:10001607-1759676400-1759684800@bindusvzw.be
SUMMARY:Voetbalacademy van Galaxy Academy
DESCRIPTION:De perfecte balans tussen plezier en leren via de voetbalacademy\n  \nSinds 2021 verwelkomt Galaxy Academy alle kinderen\,\nongeacht hun niveau\, om hun sportieve en persoonlijke vaardigheden te ontwikkelen in een inclusieve omgeving waar plezier en essentiële waarden centraal staan in hun aanpak. \n🗓️ Iedere zondag met uitzondering van de zomervakantie (juli en augustus) \n⏰ 15u00-16u10: U6-U10 \n⏰ 16u100-17u20: U11-U14 \n📍 Sippelbergstadion\, Mahatma Gandilaan 5\, 1080 Sint-Jans-Molenbeek \n💶 afhankelijk van de inschrijving* \n🖊️ inschrijven en meer informatie via galaxyacademy@outlook.be
URL:https://bindusvzw.be/activiteiten/voetbalacademy-van-galaxy-academy-88/
LOCATION:Sippelbergstadion\, MahatmaGandilaan 5\, Sint-Jans-Molenbeek\, 1080\, België
CATEGORIES:Activiteit Leden
ATTACH;FMTTYPE=image/png:https://bindusvzw.be/wp-content/uploads/2025/09/Galaxy-Academy-Logo-Square.png
ORGANIZER;CN="Galaxy Academy":MAILTO:galaxyacademy@outlook.be
END:VEVENT
BEGIN:VEVENT
DTSTART;TZID=Europe/Helsinki:20251008T153000
DTEND;TZID=Europe/Helsinki:20251008T183000
DTSTAMP:20260420T222103
CREATED:20250904T115116Z
LAST-MODIFIED:20250904T115116Z
UID:10001524-1759937400-1759948200@bindusvzw.be
SUMMARY:Voetbalacademy van Galaxy Academy
DESCRIPTION:De perfecte balans tussen plezier en leren via de voetbalacademy\n  \nSinds 2021 verwelkomt Galaxy Academy alle kinderen\,\nongeacht hun niveau\, om hun sportieve en persoonlijke vaardigheden te ontwikkelen in een inclusieve omgeving waar plezier en essentiële waarden centraal staan in hun aanpak. \n🗓️ Iedere woensdag met uitzondering van de zomervakantie (juli en augustus) \n⏰ 15u30-16u30: U6-U8\n \n⏰ 16u30-17u30: U9-U11 \n⏰ 17u30-18u30: U12-U14 \n📍 Atheneum Go! 4 Business\, Toverfluitstraat 19/21\, 1080 Sint-Jans-Molenbeek \n💶 afhankelijk van de inschrijving* \n🖊️ inschrijven en meer informatie via galaxyacademy@outlook.be
URL:https://bindusvzw.be/activiteiten/voetbalacademy-van-galaxy-academy-5/
LOCATION:Atheneum Go! 4 Business\, Toverfluitstraat 19/21\, 1080
CATEGORIES:Activiteit Leden
ORGANIZER;CN="Galaxy Academy":MAILTO:galaxyacademy@outlook.be
END:VEVENT
BEGIN:VEVENT
DTSTART;TZID=Europe/Helsinki:20251011T130000
DTEND;TZID=Europe/Helsinki:20251011T170000
DTSTAMP:20260420T222103
CREATED:20250904T123922Z
LAST-MODIFIED:20250904T123922Z
UID:10001566-1760187600-1760202000@bindusvzw.be
SUMMARY:Voetbalacademy van Galaxy Academy
DESCRIPTION:De perfecte balans tussen plezier en leren via de voetbalacademy\n  \nSinds 2021 verwelkomt Galaxy Academy alle kinderen\,\nongeacht hun niveau\, om hun sportieve en persoonlijke vaardigheden te ontwikkelen in een inclusieve omgeving waar plezier en essentiële waarden centraal staan in hun aanpak. \n🗓️ Iedere zaterdag met uitzondering van de zomervakantie (juli en augustus) \n⏰ 13u00-14u00: U6-U7\n \n⏰ 14u30-15u00: U8-U9 \n⏰ 15u00-16u00: U10-U11 \n⏰ 16u00-17u00: U12-U14 \n📍 Sporthal St- Michel\, Picardstraat 170\, 1080 Sint-Jans-Molenbeek \n💶 afhankelijk van de inschrijving* \n🖊️ inschrijven en meer informatie via galaxyacademy@outlook.be
URL:https://bindusvzw.be/activiteiten/voetbalacademy-van-galaxy-academy-47/
LOCATION:Sporthal ST-Michel\, Picardstraat 170\, 1080\, België
CATEGORIES:Activiteit Leden
ATTACH;FMTTYPE=image/png:https://bindusvzw.be/wp-content/uploads/2025/09/Galaxy-Academy-Logo-Square.png
ORGANIZER;CN="Galaxy Academy":MAILTO:galaxyacademy@outlook.be
END:VEVENT
BEGIN:VEVENT
DTSTART;TZID=Europe/Helsinki:20251012T150000
DTEND;TZID=Europe/Helsinki:20251012T172000
DTSTAMP:20260420T222103
CREATED:20250904T133845Z
LAST-MODIFIED:20250904T133845Z
UID:10001608-1760281200-1760289600@bindusvzw.be
SUMMARY:Voetbalacademy van Galaxy Academy
DESCRIPTION:De perfecte balans tussen plezier en leren via de voetbalacademy\n  \nSinds 2021 verwelkomt Galaxy Academy alle kinderen\,\nongeacht hun niveau\, om hun sportieve en persoonlijke vaardigheden te ontwikkelen in een inclusieve omgeving waar plezier en essentiële waarden centraal staan in hun aanpak. \n🗓️ Iedere zondag met uitzondering van de zomervakantie (juli en augustus) \n⏰ 15u00-16u10: U6-U10 \n⏰ 16u100-17u20: U11-U14 \n📍 Sippelbergstadion\, Mahatma Gandilaan 5\, 1080 Sint-Jans-Molenbeek \n💶 afhankelijk van de inschrijving* \n🖊️ inschrijven en meer informatie via galaxyacademy@outlook.be
URL:https://bindusvzw.be/activiteiten/voetbalacademy-van-galaxy-academy-89/
LOCATION:Sippelbergstadion\, MahatmaGandilaan 5\, Sint-Jans-Molenbeek\, 1080\, België
CATEGORIES:Activiteit Leden
ATTACH;FMTTYPE=image/png:https://bindusvzw.be/wp-content/uploads/2025/09/Galaxy-Academy-Logo-Square.png
ORGANIZER;CN="Galaxy Academy":MAILTO:galaxyacademy@outlook.be
END:VEVENT
BEGIN:VEVENT
DTSTART;TZID=Europe/Helsinki:20251015T153000
DTEND;TZID=Europe/Helsinki:20251015T183000
DTSTAMP:20260420T222103
CREATED:20250904T115229Z
LAST-MODIFIED:20250904T115229Z
UID:10001525-1760542200-1760553000@bindusvzw.be
SUMMARY:Voetbalacademy van Galaxy Academy
DESCRIPTION:De perfecte balans tussen plezier en leren via de voetbalacademy\n  \nSinds 2021 verwelkomt Galaxy Academy alle kinderen\,\nongeacht hun niveau\, om hun sportieve en persoonlijke vaardigheden te ontwikkelen in een inclusieve omgeving waar plezier en essentiële waarden centraal staan in hun aanpak. \n🗓️ Iedere woensdag met uitzondering van de zomervakantie (juli en augustus) \n⏰ 15u30-16u30: U6-U8\n \n⏰ 16u30-17u30: U9-U11 \n⏰ 17u30-18u30: U12-U14 \n📍 Atheneum Go! 4 Business\, Toverfluitstraat 19/21\, 1080 Sint-Jans-Molenbeek \n💶 afhankelijk van de inschrijving* \n🖊️ inschrijven en meer informatie via galaxyacademy@outlook.be
URL:https://bindusvzw.be/activiteiten/voetbalacademy-van-galaxy-academy-6/
LOCATION:Atheneum Go! 4 Business\, Toverfluitstraat 19/21\, 1080
CATEGORIES:Activiteit Leden
ORGANIZER;CN="Galaxy Academy":MAILTO:galaxyacademy@outlook.be
END:VEVENT
BEGIN:VEVENT
DTSTART;TZID=Europe/Helsinki:20251018T130000
DTEND;TZID=Europe/Helsinki:20251018T170000
DTSTAMP:20260420T222103
CREATED:20250904T123942Z
LAST-MODIFIED:20250904T123942Z
UID:10001567-1760792400-1760806800@bindusvzw.be
SUMMARY:Voetbalacademy van Galaxy Academy
DESCRIPTION:De perfecte balans tussen plezier en leren via de voetbalacademy\n  \nSinds 2021 verwelkomt Galaxy Academy alle kinderen\,\nongeacht hun niveau\, om hun sportieve en persoonlijke vaardigheden te ontwikkelen in een inclusieve omgeving waar plezier en essentiële waarden centraal staan in hun aanpak. \n🗓️ Iedere zaterdag met uitzondering van de zomervakantie (juli en augustus) \n⏰ 13u00-14u00: U6-U7\n \n⏰ 14u30-15u00: U8-U9 \n⏰ 15u00-16u00: U10-U11 \n⏰ 16u00-17u00: U12-U14 \n📍 Sporthal St- Michel\, Picardstraat 170\, 1080 Sint-Jans-Molenbeek \n💶 afhankelijk van de inschrijving* \n🖊️ inschrijven en meer informatie via galaxyacademy@outlook.be
URL:https://bindusvzw.be/activiteiten/voetbalacademy-van-galaxy-academy-48/
LOCATION:Sporthal ST-Michel\, Picardstraat 170\, 1080\, België
CATEGORIES:Activiteit Leden
ATTACH;FMTTYPE=image/png:https://bindusvzw.be/wp-content/uploads/2025/09/Galaxy-Academy-Logo-Square.png
ORGANIZER;CN="Galaxy Academy":MAILTO:galaxyacademy@outlook.be
END:VEVENT
BEGIN:VEVENT
DTSTART;TZID=Europe/Helsinki:20251019T150000
DTEND;TZID=Europe/Helsinki:20251019T172000
DTSTAMP:20260420T222103
CREATED:20250904T133909Z
LAST-MODIFIED:20250904T133909Z
UID:10001609-1760886000-1760894400@bindusvzw.be
SUMMARY:Voetbalacademy van Galaxy Academy
DESCRIPTION:De perfecte balans tussen plezier en leren via de voetbalacademy\n  \nSinds 2021 verwelkomt Galaxy Academy alle kinderen\,\nongeacht hun niveau\, om hun sportieve en persoonlijke vaardigheden te ontwikkelen in een inclusieve omgeving waar plezier en essentiële waarden centraal staan in hun aanpak. \n🗓️ Iedere zondag met uitzondering van de zomervakantie (juli en augustus) \n⏰ 15u00-16u10: U6-U10 \n⏰ 16u100-17u20: U11-U14 \n📍 Sippelbergstadion\, Mahatma Gandilaan 5\, 1080 Sint-Jans-Molenbeek \n💶 afhankelijk van de inschrijving* \n🖊️ inschrijven en meer informatie via galaxyacademy@outlook.be
URL:https://bindusvzw.be/activiteiten/voetbalacademy-van-galaxy-academy-90/
LOCATION:Sippelbergstadion\, MahatmaGandilaan 5\, Sint-Jans-Molenbeek\, 1080\, België
CATEGORIES:Activiteit Leden
ATTACH;FMTTYPE=image/png:https://bindusvzw.be/wp-content/uploads/2025/09/Galaxy-Academy-Logo-Square.png
ORGANIZER;CN="Galaxy Academy":MAILTO:galaxyacademy@outlook.be
END:VEVENT
BEGIN:VEVENT
DTSTART;TZID=Europe/Helsinki:20251022T153000
DTEND;TZID=Europe/Helsinki:20251022T183000
DTSTAMP:20260420T222103
CREATED:20250904T115253Z
LAST-MODIFIED:20250904T115253Z
UID:10001526-1761147000-1761157800@bindusvzw.be
SUMMARY:Voetbalacademy van Galaxy Academy
DESCRIPTION:De perfecte balans tussen plezier en leren via de voetbalacademy\n  \nSinds 2021 verwelkomt Galaxy Academy alle kinderen\,\nongeacht hun niveau\, om hun sportieve en persoonlijke vaardigheden te ontwikkelen in een inclusieve omgeving waar plezier en essentiële waarden centraal staan in hun aanpak. \n🗓️ Iedere woensdag met uitzondering van de zomervakantie (juli en augustus) \n⏰ 15u30-16u30: U6-U8\n \n⏰ 16u30-17u30: U9-U11 \n⏰ 17u30-18u30: U12-U14 \n📍 Atheneum Go! 4 Business\, Toverfluitstraat 19/21\, 1080 Sint-Jans-Molenbeek \n💶 afhankelijk van de inschrijving* \n🖊️ inschrijven en meer informatie via galaxyacademy@outlook.be
URL:https://bindusvzw.be/activiteiten/voetbalacademy-van-galaxy-academy-7/
LOCATION:Atheneum Go! 4 Business\, Toverfluitstraat 19/21\, 1080
CATEGORIES:Activiteit Leden
ORGANIZER;CN="Galaxy Academy":MAILTO:galaxyacademy@outlook.be
END:VEVENT
BEGIN:VEVENT
DTSTART;TZID=Europe/Helsinki:20251025T130000
DTEND;TZID=Europe/Helsinki:20251025T170000
DTSTAMP:20260420T222103
CREATED:20250904T124006Z
LAST-MODIFIED:20250904T124006Z
UID:10001568-1761397200-1761411600@bindusvzw.be
SUMMARY:Voetbalacademy van Galaxy Academy
DESCRIPTION:De perfecte balans tussen plezier en leren via de voetbalacademy\n  \nSinds 2021 verwelkomt Galaxy Academy alle kinderen\,\nongeacht hun niveau\, om hun sportieve en persoonlijke vaardigheden te ontwikkelen in een inclusieve omgeving waar plezier en essentiële waarden centraal staan in hun aanpak. \n🗓️ Iedere zaterdag met uitzondering van de zomervakantie (juli en augustus) \n⏰ 13u00-14u00: U6-U7\n \n⏰ 14u30-15u00: U8-U9 \n⏰ 15u00-16u00: U10-U11 \n⏰ 16u00-17u00: U12-U14 \n📍 Sporthal St- Michel\, Picardstraat 170\, 1080 Sint-Jans-Molenbeek \n💶 afhankelijk van de inschrijving* \n🖊️ inschrijven en meer informatie via galaxyacademy@outlook.be
URL:https://bindusvzw.be/activiteiten/voetbalacademy-van-galaxy-academy-49/
LOCATION:Sporthal ST-Michel\, Picardstraat 170\, 1080\, België
CATEGORIES:Activiteit Leden
ATTACH;FMTTYPE=image/png:https://bindusvzw.be/wp-content/uploads/2025/09/Galaxy-Academy-Logo-Square.png
ORGANIZER;CN="Galaxy Academy":MAILTO:galaxyacademy@outlook.be
END:VEVENT
BEGIN:VEVENT
DTSTART;TZID=Europe/Helsinki:20251026T150000
DTEND;TZID=Europe/Helsinki:20251026T172000
DTSTAMP:20260420T222103
CREATED:20250904T133930Z
LAST-MODIFIED:20250904T133930Z
UID:10001610-1761490800-1761499200@bindusvzw.be
SUMMARY:Voetbalacademy van Galaxy Academy
DESCRIPTION:De perfecte balans tussen plezier en leren via de voetbalacademy\n  \nSinds 2021 verwelkomt Galaxy Academy alle kinderen\,\nongeacht hun niveau\, om hun sportieve en persoonlijke vaardigheden te ontwikkelen in een inclusieve omgeving waar plezier en essentiële waarden centraal staan in hun aanpak. \n🗓️ Iedere zondag met uitzondering van de zomervakantie (juli en augustus) \n⏰ 15u00-16u10: U6-U10 \n⏰ 16u100-17u20: U11-U14 \n📍 Sippelbergstadion\, Mahatma Gandilaan 5\, 1080 Sint-Jans-Molenbeek \n💶 afhankelijk van de inschrijving* \n🖊️ inschrijven en meer informatie via galaxyacademy@outlook.be
URL:https://bindusvzw.be/activiteiten/voetbalacademy-van-galaxy-academy-91/
LOCATION:Sippelbergstadion\, MahatmaGandilaan 5\, Sint-Jans-Molenbeek\, 1080\, België
CATEGORIES:Activiteit Leden
ATTACH;FMTTYPE=image/png:https://bindusvzw.be/wp-content/uploads/2025/09/Galaxy-Academy-Logo-Square.png
ORGANIZER;CN="Galaxy Academy":MAILTO:galaxyacademy@outlook.be
END:VEVENT
BEGIN:VEVENT
DTSTART;TZID=Europe/Helsinki:20251029T153000
DTEND;TZID=Europe/Helsinki:20251029T183000
DTSTAMP:20260420T222103
CREATED:20250904T115320Z
LAST-MODIFIED:20250904T115320Z
UID:10001527-1761751800-1761762600@bindusvzw.be
SUMMARY:Voetbalacademy van Galaxy Academy
DESCRIPTION:De perfecte balans tussen plezier en leren via de voetbalacademy\n  \nSinds 2021 verwelkomt Galaxy Academy alle kinderen\,\nongeacht hun niveau\, om hun sportieve en persoonlijke vaardigheden te ontwikkelen in een inclusieve omgeving waar plezier en essentiële waarden centraal staan in hun aanpak. \n🗓️ Iedere woensdag met uitzondering van de zomervakantie (juli en augustus) \n⏰ 15u30-16u30: U6-U8\n \n⏰ 16u30-17u30: U9-U11 \n⏰ 17u30-18u30: U12-U14 \n📍 Atheneum Go! 4 Business\, Toverfluitstraat 19/21\, 1080 Sint-Jans-Molenbeek \n💶 afhankelijk van de inschrijving* \n🖊️ inschrijven en meer informatie via galaxyacademy@outlook.be
URL:https://bindusvzw.be/activiteiten/voetbalacademy-van-galaxy-academy-8/
LOCATION:Atheneum Go! 4 Business\, Toverfluitstraat 19/21\, 1080
CATEGORIES:Activiteit Leden
ORGANIZER;CN="Galaxy Academy":MAILTO:galaxyacademy@outlook.be
END:VEVENT
END:VCALENDAR