BEGIN:VCALENDAR
VERSION:2.0
PRODID:-//Bindus vzw - ECPv6.15.20//NONSGML v1.0//EN
CALSCALE:GREGORIAN
METHOD:PUBLISH
X-WR-CALNAME:Bindus vzw
X-ORIGINAL-URL:https://bindusvzw.be
X-WR-CALDESC:Evenementen voor Bindus vzw
REFRESH-INTERVAL;VALUE=DURATION:PT1H
X-Robots-Tag:noindex
X-PUBLISHED-TTL:PT1H
BEGIN:VTIMEZONE
TZID:Europe/Helsinki
BEGIN:DAYLIGHT
TZOFFSETFROM:+0200
TZOFFSETTO:+0300
TZNAME:EEST
DTSTART:20250330T010000
END:DAYLIGHT
BEGIN:STANDARD
TZOFFSETFROM:+0300
TZOFFSETTO:+0200
TZNAME:EET
DTSTART:20251026T010000
END:STANDARD
BEGIN:DAYLIGHT
TZOFFSETFROM:+0200
TZOFFSETTO:+0300
TZNAME:EEST
DTSTART:20260329T010000
END:DAYLIGHT
BEGIN:STANDARD
TZOFFSETFROM:+0300
TZOFFSETTO:+0200
TZNAME:EET
DTSTART:20261025T010000
END:STANDARD
BEGIN:DAYLIGHT
TZOFFSETFROM:+0200
TZOFFSETTO:+0300
TZNAME:EEST
DTSTART:20270328T010000
END:DAYLIGHT
BEGIN:STANDARD
TZOFFSETFROM:+0300
TZOFFSETTO:+0200
TZNAME:EET
DTSTART:20271031T010000
END:STANDARD
END:VTIMEZONE
BEGIN:VEVENT
DTSTART;TZID=Europe/Helsinki:20260103T130000
DTEND;TZID=Europe/Helsinki:20260103T170000
DTSTAMP:20260420T105328
CREATED:20250904T124629Z
LAST-MODIFIED:20250904T124629Z
UID:10001578-1767445200-1767459600@bindusvzw.be
SUMMARY:Voetbalacademy van Galaxy Academy
DESCRIPTION:De perfecte balans tussen plezier en leren via de voetbalacademy\n  \nSinds 2021 verwelkomt Galaxy Academy alle kinderen\,\nongeacht hun niveau\, om hun sportieve en persoonlijke vaardigheden te ontwikkelen in een inclusieve omgeving waar plezier en essentiële waarden centraal staan in hun aanpak. \n🗓️ Iedere zaterdag met uitzondering van de zomervakantie (juli en augustus) \n⏰ 13u00-14u00: U6-U7\n \n⏰ 14u30-15u00: U8-U9 \n⏰ 15u00-16u00: U10-U11 \n⏰ 16u00-17u00: U12-U14 \n📍 Sporthal St- Michel\, Picardstraat 170\, 1080 Sint-Jans-Molenbeek \n💶 afhankelijk van de inschrijving* \n🖊️ inschrijven en meer informatie via galaxyacademy@outlook.be
URL:https://bindusvzw.be/activiteiten/voetbalacademy-van-galaxy-academy-59/
LOCATION:Sporthal ST-Michel\, Picardstraat 170\, 1080\, België
CATEGORIES:Activiteit Leden
ATTACH;FMTTYPE=image/png:https://bindusvzw.be/wp-content/uploads/2025/09/Galaxy-Academy-Logo-Square.png
ORGANIZER;CN="Galaxy Academy":MAILTO:galaxyacademy@outlook.be
END:VEVENT
BEGIN:VEVENT
DTSTART;TZID=Europe/Helsinki:20260104T150000
DTEND;TZID=Europe/Helsinki:20260104T172000
DTSTAMP:20260420T105328
CREATED:20250904T134452Z
LAST-MODIFIED:20250904T134452Z
UID:10001620-1767538800-1767547200@bindusvzw.be
SUMMARY:Voetbalacademy van Galaxy Academy
DESCRIPTION:De perfecte balans tussen plezier en leren via de voetbalacademy\n  \nSinds 2021 verwelkomt Galaxy Academy alle kinderen\,\nongeacht hun niveau\, om hun sportieve en persoonlijke vaardigheden te ontwikkelen in een inclusieve omgeving waar plezier en essentiële waarden centraal staan in hun aanpak. \n🗓️ Iedere zondag met uitzondering van de zomervakantie (juli en augustus) \n⏰ 15u00-16u10: U6-U10 \n⏰ 16u100-17u20: U11-U14 \n📍 Sippelbergstadion\, Mahatma Gandilaan 5\, 1080 Sint-Jans-Molenbeek \n💶 afhankelijk van de inschrijving* \n🖊️ inschrijven en meer informatie via galaxyacademy@outlook.be
URL:https://bindusvzw.be/activiteiten/voetbalacademy-van-galaxy-academy-101/
LOCATION:Sippelbergstadion\, MahatmaGandilaan 5\, Sint-Jans-Molenbeek\, 1080\, België
CATEGORIES:Activiteit Leden
ATTACH;FMTTYPE=image/png:https://bindusvzw.be/wp-content/uploads/2025/09/Galaxy-Academy-Logo-Square.png
ORGANIZER;CN="Galaxy Academy":MAILTO:galaxyacademy@outlook.be
END:VEVENT
BEGIN:VEVENT
DTSTART;TZID=Europe/Helsinki:20260107T153000
DTEND;TZID=Europe/Helsinki:20260107T183000
DTSTAMP:20260420T105328
CREATED:20250904T120044Z
LAST-MODIFIED:20250904T120044Z
UID:10001537-1767799800-1767810600@bindusvzw.be
SUMMARY:Voetbalacademy van Galaxy Academy
DESCRIPTION:De perfecte balans tussen plezier en leren via de voetbalacademy\n  \nSinds 2021 verwelkomt Galaxy Academy alle kinderen\,\nongeacht hun niveau\, om hun sportieve en persoonlijke vaardigheden te ontwikkelen in een inclusieve omgeving waar plezier en essentiële waarden centraal staan in hun aanpak. \n🗓️ Iedere woensdag met uitzondering van de zomervakantie (juli en augustus) \n⏰ 15u30-16u30: U6-U8\n \n⏰ 16u30-17u30: U9-U11 \n⏰ 17u30-18u30: U12-U14 \n📍 Atheneum Go! 4 Business\, Toverfluitstraat 19/21\, 1080 Sint-Jans-Molenbeek \n💶 afhankelijk van de inschrijving* \n🖊️ inschrijven en meer informatie via galaxyacademy@outlook.be
URL:https://bindusvzw.be/activiteiten/voetbalacademy-van-galaxy-academy-18/
LOCATION:Atheneum Go! 4 Business\, Toverfluitstraat 19/21\, 1080
CATEGORIES:Activiteit Leden
ORGANIZER;CN="Galaxy Academy":MAILTO:galaxyacademy@outlook.be
END:VEVENT
BEGIN:VEVENT
DTSTART;TZID=Europe/Helsinki:20260110T130000
DTEND;TZID=Europe/Helsinki:20260110T170000
DTSTAMP:20260420T105328
CREATED:20250904T124651Z
LAST-MODIFIED:20250904T124651Z
UID:10001579-1768050000-1768064400@bindusvzw.be
SUMMARY:Voetbalacademy van Galaxy Academy
DESCRIPTION:De perfecte balans tussen plezier en leren via de voetbalacademy\n  \nSinds 2021 verwelkomt Galaxy Academy alle kinderen\,\nongeacht hun niveau\, om hun sportieve en persoonlijke vaardigheden te ontwikkelen in een inclusieve omgeving waar plezier en essentiële waarden centraal staan in hun aanpak. \n🗓️ Iedere zaterdag met uitzondering van de zomervakantie (juli en augustus) \n⏰ 13u00-14u00: U6-U7\n \n⏰ 14u30-15u00: U8-U9 \n⏰ 15u00-16u00: U10-U11 \n⏰ 16u00-17u00: U12-U14 \n📍 Sporthal St- Michel\, Picardstraat 170\, 1080 Sint-Jans-Molenbeek \n💶 afhankelijk van de inschrijving* \n🖊️ inschrijven en meer informatie via galaxyacademy@outlook.be
URL:https://bindusvzw.be/activiteiten/voetbalacademy-van-galaxy-academy-60/
LOCATION:Sporthal ST-Michel\, Picardstraat 170\, 1080\, België
CATEGORIES:Activiteit Leden
ATTACH;FMTTYPE=image/png:https://bindusvzw.be/wp-content/uploads/2025/09/Galaxy-Academy-Logo-Square.png
ORGANIZER;CN="Galaxy Academy":MAILTO:galaxyacademy@outlook.be
END:VEVENT
BEGIN:VEVENT
DTSTART;TZID=Europe/Helsinki:20260111T150000
DTEND;TZID=Europe/Helsinki:20260111T172000
DTSTAMP:20260420T105328
CREATED:20250904T134511Z
LAST-MODIFIED:20250904T134511Z
UID:10001621-1768143600-1768152000@bindusvzw.be
SUMMARY:Voetbalacademy van Galaxy Academy
DESCRIPTION:De perfecte balans tussen plezier en leren via de voetbalacademy\n  \nSinds 2021 verwelkomt Galaxy Academy alle kinderen\,\nongeacht hun niveau\, om hun sportieve en persoonlijke vaardigheden te ontwikkelen in een inclusieve omgeving waar plezier en essentiële waarden centraal staan in hun aanpak. \n🗓️ Iedere zondag met uitzondering van de zomervakantie (juli en augustus) \n⏰ 15u00-16u10: U6-U10 \n⏰ 16u100-17u20: U11-U14 \n📍 Sippelbergstadion\, Mahatma Gandilaan 5\, 1080 Sint-Jans-Molenbeek \n💶 afhankelijk van de inschrijving* \n🖊️ inschrijven en meer informatie via galaxyacademy@outlook.be
URL:https://bindusvzw.be/activiteiten/voetbalacademy-van-galaxy-academy-102/
LOCATION:Sippelbergstadion\, MahatmaGandilaan 5\, Sint-Jans-Molenbeek\, 1080\, België
CATEGORIES:Activiteit Leden
ATTACH;FMTTYPE=image/png:https://bindusvzw.be/wp-content/uploads/2025/09/Galaxy-Academy-Logo-Square.png
ORGANIZER;CN="Galaxy Academy":MAILTO:galaxyacademy@outlook.be
END:VEVENT
BEGIN:VEVENT
DTSTART;TZID=Europe/Helsinki:20260114T153000
DTEND;TZID=Europe/Helsinki:20260114T183000
DTSTAMP:20260420T105328
CREATED:20250904T120106Z
LAST-MODIFIED:20250904T120106Z
UID:10001538-1768404600-1768415400@bindusvzw.be
SUMMARY:Voetbalacademy van Galaxy Academy
DESCRIPTION:De perfecte balans tussen plezier en leren via de voetbalacademy\n  \nSinds 2021 verwelkomt Galaxy Academy alle kinderen\,\nongeacht hun niveau\, om hun sportieve en persoonlijke vaardigheden te ontwikkelen in een inclusieve omgeving waar plezier en essentiële waarden centraal staan in hun aanpak. \n🗓️ Iedere woensdag met uitzondering van de zomervakantie (juli en augustus) \n⏰ 15u30-16u30: U6-U8\n \n⏰ 16u30-17u30: U9-U11 \n⏰ 17u30-18u30: U12-U14 \n📍 Atheneum Go! 4 Business\, Toverfluitstraat 19/21\, 1080 Sint-Jans-Molenbeek \n💶 afhankelijk van de inschrijving* \n🖊️ inschrijven en meer informatie via galaxyacademy@outlook.be
URL:https://bindusvzw.be/activiteiten/voetbalacademy-van-galaxy-academy-19/
LOCATION:Atheneum Go! 4 Business\, Toverfluitstraat 19/21\, 1080
CATEGORIES:Activiteit Leden
ORGANIZER;CN="Galaxy Academy":MAILTO:galaxyacademy@outlook.be
END:VEVENT
BEGIN:VEVENT
DTSTART;TZID=Europe/Helsinki:20260117T130000
DTEND;TZID=Europe/Helsinki:20260117T170000
DTSTAMP:20260420T105328
CREATED:20250904T124712Z
LAST-MODIFIED:20250904T124712Z
UID:10001580-1768654800-1768669200@bindusvzw.be
SUMMARY:Voetbalacademy van Galaxy Academy
DESCRIPTION:De perfecte balans tussen plezier en leren via de voetbalacademy\n  \nSinds 2021 verwelkomt Galaxy Academy alle kinderen\,\nongeacht hun niveau\, om hun sportieve en persoonlijke vaardigheden te ontwikkelen in een inclusieve omgeving waar plezier en essentiële waarden centraal staan in hun aanpak. \n🗓️ Iedere zaterdag met uitzondering van de zomervakantie (juli en augustus) \n⏰ 13u00-14u00: U6-U7\n \n⏰ 14u30-15u00: U8-U9 \n⏰ 15u00-16u00: U10-U11 \n⏰ 16u00-17u00: U12-U14 \n📍 Sporthal St- Michel\, Picardstraat 170\, 1080 Sint-Jans-Molenbeek \n💶 afhankelijk van de inschrijving* \n🖊️ inschrijven en meer informatie via galaxyacademy@outlook.be
URL:https://bindusvzw.be/activiteiten/voetbalacademy-van-galaxy-academy-61/
LOCATION:Sporthal ST-Michel\, Picardstraat 170\, 1080\, België
CATEGORIES:Activiteit Leden
ATTACH;FMTTYPE=image/png:https://bindusvzw.be/wp-content/uploads/2025/09/Galaxy-Academy-Logo-Square.png
ORGANIZER;CN="Galaxy Academy":MAILTO:galaxyacademy@outlook.be
END:VEVENT
BEGIN:VEVENT
DTSTART;TZID=Europe/Helsinki:20260118T150000
DTEND;TZID=Europe/Helsinki:20260118T172000
DTSTAMP:20260420T105328
CREATED:20250904T134529Z
LAST-MODIFIED:20250904T134529Z
UID:10001622-1768748400-1768756800@bindusvzw.be
SUMMARY:Voetbalacademy van Galaxy Academy
DESCRIPTION:De perfecte balans tussen plezier en leren via de voetbalacademy\n  \nSinds 2021 verwelkomt Galaxy Academy alle kinderen\,\nongeacht hun niveau\, om hun sportieve en persoonlijke vaardigheden te ontwikkelen in een inclusieve omgeving waar plezier en essentiële waarden centraal staan in hun aanpak. \n🗓️ Iedere zondag met uitzondering van de zomervakantie (juli en augustus) \n⏰ 15u00-16u10: U6-U10 \n⏰ 16u100-17u20: U11-U14 \n📍 Sippelbergstadion\, Mahatma Gandilaan 5\, 1080 Sint-Jans-Molenbeek \n💶 afhankelijk van de inschrijving* \n🖊️ inschrijven en meer informatie via galaxyacademy@outlook.be
URL:https://bindusvzw.be/activiteiten/voetbalacademy-van-galaxy-academy-103/
LOCATION:Sippelbergstadion\, MahatmaGandilaan 5\, Sint-Jans-Molenbeek\, 1080\, België
CATEGORIES:Activiteit Leden
ATTACH;FMTTYPE=image/png:https://bindusvzw.be/wp-content/uploads/2025/09/Galaxy-Academy-Logo-Square.png
ORGANIZER;CN="Galaxy Academy":MAILTO:galaxyacademy@outlook.be
END:VEVENT
BEGIN:VEVENT
DTSTART;TZID=Europe/Helsinki:20260121T153000
DTEND;TZID=Europe/Helsinki:20260121T183000
DTSTAMP:20260420T105328
CREATED:20250904T120133Z
LAST-MODIFIED:20250904T120133Z
UID:10001539-1769009400-1769020200@bindusvzw.be
SUMMARY:Voetbalacademy van Galaxy Academy
DESCRIPTION:De perfecte balans tussen plezier en leren via de voetbalacademy\n  \nSinds 2021 verwelkomt Galaxy Academy alle kinderen\,\nongeacht hun niveau\, om hun sportieve en persoonlijke vaardigheden te ontwikkelen in een inclusieve omgeving waar plezier en essentiële waarden centraal staan in hun aanpak. \n🗓️ Iedere woensdag met uitzondering van de zomervakantie (juli en augustus) \n⏰ 15u30-16u30: U6-U8\n \n⏰ 16u30-17u30: U9-U11 \n⏰ 17u30-18u30: U12-U14 \n📍 Atheneum Go! 4 Business\, Toverfluitstraat 19/21\, 1080 Sint-Jans-Molenbeek \n💶 afhankelijk van de inschrijving* \n🖊️ inschrijven en meer informatie via galaxyacademy@outlook.be
URL:https://bindusvzw.be/activiteiten/voetbalacademy-van-galaxy-academy-20/
LOCATION:Atheneum Go! 4 Business\, Toverfluitstraat 19/21\, 1080
CATEGORIES:Activiteit Leden
ORGANIZER;CN="Galaxy Academy":MAILTO:galaxyacademy@outlook.be
END:VEVENT
BEGIN:VEVENT
DTSTART;TZID=Europe/Helsinki:20260124T130000
DTEND;TZID=Europe/Helsinki:20260124T170000
DTSTAMP:20260420T105328
CREATED:20250904T124804Z
LAST-MODIFIED:20250904T124804Z
UID:10001581-1769259600-1769274000@bindusvzw.be
SUMMARY:Voetbalacademy van Galaxy Academy
DESCRIPTION:De perfecte balans tussen plezier en leren via de voetbalacademy\n  \nSinds 2021 verwelkomt Galaxy Academy alle kinderen\,\nongeacht hun niveau\, om hun sportieve en persoonlijke vaardigheden te ontwikkelen in een inclusieve omgeving waar plezier en essentiële waarden centraal staan in hun aanpak. \n🗓️ Iedere zaterdag met uitzondering van de zomervakantie (juli en augustus) \n⏰ 13u00-14u00: U6-U7\n \n⏰ 14u30-15u00: U8-U9 \n⏰ 15u00-16u00: U10-U11 \n⏰ 16u00-17u00: U12-U14 \n📍 Sporthal St- Michel\, Picardstraat 170\, 1080 Sint-Jans-Molenbeek \n💶 afhankelijk van de inschrijving* \n🖊️ inschrijven en meer informatie via galaxyacademy@outlook.be
URL:https://bindusvzw.be/activiteiten/voetbalacademy-van-galaxy-academy-62/
LOCATION:Sporthal ST-Michel\, Picardstraat 170\, 1080\, België
CATEGORIES:Activiteit Leden
ATTACH;FMTTYPE=image/png:https://bindusvzw.be/wp-content/uploads/2025/09/Galaxy-Academy-Logo-Square.png
ORGANIZER;CN="Galaxy Academy":MAILTO:galaxyacademy@outlook.be
END:VEVENT
BEGIN:VEVENT
DTSTART;TZID=Europe/Helsinki:20260125T150000
DTEND;TZID=Europe/Helsinki:20260125T172000
DTSTAMP:20260420T105328
CREATED:20250904T134550Z
LAST-MODIFIED:20250904T134550Z
UID:10001623-1769353200-1769361600@bindusvzw.be
SUMMARY:Voetbalacademy van Galaxy Academy
DESCRIPTION:De perfecte balans tussen plezier en leren via de voetbalacademy\n  \nSinds 2021 verwelkomt Galaxy Academy alle kinderen\,\nongeacht hun niveau\, om hun sportieve en persoonlijke vaardigheden te ontwikkelen in een inclusieve omgeving waar plezier en essentiële waarden centraal staan in hun aanpak. \n🗓️ Iedere zondag met uitzondering van de zomervakantie (juli en augustus) \n⏰ 15u00-16u10: U6-U10 \n⏰ 16u100-17u20: U11-U14 \n📍 Sippelbergstadion\, Mahatma Gandilaan 5\, 1080 Sint-Jans-Molenbeek \n💶 afhankelijk van de inschrijving* \n🖊️ inschrijven en meer informatie via galaxyacademy@outlook.be
URL:https://bindusvzw.be/activiteiten/voetbalacademy-van-galaxy-academy-104/
LOCATION:Sippelbergstadion\, MahatmaGandilaan 5\, Sint-Jans-Molenbeek\, 1080\, België
CATEGORIES:Activiteit Leden
ATTACH;FMTTYPE=image/png:https://bindusvzw.be/wp-content/uploads/2025/09/Galaxy-Academy-Logo-Square.png
ORGANIZER;CN="Galaxy Academy":MAILTO:galaxyacademy@outlook.be
END:VEVENT
BEGIN:VEVENT
DTSTART;TZID=Europe/Helsinki:20260128T153000
DTEND;TZID=Europe/Helsinki:20260128T183000
DTSTAMP:20260420T105328
CREATED:20250904T120231Z
LAST-MODIFIED:20250904T120231Z
UID:10001540-1769614200-1769625000@bindusvzw.be
SUMMARY:Voetbalacademy van Galaxy Academy
DESCRIPTION:De perfecte balans tussen plezier en leren via de voetbalacademy\n  \nSinds 2021 verwelkomt Galaxy Academy alle kinderen\,\nongeacht hun niveau\, om hun sportieve en persoonlijke vaardigheden te ontwikkelen in een inclusieve omgeving waar plezier en essentiële waarden centraal staan in hun aanpak. \n🗓️ Iedere woensdag met uitzondering van de zomervakantie (juli en augustus) \n⏰ 15u30-16u30: U6-U8\n \n⏰ 16u30-17u30: U9-U11 \n⏰ 17u30-18u30: U12-U14 \n📍 Atheneum Go! 4 Business\, Toverfluitstraat 19/21\, 1080 Sint-Jans-Molenbeek \n💶 afhankelijk van de inschrijving* \n🖊️ inschrijven en meer informatie via galaxyacademy@outlook.be
URL:https://bindusvzw.be/activiteiten/voetbalacademy-van-galaxy-academy-21/
LOCATION:Atheneum Go! 4 Business\, Toverfluitstraat 19/21\, 1080
CATEGORIES:Activiteit Leden
ORGANIZER;CN="Galaxy Academy":MAILTO:galaxyacademy@outlook.be
END:VEVENT
BEGIN:VEVENT
DTSTART;TZID=Europe/Helsinki:20260131T130000
DTEND;TZID=Europe/Helsinki:20260131T170000
DTSTAMP:20260420T105328
CREATED:20250904T124826Z
LAST-MODIFIED:20250904T124826Z
UID:10001582-1769864400-1769878800@bindusvzw.be
SUMMARY:Voetbalacademy van Galaxy Academy
DESCRIPTION:De perfecte balans tussen plezier en leren via de voetbalacademy\n  \nSinds 2021 verwelkomt Galaxy Academy alle kinderen\,\nongeacht hun niveau\, om hun sportieve en persoonlijke vaardigheden te ontwikkelen in een inclusieve omgeving waar plezier en essentiële waarden centraal staan in hun aanpak. \n🗓️ Iedere zaterdag met uitzondering van de zomervakantie (juli en augustus) \n⏰ 13u00-14u00: U6-U7\n \n⏰ 14u30-15u00: U8-U9 \n⏰ 15u00-16u00: U10-U11 \n⏰ 16u00-17u00: U12-U14 \n📍 Sporthal St- Michel\, Picardstraat 170\, 1080 Sint-Jans-Molenbeek \n💶 afhankelijk van de inschrijving* \n🖊️ inschrijven en meer informatie via galaxyacademy@outlook.be
URL:https://bindusvzw.be/activiteiten/voetbalacademy-van-galaxy-academy-63/
LOCATION:Sporthal ST-Michel\, Picardstraat 170\, 1080\, België
CATEGORIES:Activiteit Leden
ATTACH;FMTTYPE=image/png:https://bindusvzw.be/wp-content/uploads/2025/09/Galaxy-Academy-Logo-Square.png
ORGANIZER;CN="Galaxy Academy":MAILTO:galaxyacademy@outlook.be
END:VEVENT
END:VCALENDAR