BEGIN:VCALENDAR
VERSION:2.0
PRODID:-//Bindus vzw - ECPv6.15.20//NONSGML v1.0//EN
CALSCALE:GREGORIAN
METHOD:PUBLISH
X-ORIGINAL-URL:https://bindusvzw.be
X-WR-CALDESC:Evenementen voor Bindus vzw
REFRESH-INTERVAL;VALUE=DURATION:PT1H
X-Robots-Tag:noindex
X-PUBLISHED-TTL:PT1H
BEGIN:VTIMEZONE
TZID:Europe/Helsinki
BEGIN:DAYLIGHT
TZOFFSETFROM:+0200
TZOFFSETTO:+0300
TZNAME:EEST
DTSTART:20250330T010000
END:DAYLIGHT
BEGIN:STANDARD
TZOFFSETFROM:+0300
TZOFFSETTO:+0200
TZNAME:EET
DTSTART:20251026T010000
END:STANDARD
BEGIN:DAYLIGHT
TZOFFSETFROM:+0200
TZOFFSETTO:+0300
TZNAME:EEST
DTSTART:20260329T010000
END:DAYLIGHT
BEGIN:STANDARD
TZOFFSETFROM:+0300
TZOFFSETTO:+0200
TZNAME:EET
DTSTART:20261025T010000
END:STANDARD
BEGIN:DAYLIGHT
TZOFFSETFROM:+0200
TZOFFSETTO:+0300
TZNAME:EEST
DTSTART:20270328T010000
END:DAYLIGHT
BEGIN:STANDARD
TZOFFSETFROM:+0300
TZOFFSETTO:+0200
TZNAME:EET
DTSTART:20271031T010000
END:STANDARD
END:VTIMEZONE
BEGIN:VEVENT
DTSTART;TZID=Europe/Helsinki:20260422T153000
DTEND;TZID=Europe/Helsinki:20260422T183000
DTSTAMP:20260420T002423
CREATED:20250904T120957Z
LAST-MODIFIED:20250904T120957Z
UID:10001552-1776871800-1776882600@bindusvzw.be
SUMMARY:Voetbalacademy van Galaxy Academy
DESCRIPTION:De perfecte balans tussen plezier en leren via de voetbalacademy\n  \nSinds 2021 verwelkomt Galaxy Academy alle kinderen\,\nongeacht hun niveau\, om hun sportieve en persoonlijke vaardigheden te ontwikkelen in een inclusieve omgeving waar plezier en essentiële waarden centraal staan in hun aanpak. \n🗓️ Iedere woensdag met uitzondering van de zomervakantie (juli en augustus) \n⏰ 15u30-16u30: U6-U8\n \n⏰ 16u30-17u30: U9-U11 \n⏰ 17u30-18u30: U12-U14 \n📍 Atheneum Go! 4 Business\, Toverfluitstraat 19/21\, 1080 Sint-Jans-Molenbeek \n💶 afhankelijk van de inschrijving* \n🖊️ inschrijven en meer informatie via galaxyacademy@outlook.be
URL:https://bindusvzw.be/activiteiten/voetbalacademy-van-galaxy-academy-33/
LOCATION:Atheneum Go! 4 Business\, Toverfluitstraat 19/21\, 1080
CATEGORIES:Activiteit Leden
ORGANIZER;CN="Galaxy Academy":MAILTO:galaxyacademy@outlook.be
END:VEVENT
BEGIN:VEVENT
DTSTART;TZID=Europe/Helsinki:20260425T130000
DTEND;TZID=Europe/Helsinki:20260425T170000
DTSTAMP:20260420T002423
CREATED:20250904T125449Z
LAST-MODIFIED:20250904T125449Z
UID:10001594-1777122000-1777136400@bindusvzw.be
SUMMARY:Voetbalacademy van Galaxy Academy
DESCRIPTION:De perfecte balans tussen plezier en leren via de voetbalacademy\n  \nSinds 2021 verwelkomt Galaxy Academy alle kinderen\,\nongeacht hun niveau\, om hun sportieve en persoonlijke vaardigheden te ontwikkelen in een inclusieve omgeving waar plezier en essentiële waarden centraal staan in hun aanpak. \n🗓️ Iedere zaterdag met uitzondering van de zomervakantie (juli en augustus) \n⏰ 13u00-14u00: U6-U7\n \n⏰ 14u30-15u00: U8-U9 \n⏰ 15u00-16u00: U10-U11 \n⏰ 16u00-17u00: U12-U14 \n📍 Sporthal St- Michel\, Picardstraat 170\, 1080 Sint-Jans-Molenbeek \n💶 afhankelijk van de inschrijving* \n🖊️ inschrijven en meer informatie via galaxyacademy@outlook.be
URL:https://bindusvzw.be/activiteiten/voetbalacademy-van-galaxy-academy-75/
LOCATION:Sporthal ST-Michel\, Picardstraat 170\, 1080\, België
CATEGORIES:Activiteit Leden
ATTACH;FMTTYPE=image/png:https://bindusvzw.be/wp-content/uploads/2025/09/Galaxy-Academy-Logo-Square.png
ORGANIZER;CN="Galaxy Academy":MAILTO:galaxyacademy@outlook.be
END:VEVENT
BEGIN:VEVENT
DTSTART;TZID=Europe/Helsinki:20260426T150000
DTEND;TZID=Europe/Helsinki:20260426T172000
DTSTAMP:20260420T002423
CREATED:20250904T135312Z
LAST-MODIFIED:20250904T135312Z
UID:10001636-1777215600-1777224000@bindusvzw.be
SUMMARY:Voetbalacademy van Galaxy Academy
DESCRIPTION:De perfecte balans tussen plezier en leren via de voetbalacademy\n  \nSinds 2021 verwelkomt Galaxy Academy alle kinderen\,\nongeacht hun niveau\, om hun sportieve en persoonlijke vaardigheden te ontwikkelen in een inclusieve omgeving waar plezier en essentiële waarden centraal staan in hun aanpak. \n🗓️ Iedere zondag met uitzondering van de zomervakantie (juli en augustus) \n⏰ 15u00-16u10: U6-U10 \n⏰ 16u100-17u20: U11-U14 \n📍 Sippelbergstadion\, Mahatma Gandilaan 5\, 1080 Sint-Jans-Molenbeek \n💶 afhankelijk van de inschrijving* \n🖊️ inschrijven en meer informatie via galaxyacademy@outlook.be
URL:https://bindusvzw.be/activiteiten/voetbalacademy-van-galaxy-academy-117/
LOCATION:Sippelbergstadion\, MahatmaGandilaan 5\, Sint-Jans-Molenbeek\, 1080\, België
CATEGORIES:Activiteit Leden
ATTACH;FMTTYPE=image/png:https://bindusvzw.be/wp-content/uploads/2025/09/Galaxy-Academy-Logo-Square.png
ORGANIZER;CN="Galaxy Academy":MAILTO:galaxyacademy@outlook.be
END:VEVENT
BEGIN:VEVENT
DTSTART;TZID=Europe/Helsinki:20260429T153000
DTEND;TZID=Europe/Helsinki:20260429T183000
DTSTAMP:20260420T002423
CREATED:20250904T121018Z
LAST-MODIFIED:20250904T121018Z
UID:10001553-1777476600-1777487400@bindusvzw.be
SUMMARY:Voetbalacademy van Galaxy Academy
DESCRIPTION:De perfecte balans tussen plezier en leren via de voetbalacademy\n  \nSinds 2021 verwelkomt Galaxy Academy alle kinderen\,\nongeacht hun niveau\, om hun sportieve en persoonlijke vaardigheden te ontwikkelen in een inclusieve omgeving waar plezier en essentiële waarden centraal staan in hun aanpak. \n🗓️ Iedere woensdag met uitzondering van de zomervakantie (juli en augustus) \n⏰ 15u30-16u30: U6-U8\n \n⏰ 16u30-17u30: U9-U11 \n⏰ 17u30-18u30: U12-U14 \n📍 Atheneum Go! 4 Business\, Toverfluitstraat 19/21\, 1080 Sint-Jans-Molenbeek \n💶 afhankelijk van de inschrijving* \n🖊️ inschrijven en meer informatie via galaxyacademy@outlook.be
URL:https://bindusvzw.be/activiteiten/voetbalacademy-van-galaxy-academy-34/
LOCATION:Atheneum Go! 4 Business\, Toverfluitstraat 19/21\, 1080
CATEGORIES:Activiteit Leden
ORGANIZER;CN="Galaxy Academy":MAILTO:galaxyacademy@outlook.be
END:VEVENT
END:VCALENDAR