BEGIN:VCALENDAR
VERSION:2.0
PRODID:-//Bindus vzw - ECPv6.15.20//NONSGML v1.0//EN
CALSCALE:GREGORIAN
METHOD:PUBLISH
X-WR-CALNAME:Bindus vzw
X-ORIGINAL-URL:https://bindusvzw.be
X-WR-CALDESC:Evenementen voor Bindus vzw
REFRESH-INTERVAL;VALUE=DURATION:PT1H
X-Robots-Tag:noindex
X-PUBLISHED-TTL:PT1H
BEGIN:VTIMEZONE
TZID:Europe/Helsinki
BEGIN:DAYLIGHT
TZOFFSETFROM:+0200
TZOFFSETTO:+0300
TZNAME:EEST
DTSTART:20250330T010000
END:DAYLIGHT
BEGIN:STANDARD
TZOFFSETFROM:+0300
TZOFFSETTO:+0200
TZNAME:EET
DTSTART:20251026T010000
END:STANDARD
BEGIN:DAYLIGHT
TZOFFSETFROM:+0200
TZOFFSETTO:+0300
TZNAME:EEST
DTSTART:20260329T010000
END:DAYLIGHT
BEGIN:STANDARD
TZOFFSETFROM:+0300
TZOFFSETTO:+0200
TZNAME:EET
DTSTART:20261025T010000
END:STANDARD
BEGIN:DAYLIGHT
TZOFFSETFROM:+0200
TZOFFSETTO:+0300
TZNAME:EEST
DTSTART:20270328T010000
END:DAYLIGHT
BEGIN:STANDARD
TZOFFSETFROM:+0300
TZOFFSETTO:+0200
TZNAME:EET
DTSTART:20271031T010000
END:STANDARD
END:VTIMEZONE
BEGIN:VEVENT
DTSTART;TZID=Europe/Helsinki:20260303T190000
DTEND;TZID=Europe/Helsinki:20260303T210000
DTSTAMP:20260419T164003
CREATED:20251118T144845Z
LAST-MODIFIED:20251118T144845Z
UID:10001784-1772564400-1772571600@bindusvzw.be
SUMMARY:Taalproject Ireedui vzw
DESCRIPTION:Het taalproject met lessen Nederlands krijgt een vervolg\n  \nNadat er vanuit de gemeenschap een duidelijke nood aan extra oefenkansen Nederlands en het versterken van het Nederlands bij volwassenen met Mongoolse achtergrond is\, startte Ireedui vzw met een taalproject waarbij de focus ligt op het versterken van het Nederlands. Dit met als doel het de integratie te bevorderen en gemeenschapsvorming te stimuleren. Na een succesvol pilootproject start een vervolgproject. \n \n⏰ 19u00-21u00 \n❔ Volwassenen + 18 jaar\, met Mongoolse achtergrond \n📍 Bindus\, Brederodestraat 188\, 2018 Antwerpen \n✍️ Inschrijven: via Nergui Erkhembayar (Facebook) \n💶 Deelnameprijs: Afhankelijk van de inschrijving \n❔ Meer informatie via n_erkhembayar@yahoo.com
URL:https://bindusvzw.be/activiteiten/taalproject-ireedui-vzw-40/
LOCATION:Bindus Antwerpen\, Brederodestraat 188\, Antwerpen\, antwerpen\, 2000\, België
CATEGORIES:Activiteit Leden
ATTACH;FMTTYPE=image/jpeg:https://bindusvzw.be/wp-content/uploads/2025/09/2021_Logo.jpg
ORGANIZER;CN="Ireedui vzw":MAILTO:n_erkhembayar@yahoo.com
END:VEVENT
BEGIN:VEVENT
DTSTART;TZID=Europe/Helsinki:20260305T190000
DTEND;TZID=Europe/Helsinki:20260305T210000
DTSTAMP:20260419T164003
CREATED:20251118T144921Z
LAST-MODIFIED:20251118T144921Z
UID:10001785-1772737200-1772744400@bindusvzw.be
SUMMARY:Taalproject Ireedui vzw
DESCRIPTION:Het taalproject met lessen Nederlands krijgt een vervolg\n  \nNadat er vanuit de gemeenschap een duidelijke nood aan extra oefenkansen Nederlands en het versterken van het Nederlands bij volwassenen met Mongoolse achtergrond is\, startte Ireedui vzw met een taalproject waarbij de focus ligt op het versterken van het Nederlands. Dit met als doel het de integratie te bevorderen en gemeenschapsvorming te stimuleren. Na een succesvol pilootproject start een vervolgproject. \n \n⏰ 19u00-21u00 \n❔ Volwassenen + 18 jaar\, met Mongoolse achtergrond \n📍 Bindus\, Brederodestraat 188\, 2018 Antwerpen \n✍️ Inschrijven: via Nergui Erkhembayar (Facebook) \n💶 Deelnameprijs: Afhankelijk van de inschrijving \n❔ Meer informatie via n_erkhembayar@yahoo.com
URL:https://bindusvzw.be/activiteiten/taalproject-ireedui-vzw-41/
LOCATION:Bindus Antwerpen\, Brederodestraat 188\, Antwerpen\, antwerpen\, 2000\, België
CATEGORIES:Activiteit Leden
ATTACH;FMTTYPE=image/jpeg:https://bindusvzw.be/wp-content/uploads/2025/09/2021_Logo.jpg
ORGANIZER;CN="Ireedui vzw":MAILTO:n_erkhembayar@yahoo.com
END:VEVENT
BEGIN:VEVENT
DTSTART;TZID=Europe/Helsinki:20260310T190000
DTEND;TZID=Europe/Helsinki:20260310T210000
DTSTAMP:20260419T164003
CREATED:20251118T144955Z
LAST-MODIFIED:20251118T144955Z
UID:10001786-1773169200-1773176400@bindusvzw.be
SUMMARY:Taalproject Ireedui vzw
DESCRIPTION:Het taalproject met lessen Nederlands krijgt een vervolg\n  \nNadat er vanuit de gemeenschap een duidelijke nood aan extra oefenkansen Nederlands en het versterken van het Nederlands bij volwassenen met Mongoolse achtergrond is\, startte Ireedui vzw met een taalproject waarbij de focus ligt op het versterken van het Nederlands. Dit met als doel het de integratie te bevorderen en gemeenschapsvorming te stimuleren. Na een succesvol pilootproject start een vervolgproject. \n \n⏰ 19u00-21u00 \n❔ Volwassenen + 18 jaar\, met Mongoolse achtergrond \n📍 Bindus\, Brederodestraat 188\, 2018 Antwerpen \n✍️ Inschrijven: via Nergui Erkhembayar (Facebook) \n💶 Deelnameprijs: Afhankelijk van de inschrijving \n❔ Meer informatie via n_erkhembayar@yahoo.com
URL:https://bindusvzw.be/activiteiten/taalproject-ireedui-vzw-42/
LOCATION:Bindus Antwerpen\, Brederodestraat 188\, Antwerpen\, antwerpen\, 2000\, België
CATEGORIES:Activiteit Leden
ATTACH;FMTTYPE=image/jpeg:https://bindusvzw.be/wp-content/uploads/2025/09/2021_Logo.jpg
ORGANIZER;CN="Ireedui vzw":MAILTO:n_erkhembayar@yahoo.com
END:VEVENT
BEGIN:VEVENT
DTSTART;TZID=Europe/Helsinki:20260312T190000
DTEND;TZID=Europe/Helsinki:20260312T210000
DTSTAMP:20260419T164003
CREATED:20251118T145032Z
LAST-MODIFIED:20251118T145032Z
UID:10001787-1773342000-1773349200@bindusvzw.be
SUMMARY:Taalproject Ireedui vzw
DESCRIPTION:Het taalproject met lessen Nederlands krijgt een vervolg\n  \nNadat er vanuit de gemeenschap een duidelijke nood aan extra oefenkansen Nederlands en het versterken van het Nederlands bij volwassenen met Mongoolse achtergrond is\, startte Ireedui vzw met een taalproject waarbij de focus ligt op het versterken van het Nederlands. Dit met als doel het de integratie te bevorderen en gemeenschapsvorming te stimuleren. Na een succesvol pilootproject start een vervolgproject. \n \n⏰ 19u00-21u00 \n❔ Volwassenen + 18 jaar\, met Mongoolse achtergrond \n📍 Bindus\, Brederodestraat 188\, 2018 Antwerpen \n✍️ Inschrijven: via Nergui Erkhembayar (Facebook) \n💶 Deelnameprijs: Afhankelijk van de inschrijving \n❔ Meer informatie via n_erkhembayar@yahoo.com
URL:https://bindusvzw.be/activiteiten/taalproject-ireedui-vzw-43/
LOCATION:Bindus Antwerpen\, Brederodestraat 188\, Antwerpen\, antwerpen\, 2000\, België
CATEGORIES:Activiteit Leden
ATTACH;FMTTYPE=image/jpeg:https://bindusvzw.be/wp-content/uploads/2025/09/2021_Logo.jpg
ORGANIZER;CN="Ireedui vzw":MAILTO:n_erkhembayar@yahoo.com
END:VEVENT
BEGIN:VEVENT
DTSTART;TZID=Europe/Helsinki:20260317T190000
DTEND;TZID=Europe/Helsinki:20260317T210000
DTSTAMP:20260419T164003
CREATED:20251118T145113Z
LAST-MODIFIED:20251118T145113Z
UID:10001788-1773774000-1773781200@bindusvzw.be
SUMMARY:Taalproject Ireedui vzw
DESCRIPTION:Het taalproject met lessen Nederlands krijgt een vervolg\n  \nNadat er vanuit de gemeenschap een duidelijke nood aan extra oefenkansen Nederlands en het versterken van het Nederlands bij volwassenen met Mongoolse achtergrond is\, startte Ireedui vzw met een taalproject waarbij de focus ligt op het versterken van het Nederlands. Dit met als doel het de integratie te bevorderen en gemeenschapsvorming te stimuleren. Na een succesvol pilootproject start een vervolgproject. \n \n⏰ 19u00-21u00 \n❔ Volwassenen + 18 jaar\, met Mongoolse achtergrond \n📍 Bindus\, Brederodestraat 188\, 2018 Antwerpen \n✍️ Inschrijven: via Nergui Erkhembayar (Facebook) \n💶 Deelnameprijs: Afhankelijk van de inschrijving \n❔ Meer informatie via n_erkhembayar@yahoo.com
URL:https://bindusvzw.be/activiteiten/taalproject-ireedui-vzw-44/
LOCATION:Bindus Antwerpen\, Brederodestraat 188\, Antwerpen\, antwerpen\, 2000\, België
CATEGORIES:Activiteit Leden
ATTACH;FMTTYPE=image/jpeg:https://bindusvzw.be/wp-content/uploads/2025/09/2021_Logo.jpg
ORGANIZER;CN="Ireedui vzw":MAILTO:n_erkhembayar@yahoo.com
END:VEVENT
BEGIN:VEVENT
DTSTART;TZID=Europe/Helsinki:20260319T190000
DTEND;TZID=Europe/Helsinki:20260319T210000
DTSTAMP:20260419T164003
CREATED:20251118T145145Z
LAST-MODIFIED:20251118T145145Z
UID:10001789-1773946800-1773954000@bindusvzw.be
SUMMARY:Taalproject Ireedui vzw
DESCRIPTION:Het taalproject met lessen Nederlands krijgt een vervolg\n  \nNadat er vanuit de gemeenschap een duidelijke nood aan extra oefenkansen Nederlands en het versterken van het Nederlands bij volwassenen met Mongoolse achtergrond is\, startte Ireedui vzw met een taalproject waarbij de focus ligt op het versterken van het Nederlands. Dit met als doel het de integratie te bevorderen en gemeenschapsvorming te stimuleren. Na een succesvol pilootproject start een vervolgproject. \n \n⏰ 19u00-21u00 \n❔ Volwassenen + 18 jaar\, met Mongoolse achtergrond \n📍 Bindus\, Brederodestraat 188\, 2018 Antwerpen \n✍️ Inschrijven: via Nergui Erkhembayar (Facebook) \n💶 Deelnameprijs: Afhankelijk van de inschrijving \n❔ Meer informatie via n_erkhembayar@yahoo.com
URL:https://bindusvzw.be/activiteiten/taalproject-ireedui-vzw-45/
LOCATION:Bindus Antwerpen\, Brederodestraat 188\, Antwerpen\, antwerpen\, 2000\, België
CATEGORIES:Activiteit Leden
ATTACH;FMTTYPE=image/jpeg:https://bindusvzw.be/wp-content/uploads/2025/09/2021_Logo.jpg
ORGANIZER;CN="Ireedui vzw":MAILTO:n_erkhembayar@yahoo.com
END:VEVENT
BEGIN:VEVENT
DTSTART;TZID=Europe/Helsinki:20260326T190000
DTEND;TZID=Europe/Helsinki:20260326T210000
DTSTAMP:20260419T164003
CREATED:20251118T145215Z
LAST-MODIFIED:20251118T145215Z
UID:10001790-1774551600-1774558800@bindusvzw.be
SUMMARY:Taalproject Ireedui vzw
DESCRIPTION:Het taalproject met lessen Nederlands krijgt een vervolg\n  \nNadat er vanuit de gemeenschap een duidelijke nood aan extra oefenkansen Nederlands en het versterken van het Nederlands bij volwassenen met Mongoolse achtergrond is\, startte Ireedui vzw met een taalproject waarbij de focus ligt op het versterken van het Nederlands. Dit met als doel het de integratie te bevorderen en gemeenschapsvorming te stimuleren. Na een succesvol pilootproject start een vervolgproject. \n \n⏰ 19u00-21u00 \n❔ Volwassenen + 18 jaar\, met Mongoolse achtergrond \n📍 Bindus\, Brederodestraat 188\, 2018 Antwerpen \n✍️ Inschrijven: via Nergui Erkhembayar (Facebook) \n💶 Deelnameprijs: Afhankelijk van de inschrijving \n❔ Meer informatie via n_erkhembayar@yahoo.com
URL:https://bindusvzw.be/activiteiten/taalproject-ireedui-vzw-46/
LOCATION:Bindus Antwerpen\, Brederodestraat 188\, Antwerpen\, antwerpen\, 2000\, België
CATEGORIES:Activiteit Leden
ATTACH;FMTTYPE=image/jpeg:https://bindusvzw.be/wp-content/uploads/2025/09/2021_Logo.jpg
ORGANIZER;CN="Ireedui vzw":MAILTO:n_erkhembayar@yahoo.com
END:VEVENT
END:VCALENDAR