BEGIN:VCALENDAR
VERSION:2.0
PRODID:-//Bindus vzw - ECPv6.15.20//NONSGML v1.0//EN
CALSCALE:GREGORIAN
METHOD:PUBLISH
X-ORIGINAL-URL:https://bindusvzw.be
X-WR-CALDESC:Evenementen voor Bindus vzw
REFRESH-INTERVAL;VALUE=DURATION:PT1H
X-Robots-Tag:noindex
X-PUBLISHED-TTL:PT1H
BEGIN:VTIMEZONE
TZID:Europe/Helsinki
BEGIN:DAYLIGHT
TZOFFSETFROM:+0200
TZOFFSETTO:+0300
TZNAME:EEST
DTSTART:20240331T010000
END:DAYLIGHT
BEGIN:STANDARD
TZOFFSETFROM:+0300
TZOFFSETTO:+0200
TZNAME:EET
DTSTART:20241027T010000
END:STANDARD
BEGIN:DAYLIGHT
TZOFFSETFROM:+0200
TZOFFSETTO:+0300
TZNAME:EEST
DTSTART:20250330T010000
END:DAYLIGHT
BEGIN:STANDARD
TZOFFSETFROM:+0300
TZOFFSETTO:+0200
TZNAME:EET
DTSTART:20251026T010000
END:STANDARD
BEGIN:DAYLIGHT
TZOFFSETFROM:+0200
TZOFFSETTO:+0300
TZNAME:EEST
DTSTART:20260329T010000
END:DAYLIGHT
BEGIN:STANDARD
TZOFFSETFROM:+0300
TZOFFSETTO:+0200
TZNAME:EET
DTSTART:20261025T010000
END:STANDARD
END:VTIMEZONE
BEGIN:VEVENT
DTSTART;TZID=Europe/Helsinki:20250514T130000
DTEND;TZID=Europe/Helsinki:20250514T170000
DTSTAMP:20260419T235532
CREATED:20250506T085421Z
LAST-MODIFIED:20251006T124718Z
UID:10000705-1747227600-1747242000@bindusvzw.be
SUMMARY:Workshop "ontdek het Nederlands door Virtual reality"
DESCRIPTION:Inclusion Lab organiseert\neen workshop met Virtual reality\n \n✨ Inclusion lab staat gekend voor hun innovatieve aanpak om de integratie van jonge vluchtelingen in Brussel te bevorderen.  In samenwerking met verschillende Brusselse vluchtelingencentra werkt de organisatie een aanbod uit op maat. \n❗thema: Hoe maak je een C.V. \n🗓️ woensdag 14 mei \n📍Samu Social: Poincarélaan 68\n1070 Brussel \n🤝 In samenwerking met Samusocial \n🖊️ Meer informatie: inclusionlab07@gmail.com
URL:https://bindusvzw.be/activiteiten/workshop-ontdek-het-nederlands-door-virtual-reality/
LOCATION:Samu Social Anderlecht\, Poincarélaan 68\, Anderlecht\, 1070
CATEGORIES:Activiteit Leden,Regionale Activiteit Brussel
ATTACH;FMTTYPE=image/jpeg:https://bindusvzw.be/wp-content/uploads/2025/03/goed-logo-inclusion-lab.jpg
ORGANIZER;CN="Inclusion Lab":MAILTO:inclusionlab07@gmail.com
END:VEVENT
END:VCALENDAR