BEGIN:VCALENDAR
VERSION:2.0
PRODID:-//Bindus vzw - ECPv6.15.20//NONSGML v1.0//EN
CALSCALE:GREGORIAN
METHOD:PUBLISH
X-WR-CALNAME:Bindus vzw
X-ORIGINAL-URL:https://bindusvzw.be
X-WR-CALDESC:Evenementen voor Bindus vzw
REFRESH-INTERVAL;VALUE=DURATION:PT1H
X-Robots-Tag:noindex
X-PUBLISHED-TTL:PT1H
BEGIN:VTIMEZONE
TZID:Europe/Helsinki
BEGIN:DAYLIGHT
TZOFFSETFROM:+0200
TZOFFSETTO:+0300
TZNAME:EEST
DTSTART:20240331T010000
END:DAYLIGHT
BEGIN:STANDARD
TZOFFSETFROM:+0300
TZOFFSETTO:+0200
TZNAME:EET
DTSTART:20241027T010000
END:STANDARD
BEGIN:DAYLIGHT
TZOFFSETFROM:+0200
TZOFFSETTO:+0300
TZNAME:EEST
DTSTART:20250330T010000
END:DAYLIGHT
BEGIN:STANDARD
TZOFFSETFROM:+0300
TZOFFSETTO:+0200
TZNAME:EET
DTSTART:20251026T010000
END:STANDARD
BEGIN:DAYLIGHT
TZOFFSETFROM:+0200
TZOFFSETTO:+0300
TZNAME:EEST
DTSTART:20260329T010000
END:DAYLIGHT
BEGIN:STANDARD
TZOFFSETFROM:+0300
TZOFFSETTO:+0200
TZNAME:EET
DTSTART:20261025T010000
END:STANDARD
END:VTIMEZONE
BEGIN:VEVENT
DTSTART;TZID=Europe/Helsinki:20251002T190000
DTEND;TZID=Europe/Helsinki:20251002T210000
DTSTAMP:20260421T080904
CREATED:20250917T074113Z
LAST-MODIFIED:20250917T074113Z
UID:10001705-1759431600-1759438800@bindusvzw.be
SUMMARY:Taalproject Ireedui vzw
DESCRIPTION:Ireedui vzw start een taalproject met lessen Nederlands\n  \nNadat er vanuit de gemeenschap een duidelijke nood aan extra oefenkansen Nederlands en het versterken van het Nederlands bij volwassenen met Mongoolse achtergrond is\, start Ireedui vzw met een taalproject waarbij de focus ligt op het versterken van het Nederlands. Dit met als doel het de integratie te bevorderen en gemeenschapsvorming te stimuleren. \n🗓️Iedere donderdag  tot en met donderdag 11 december \n \n⏰ 19u00-21u00 \n❔ Volwassenen + 18 jaar\, met Mongoolse achtergrond \n📍 Bindus\, Brederodestraat 188\, 2018 Antwerpen \n✍️ Inschrijven: via Nergui Erkhembayar (Facebook) \n💶 Deelnameprijs: Afhankelijk van de inschrijving \n❔ Meer informatie via n_erkhembayar@yahoo.com
URL:https://bindusvzw.be/activiteiten/taalproject-ireedui-vzw-6/
LOCATION:Bindus Antwerpen\, Brederodestraat 188\, Antwerpen\, antwerpen\, 2000\, België
CATEGORIES:Activiteit Leden
ATTACH;FMTTYPE=image/jpeg:https://bindusvzw.be/wp-content/uploads/2025/09/2021_Logo.jpg
ORGANIZER;CN="Ireedui vzw":MAILTO:n_erkhembayar@yahoo.com
END:VEVENT
BEGIN:VEVENT
DTSTART;TZID=Europe/Helsinki:20251007T190000
DTEND;TZID=Europe/Helsinki:20251007T210000
DTSTAMP:20260421T080904
CREATED:20250917T074314Z
LAST-MODIFIED:20250917T074314Z
UID:10001706-1759863600-1759870800@bindusvzw.be
SUMMARY:Taalproject Ireedui vzw
DESCRIPTION:Ireedui vzw start een taalproject met lessen Nederlands\n  \nNadat er vanuit de gemeenschap een duidelijke nood aan extra oefenkansen Nederlands en het versterken van het Nederlands bij volwassenen met Mongoolse achtergrond is\, start Ireedui vzw met een taalproject waarbij de focus ligt op het versterken van het Nederlands. Dit met als doel het de integratie te bevorderen en gemeenschapsvorming te stimuleren. \n🗓️Iedere dinsdag  tot en met dinsdag 16 december \n \n⏰ 19u00-21u00 \n❔ Volwassenen + 18 jaar\, met Mongoolse achtergrond \n📍 Bindus\, Brederodestraat 188\, 2018 Antwerpen \n✍️ Inschrijven: via Nergui Erkhembayar (Facebook) \n💶 Deelnameprijs: Afhankelijk van de inschrijving \n❔ Meer informatie via n_erkhembayar@yahoo.com
URL:https://bindusvzw.be/activiteiten/taalproject-ireedui-vzw-7/
LOCATION:Bindus Antwerpen\, Brederodestraat 188\, Antwerpen\, antwerpen\, 2000\, België
CATEGORIES:Activiteit Leden
ATTACH;FMTTYPE=image/jpeg:https://bindusvzw.be/wp-content/uploads/2025/09/2021_Logo.jpg
ORGANIZER;CN="Ireedui vzw":MAILTO:n_erkhembayar@yahoo.com
END:VEVENT
BEGIN:VEVENT
DTSTART;TZID=Europe/Helsinki:20251009T190000
DTEND;TZID=Europe/Helsinki:20251009T210000
DTSTAMP:20260421T080904
CREATED:20250917T074415Z
LAST-MODIFIED:20250917T074415Z
UID:10001707-1760036400-1760043600@bindusvzw.be
SUMMARY:Taalproject Ireedui vzw
DESCRIPTION:Ireedui vzw start een taalproject met lessen Nederlands\n  \nNadat er vanuit de gemeenschap een duidelijke nood aan extra oefenkansen Nederlands en het versterken van het Nederlands bij volwassenen met Mongoolse achtergrond is\, start Ireedui vzw met een taalproject waarbij de focus ligt op het versterken van het Nederlands. Dit met als doel het de integratie te bevorderen en gemeenschapsvorming te stimuleren. \n🗓️Iedere donderdag  tot en met donderdag 11 december \n \n⏰ 19u00-21u00 \n❔ Volwassenen + 18 jaar\, met Mongoolse achtergrond \n📍 Bindus\, Brederodestraat 188\, 2018 Antwerpen \n✍️ Inschrijven: via Nergui Erkhembayar (Facebook) \n💶 Deelnameprijs: Afhankelijk van de inschrijving \n❔ Meer informatie via n_erkhembayar@yahoo.com
URL:https://bindusvzw.be/activiteiten/taalproject-ireedui-vzw-8/
LOCATION:Bindus Antwerpen\, Brederodestraat 188\, Antwerpen\, antwerpen\, 2000\, België
CATEGORIES:Activiteit Leden
ATTACH;FMTTYPE=image/jpeg:https://bindusvzw.be/wp-content/uploads/2025/09/2021_Logo.jpg
ORGANIZER;CN="Ireedui vzw":MAILTO:n_erkhembayar@yahoo.com
END:VEVENT
BEGIN:VEVENT
DTSTART;TZID=Europe/Helsinki:20251014T190000
DTEND;TZID=Europe/Helsinki:20251014T210000
DTSTAMP:20260421T080904
CREATED:20250917T074508Z
LAST-MODIFIED:20250917T074508Z
UID:10001708-1760468400-1760475600@bindusvzw.be
SUMMARY:Taalproject Ireedui vzw
DESCRIPTION:Ireedui vzw start een taalproject met lessen Nederlands\n  \nNadat er vanuit de gemeenschap een duidelijke nood aan extra oefenkansen Nederlands en het versterken van het Nederlands bij volwassenen met Mongoolse achtergrond is\, start Ireedui vzw met een taalproject waarbij de focus ligt op het versterken van het Nederlands. Dit met als doel het de integratie te bevorderen en gemeenschapsvorming te stimuleren. \n🗓️Iedere dinsdag  tot en met dinsdag 16 december \n \n⏰ 19u00-21u00 \n❔ Volwassenen + 18 jaar\, met Mongoolse achtergrond \n📍 Bindus\, Brederodestraat 188\, 2018 Antwerpen \n✍️ Inschrijven: via Nergui Erkhembayar (Facebook) \n💶 Deelnameprijs: Afhankelijk van de inschrijving \n❔ Meer informatie via n_erkhembayar@yahoo.com
URL:https://bindusvzw.be/activiteiten/taalproject-ireedui-vzw-9/
LOCATION:Bindus Antwerpen\, Brederodestraat 188\, Antwerpen\, antwerpen\, 2000\, België
CATEGORIES:Activiteit Leden
ATTACH;FMTTYPE=image/jpeg:https://bindusvzw.be/wp-content/uploads/2025/09/2021_Logo.jpg
ORGANIZER;CN="Ireedui vzw":MAILTO:n_erkhembayar@yahoo.com
END:VEVENT
BEGIN:VEVENT
DTSTART;TZID=Europe/Helsinki:20251016T190000
DTEND;TZID=Europe/Helsinki:20251016T210000
DTSTAMP:20260421T080904
CREATED:20250917T074603Z
LAST-MODIFIED:20250917T074603Z
UID:10001709-1760641200-1760648400@bindusvzw.be
SUMMARY:Taalproject Ireedui vzw
DESCRIPTION:Ireedui vzw start een taalproject met lessen Nederlands\n  \nNadat er vanuit de gemeenschap een duidelijke nood aan extra oefenkansen Nederlands en het versterken van het Nederlands bij volwassenen met Mongoolse achtergrond is\, start Ireedui vzw met een taalproject waarbij de focus ligt op het versterken van het Nederlands. Dit met als doel het de integratie te bevorderen en gemeenschapsvorming te stimuleren. \n🗓️Iedere donderdag  tot en met donderdag 11 december \n \n⏰ 19u00-21u00 \n❔ Volwassenen + 18 jaar\, met Mongoolse achtergrond \n📍 Bindus\, Brederodestraat 188\, 2018 Antwerpen \n✍️ Inschrijven: via Nergui Erkhembayar (Facebook) \n💶 Deelnameprijs: Afhankelijk van de inschrijving \n❔ Meer informatie via n_erkhembayar@yahoo.com
URL:https://bindusvzw.be/activiteiten/taalproject-ireedui-vzw-10/
LOCATION:Bindus Antwerpen\, Brederodestraat 188\, Antwerpen\, antwerpen\, 2000\, België
CATEGORIES:Activiteit Leden
ATTACH;FMTTYPE=image/jpeg:https://bindusvzw.be/wp-content/uploads/2025/09/2021_Logo.jpg
ORGANIZER;CN="Ireedui vzw":MAILTO:n_erkhembayar@yahoo.com
END:VEVENT
BEGIN:VEVENT
DTSTART;TZID=Europe/Helsinki:20251028T190000
DTEND;TZID=Europe/Helsinki:20251028T210000
DTSTAMP:20260421T080904
CREATED:20250917T074844Z
LAST-MODIFIED:20250917T074844Z
UID:10001712-1761678000-1761685200@bindusvzw.be
SUMMARY:Taalproject Ireedui vzw
DESCRIPTION:Ireedui vzw start een taalproject met lessen Nederlands\n  \nNadat er vanuit de gemeenschap een duidelijke nood aan extra oefenkansen Nederlands en het versterken van het Nederlands bij volwassenen met Mongoolse achtergrond is\, start Ireedui vzw met een taalproject waarbij de focus ligt op het versterken van het Nederlands. Dit met als doel het de integratie te bevorderen en gemeenschapsvorming te stimuleren. \n🗓️Iedere dinsdag  tot en met dinsdag 16 december \n \n⏰ 19u00-21u00 \n❔ Volwassenen + 18 jaar\, met Mongoolse achtergrond \n📍 Bindus\, Brederodestraat 188\, 2018 Antwerpen \n✍️ Inschrijven: via Nergui Erkhembayar (Facebook) \n💶 Deelnameprijs: Afhankelijk van de inschrijving \n❔ Meer informatie via n_erkhembayar@yahoo.com
URL:https://bindusvzw.be/activiteiten/taalproject-ireedui-vzw-13/
LOCATION:Bindus Antwerpen\, Brederodestraat 188\, Antwerpen\, antwerpen\, 2000\, België
CATEGORIES:Activiteit Leden
ATTACH;FMTTYPE=image/jpeg:https://bindusvzw.be/wp-content/uploads/2025/09/2021_Logo.jpg
ORGANIZER;CN="Ireedui vzw":MAILTO:n_erkhembayar@yahoo.com
END:VEVENT
BEGIN:VEVENT
DTSTART;TZID=Europe/Helsinki:20251030T190000
DTEND;TZID=Europe/Helsinki:20251030T210000
DTSTAMP:20260421T080904
CREATED:20250917T074927Z
LAST-MODIFIED:20250917T074927Z
UID:10001713-1761850800-1761858000@bindusvzw.be
SUMMARY:Taalproject Ireedui vzw
DESCRIPTION:Ireedui vzw start een taalproject met lessen Nederlands\n  \nNadat er vanuit de gemeenschap een duidelijke nood aan extra oefenkansen Nederlands en het versterken van het Nederlands bij volwassenen met Mongoolse achtergrond is\, start Ireedui vzw met een taalproject waarbij de focus ligt op het versterken van het Nederlands. Dit met als doel het de integratie te bevorderen en gemeenschapsvorming te stimuleren. \n🗓️Iedere donderdag  tot en met donderdag 11 december \n \n⏰ 19u00-21u00 \n❔ Volwassenen + 18 jaar\, met Mongoolse achtergrond \n📍 Bindus\, Brederodestraat 188\, 2018 Antwerpen \n✍️ Inschrijven: via Nergui Erkhembayar (Facebook) \n💶 Deelnameprijs: Afhankelijk van de inschrijving \n❔ Meer informatie via n_erkhembayar@yahoo.com
URL:https://bindusvzw.be/activiteiten/taalproject-ireedui-vzw-14/
LOCATION:Bindus Antwerpen\, Brederodestraat 188\, Antwerpen\, antwerpen\, 2000\, België
CATEGORIES:Activiteit Leden
ATTACH;FMTTYPE=image/jpeg:https://bindusvzw.be/wp-content/uploads/2025/09/2021_Logo.jpg
ORGANIZER;CN="Ireedui vzw":MAILTO:n_erkhembayar@yahoo.com
END:VEVENT
END:VCALENDAR