BEGIN:VCALENDAR
VERSION:2.0
PRODID:-//Bindus vzw - ECPv6.15.20//NONSGML v1.0//EN
CALSCALE:GREGORIAN
METHOD:PUBLISH
X-ORIGINAL-URL:https://bindusvzw.be
X-WR-CALDESC:Evenementen voor Bindus vzw
REFRESH-INTERVAL;VALUE=DURATION:PT1H
X-Robots-Tag:noindex
X-PUBLISHED-TTL:PT1H
BEGIN:VTIMEZONE
TZID:Europe/Helsinki
BEGIN:DAYLIGHT
TZOFFSETFROM:+0200
TZOFFSETTO:+0300
TZNAME:EEST
DTSTART:20250330T010000
END:DAYLIGHT
BEGIN:STANDARD
TZOFFSETFROM:+0300
TZOFFSETTO:+0200
TZNAME:EET
DTSTART:20251026T010000
END:STANDARD
BEGIN:DAYLIGHT
TZOFFSETFROM:+0200
TZOFFSETTO:+0300
TZNAME:EEST
DTSTART:20260329T010000
END:DAYLIGHT
BEGIN:STANDARD
TZOFFSETFROM:+0300
TZOFFSETTO:+0200
TZNAME:EET
DTSTART:20261025T010000
END:STANDARD
BEGIN:DAYLIGHT
TZOFFSETFROM:+0200
TZOFFSETTO:+0300
TZNAME:EEST
DTSTART:20270328T010000
END:DAYLIGHT
BEGIN:STANDARD
TZOFFSETFROM:+0300
TZOFFSETTO:+0200
TZNAME:EET
DTSTART:20271031T010000
END:STANDARD
END:VTIMEZONE
BEGIN:VEVENT
DTSTART;TZID=Europe/Helsinki:20260113T190000
DTEND;TZID=Europe/Helsinki:20260113T210000
DTSTAMP:20260420T110139
CREATED:20251118T143519Z
LAST-MODIFIED:20251118T143519Z
UID:10001770-1768330800-1768338000@bindusvzw.be
SUMMARY:Taalproject Ireedui vzw
DESCRIPTION:Het taalproject met lessen Nederlands krijgt een vervolg\n  \nNadat er vanuit de gemeenschap een duidelijke nood aan extra oefenkansen Nederlands en het versterken van het Nederlands bij volwassenen met Mongoolse achtergrond is\, startte Ireedui vzw met een taalproject waarbij de focus ligt op het versterken van het Nederlands. Dit met als doel het de integratie te bevorderen en gemeenschapsvorming te stimuleren. Na een succesvol pilootproject start een vervolgproject. \n \n⏰ 19u00-21u00 \n❔ Volwassenen + 18 jaar\, met Mongoolse achtergrond \n📍 Bindus\, Brederodestraat 188\, 2018 Antwerpen \n✍️ Inschrijven: via Nergui Erkhembayar (Facebook) \n💶 Deelnameprijs: Afhankelijk van de inschrijving \n❔ Meer informatie via n_erkhembayar@yahoo.com
URL:https://bindusvzw.be/activiteiten/taalproject-ireedui-vzw-11/
LOCATION:Bindus Antwerpen\, Brederodestraat 188\, Antwerpen\, antwerpen\, 2000\, België
CATEGORIES:Activiteit Leden
ATTACH;FMTTYPE=image/jpeg:https://bindusvzw.be/wp-content/uploads/2025/09/2021_Logo.jpg
ORGANIZER;CN="Ireedui vzw":MAILTO:n_erkhembayar@yahoo.com
END:VEVENT
BEGIN:VEVENT
DTSTART;TZID=Europe/Helsinki:20260115T190000
DTEND;TZID=Europe/Helsinki:20260115T210000
DTSTAMP:20260420T110139
CREATED:20251118T143749Z
LAST-MODIFIED:20251118T143749Z
UID:10001771-1768503600-1768510800@bindusvzw.be
SUMMARY:Taalproject Ireedui vzw
DESCRIPTION:Het taalproject met lessen Nederlands krijgt een vervolg\n  \nNadat er vanuit de gemeenschap een duidelijke nood aan extra oefenkansen Nederlands en het versterken van het Nederlands bij volwassenen met Mongoolse achtergrond is\, startte Ireedui vzw met een taalproject waarbij de focus ligt op het versterken van het Nederlands. Dit met als doel het de integratie te bevorderen en gemeenschapsvorming te stimuleren. Na een succesvol pilootproject start een vervolgproject. \n \n⏰ 19u00-21u00 \n❔ Volwassenen + 18 jaar\, met Mongoolse achtergrond \n📍 Bindus\, Brederodestraat 188\, 2018 Antwerpen \n✍️ Inschrijven: via Nergui Erkhembayar (Facebook) \n💶 Deelnameprijs: Afhankelijk van de inschrijving \n❔ Meer informatie via n_erkhembayar@yahoo.com
URL:https://bindusvzw.be/activiteiten/taalproject-ireedui-vzw-12/
LOCATION:Bindus Antwerpen\, Brederodestraat 188\, Antwerpen\, antwerpen\, 2000\, België
CATEGORIES:Activiteit Leden
ATTACH;FMTTYPE=image/jpeg:https://bindusvzw.be/wp-content/uploads/2025/09/2021_Logo.jpg
ORGANIZER;CN="Ireedui vzw":MAILTO:n_erkhembayar@yahoo.com
END:VEVENT
BEGIN:VEVENT
DTSTART;TZID=Europe/Helsinki:20260120T190000
DTEND;TZID=Europe/Helsinki:20260120T210000
DTSTAMP:20260420T110139
CREATED:20251118T143829Z
LAST-MODIFIED:20251118T143829Z
UID:10001772-1768935600-1768942800@bindusvzw.be
SUMMARY:Taalproject Ireedui vzw
DESCRIPTION:Het taalproject met lessen Nederlands krijgt een vervolg\n  \nNadat er vanuit de gemeenschap een duidelijke nood aan extra oefenkansen Nederlands en het versterken van het Nederlands bij volwassenen met Mongoolse achtergrond is\, startte Ireedui vzw met een taalproject waarbij de focus ligt op het versterken van het Nederlands. Dit met als doel het de integratie te bevorderen en gemeenschapsvorming te stimuleren. Na een succesvol pilootproject start een vervolgproject. \n \n⏰ 19u00-21u00 \n❔ Volwassenen + 18 jaar\, met Mongoolse achtergrond \n📍 Bindus\, Brederodestraat 188\, 2018 Antwerpen \n✍️ Inschrijven: via Nergui Erkhembayar (Facebook) \n💶 Deelnameprijs: Afhankelijk van de inschrijving \n❔ Meer informatie via n_erkhembayar@yahoo.com
URL:https://bindusvzw.be/activiteiten/taalproject-ireedui-vzw-28/
LOCATION:Bindus Antwerpen\, Brederodestraat 188\, Antwerpen\, antwerpen\, 2000\, België
CATEGORIES:Activiteit Leden
ATTACH;FMTTYPE=image/jpeg:https://bindusvzw.be/wp-content/uploads/2025/09/2021_Logo.jpg
ORGANIZER;CN="Ireedui vzw":MAILTO:n_erkhembayar@yahoo.com
END:VEVENT
BEGIN:VEVENT
DTSTART;TZID=Europe/Helsinki:20260122T190000
DTEND;TZID=Europe/Helsinki:20260122T210000
DTSTAMP:20260420T110139
CREATED:20251118T143928Z
LAST-MODIFIED:20251118T143928Z
UID:10001773-1769108400-1769115600@bindusvzw.be
SUMMARY:Taalproject Ireedui vzw
DESCRIPTION:Het taalproject met lessen Nederlands krijgt een vervolg\n  \nNadat er vanuit de gemeenschap een duidelijke nood aan extra oefenkansen Nederlands en het versterken van het Nederlands bij volwassenen met Mongoolse achtergrond is\, startte Ireedui vzw met een taalproject waarbij de focus ligt op het versterken van het Nederlands. Dit met als doel het de integratie te bevorderen en gemeenschapsvorming te stimuleren. Na een succesvol pilootproject start een vervolgproject. \n \n⏰ 19u00-21u00 \n❔ Volwassenen + 18 jaar\, met Mongoolse achtergrond \n📍 Bindus\, Brederodestraat 188\, 2018 Antwerpen \n✍️ Inschrijven: via Nergui Erkhembayar (Facebook) \n💶 Deelnameprijs: Afhankelijk van de inschrijving \n❔ Meer informatie via n_erkhembayar@yahoo.com
URL:https://bindusvzw.be/activiteiten/taalproject-ireedui-vzw-29/
LOCATION:Bindus Antwerpen\, Brederodestraat 188\, Antwerpen\, antwerpen\, 2000\, België
CATEGORIES:Activiteit Leden
ATTACH;FMTTYPE=image/jpeg:https://bindusvzw.be/wp-content/uploads/2025/09/2021_Logo.jpg
ORGANIZER;CN="Ireedui vzw":MAILTO:n_erkhembayar@yahoo.com
END:VEVENT
BEGIN:VEVENT
DTSTART;TZID=Europe/Helsinki:20260127T190000
DTEND;TZID=Europe/Helsinki:20260127T210000
DTSTAMP:20260420T110139
CREATED:20251118T144019Z
LAST-MODIFIED:20251118T144019Z
UID:10001774-1769540400-1769547600@bindusvzw.be
SUMMARY:Taalproject Ireedui vzw
DESCRIPTION:Het taalproject met lessen Nederlands krijgt een vervolg\n  \nNadat er vanuit de gemeenschap een duidelijke nood aan extra oefenkansen Nederlands en het versterken van het Nederlands bij volwassenen met Mongoolse achtergrond is\, startte Ireedui vzw met een taalproject waarbij de focus ligt op het versterken van het Nederlands. Dit met als doel het de integratie te bevorderen en gemeenschapsvorming te stimuleren. Na een succesvol pilootproject start een vervolgproject. \n \n⏰ 19u00-21u00 \n❔ Volwassenen + 18 jaar\, met Mongoolse achtergrond \n📍 Bindus\, Brederodestraat 188\, 2018 Antwerpen \n✍️ Inschrijven: via Nergui Erkhembayar (Facebook) \n💶 Deelnameprijs: Afhankelijk van de inschrijving \n❔ Meer informatie via n_erkhembayar@yahoo.com
URL:https://bindusvzw.be/activiteiten/taalproject-ireedui-vzw-30/
LOCATION:Bindus Antwerpen\, Brederodestraat 188\, Antwerpen\, antwerpen\, 2000\, België
CATEGORIES:Activiteit Leden
ATTACH;FMTTYPE=image/jpeg:https://bindusvzw.be/wp-content/uploads/2025/09/2021_Logo.jpg
ORGANIZER;CN="Ireedui vzw":MAILTO:n_erkhembayar@yahoo.com
END:VEVENT
BEGIN:VEVENT
DTSTART;TZID=Europe/Helsinki:20260129T190000
DTEND;TZID=Europe/Helsinki:20260129T210000
DTSTAMP:20260420T110139
CREATED:20251118T144053Z
LAST-MODIFIED:20251118T144053Z
UID:10001775-1769713200-1769720400@bindusvzw.be
SUMMARY:Taalproject Ireedui vzw
DESCRIPTION:Het taalproject met lessen Nederlands krijgt een vervolg\n  \nNadat er vanuit de gemeenschap een duidelijke nood aan extra oefenkansen Nederlands en het versterken van het Nederlands bij volwassenen met Mongoolse achtergrond is\, startte Ireedui vzw met een taalproject waarbij de focus ligt op het versterken van het Nederlands. Dit met als doel het de integratie te bevorderen en gemeenschapsvorming te stimuleren. Na een succesvol pilootproject start een vervolgproject. \n \n⏰ 19u00-21u00 \n❔ Volwassenen + 18 jaar\, met Mongoolse achtergrond \n📍 Bindus\, Brederodestraat 188\, 2018 Antwerpen \n✍️ Inschrijven: via Nergui Erkhembayar (Facebook) \n💶 Deelnameprijs: Afhankelijk van de inschrijving \n❔ Meer informatie via n_erkhembayar@yahoo.com
URL:https://bindusvzw.be/activiteiten/taalproject-ireedui-vzw-31/
LOCATION:Bindus Antwerpen\, Brederodestraat 188\, Antwerpen\, antwerpen\, 2000\, België
CATEGORIES:Activiteit Leden
ATTACH;FMTTYPE=image/jpeg:https://bindusvzw.be/wp-content/uploads/2025/09/2021_Logo.jpg
ORGANIZER;CN="Ireedui vzw":MAILTO:n_erkhembayar@yahoo.com
END:VEVENT
END:VCALENDAR