BEGIN:VCALENDAR
VERSION:2.0
PRODID:-//Bindus vzw - ECPv6.15.20//NONSGML v1.0//EN
CALSCALE:GREGORIAN
METHOD:PUBLISH
X-WR-CALNAME:Bindus vzw
X-ORIGINAL-URL:https://bindusvzw.be
X-WR-CALDESC:Evenementen voor Bindus vzw
REFRESH-INTERVAL;VALUE=DURATION:PT1H
X-Robots-Tag:noindex
X-PUBLISHED-TTL:PT1H
BEGIN:VTIMEZONE
TZID:Europe/Helsinki
BEGIN:DAYLIGHT
TZOFFSETFROM:+0200
TZOFFSETTO:+0300
TZNAME:EEST
DTSTART:20240331T010000
END:DAYLIGHT
BEGIN:STANDARD
TZOFFSETFROM:+0300
TZOFFSETTO:+0200
TZNAME:EET
DTSTART:20241027T010000
END:STANDARD
BEGIN:DAYLIGHT
TZOFFSETFROM:+0200
TZOFFSETTO:+0300
TZNAME:EEST
DTSTART:20250330T010000
END:DAYLIGHT
BEGIN:STANDARD
TZOFFSETFROM:+0300
TZOFFSETTO:+0200
TZNAME:EET
DTSTART:20251026T010000
END:STANDARD
BEGIN:DAYLIGHT
TZOFFSETFROM:+0200
TZOFFSETTO:+0300
TZNAME:EEST
DTSTART:20260329T010000
END:DAYLIGHT
BEGIN:STANDARD
TZOFFSETFROM:+0300
TZOFFSETTO:+0200
TZNAME:EET
DTSTART:20261025T010000
END:STANDARD
END:VTIMEZONE
BEGIN:VEVENT
DTSTART;TZID=Europe/Helsinki:20251104T190000
DTEND;TZID=Europe/Helsinki:20251104T210000
DTSTAMP:20260421T011819
CREATED:20250917T075029Z
LAST-MODIFIED:20250917T075029Z
UID:10001714-1762282800-1762290000@bindusvzw.be
SUMMARY:Taalproject Ireedui vzw
DESCRIPTION:Ireedui vzw start een taalproject met lessen Nederlands\n  \nNadat er vanuit de gemeenschap een duidelijke nood aan extra oefenkansen Nederlands en het versterken van het Nederlands bij volwassenen met Mongoolse achtergrond is\, start Ireedui vzw met een taalproject waarbij de focus ligt op het versterken van het Nederlands. Dit met als doel het de integratie te bevorderen en gemeenschapsvorming te stimuleren. \n🗓️Iedere dinsdag  tot en met dinsdag 16 december \n \n⏰ 19u00-21u00 \n❔ Volwassenen + 18 jaar\, met Mongoolse achtergrond \n📍 Bindus\, Brederodestraat 188\, 2018 Antwerpen \n✍️ Inschrijven: via Nergui Erkhembayar (Facebook) \n💶 Deelnameprijs: Afhankelijk van de inschrijving \n❔ Meer informatie via n_erkhembayar@yahoo.com
URL:https://bindusvzw.be/activiteiten/taalproject-ireedui-vzw-15/
LOCATION:Bindus Antwerpen\, Brederodestraat 188\, Antwerpen\, antwerpen\, 2000\, België
CATEGORIES:Activiteit Leden
ATTACH;FMTTYPE=image/jpeg:https://bindusvzw.be/wp-content/uploads/2025/09/2021_Logo.jpg
ORGANIZER;CN="Ireedui vzw":MAILTO:n_erkhembayar@yahoo.com
END:VEVENT
BEGIN:VEVENT
DTSTART;TZID=Europe/Helsinki:20251105T190000
DTEND;TZID=Europe/Helsinki:20251105T210000
DTSTAMP:20260421T011819
CREATED:20250917T075156Z
LAST-MODIFIED:20250917T075156Z
UID:10001716-1762369200-1762376400@bindusvzw.be
SUMMARY:Taalproject Ireedui vzw
DESCRIPTION:Ireedui vzw start een taalproject met lessen Nederlands\n  \nNadat er vanuit de gemeenschap een duidelijke nood aan extra oefenkansen Nederlands en het versterken van het Nederlands bij volwassenen met Mongoolse achtergrond is\, start Ireedui vzw met een taalproject waarbij de focus ligt op het versterken van het Nederlands. Dit met als doel het de integratie te bevorderen en gemeenschapsvorming te stimuleren. \n \n⏰ 19u00-21u00 \n❔ Volwassenen + 18 jaar\, met Mongoolse achtergrond \n📍 Bindus\, Brederodestraat 188\, 2018 Antwerpen \n✍️ Inschrijven: via Nergui Erkhembayar (Facebook) \n💶 Deelnameprijs: Afhankelijk van de inschrijving \n❔ Meer informatie via n_erkhembayar@yahoo.com
URL:https://bindusvzw.be/activiteiten/taalproject-ireedui-vzw-16/
LOCATION:Bindus Antwerpen\, Brederodestraat 188\, Antwerpen\, antwerpen\, 2000\, België
CATEGORIES:Activiteit Leden
ATTACH;FMTTYPE=image/jpeg:https://bindusvzw.be/wp-content/uploads/2025/09/2021_Logo.jpg
ORGANIZER;CN="Ireedui vzw":MAILTO:n_erkhembayar@yahoo.com
END:VEVENT
BEGIN:VEVENT
DTSTART;TZID=Europe/Helsinki:20251111T190000
DTEND;TZID=Europe/Helsinki:20251111T210000
DTSTAMP:20260421T011819
CREATED:20250917T075247Z
LAST-MODIFIED:20250917T075247Z
UID:10001717-1762887600-1762894800@bindusvzw.be
SUMMARY:Taalproject Ireedui vzw
DESCRIPTION:Ireedui vzw start een taalproject met lessen Nederlands\n  \nNadat er vanuit de gemeenschap een duidelijke nood aan extra oefenkansen Nederlands en het versterken van het Nederlands bij volwassenen met Mongoolse achtergrond is\, start Ireedui vzw met een taalproject waarbij de focus ligt op het versterken van het Nederlands. Dit met als doel het de integratie te bevorderen en gemeenschapsvorming te stimuleren. \n🗓️Iedere dinsdag  tot en met dinsdag 16 december \n \n⏰ 19u00-21u00 \n❔ Volwassenen + 18 jaar\, met Mongoolse achtergrond \n📍 Bindus\, Brederodestraat 188\, 2018 Antwerpen \n✍️ Inschrijven: via Nergui Erkhembayar (Facebook) \n💶 Deelnameprijs: Afhankelijk van de inschrijving \n❔ Meer informatie via n_erkhembayar@yahoo.com
URL:https://bindusvzw.be/activiteiten/taalproject-ireedui-vzw-17/
LOCATION:Bindus Antwerpen\, Brederodestraat 188\, Antwerpen\, antwerpen\, 2000\, België
CATEGORIES:Activiteit Leden
ATTACH;FMTTYPE=image/jpeg:https://bindusvzw.be/wp-content/uploads/2025/09/2021_Logo.jpg
ORGANIZER;CN="Ireedui vzw":MAILTO:n_erkhembayar@yahoo.com
END:VEVENT
BEGIN:VEVENT
DTSTART;TZID=Europe/Helsinki:20251113T190000
DTEND;TZID=Europe/Helsinki:20251113T210000
DTSTAMP:20260421T011819
CREATED:20250917T075339Z
LAST-MODIFIED:20250917T075339Z
UID:10001718-1763060400-1763067600@bindusvzw.be
SUMMARY:Taalproject Ireedui vzw
DESCRIPTION:Ireedui vzw start een taalproject met lessen Nederlands\n  \nNadat er vanuit de gemeenschap een duidelijke nood aan extra oefenkansen Nederlands en het versterken van het Nederlands bij volwassenen met Mongoolse achtergrond is\, start Ireedui vzw met een taalproject waarbij de focus ligt op het versterken van het Nederlands. Dit met als doel het de integratie te bevorderen en gemeenschapsvorming te stimuleren. \n🗓️Iedere donderdag  tot en met donderdag 11 december \n \n⏰ 19u00-21u00 \n❔ Volwassenen + 18 jaar\, met Mongoolse achtergrond \n📍 Bindus\, Brederodestraat 188\, 2018 Antwerpen \n✍️ Inschrijven: via Nergui Erkhembayar (Facebook) \n💶 Deelnameprijs: Afhankelijk van de inschrijving \n❔ Meer informatie via n_erkhembayar@yahoo.com
URL:https://bindusvzw.be/activiteiten/taalproject-ireedui-vzw-18/
LOCATION:Bindus Antwerpen\, Brederodestraat 188\, Antwerpen\, antwerpen\, 2000\, België
CATEGORIES:Activiteit Leden
ATTACH;FMTTYPE=image/jpeg:https://bindusvzw.be/wp-content/uploads/2025/09/2021_Logo.jpg
ORGANIZER;CN="Ireedui vzw":MAILTO:n_erkhembayar@yahoo.com
END:VEVENT
BEGIN:VEVENT
DTSTART;TZID=Europe/Helsinki:20251118T190000
DTEND;TZID=Europe/Helsinki:20251118T210000
DTSTAMP:20260421T011819
CREATED:20250917T075426Z
LAST-MODIFIED:20250917T075426Z
UID:10001719-1763492400-1763499600@bindusvzw.be
SUMMARY:Taalproject Ireedui vzw
DESCRIPTION:Ireedui vzw start een taalproject met lessen Nederlands\n  \nNadat er vanuit de gemeenschap een duidelijke nood aan extra oefenkansen Nederlands en het versterken van het Nederlands bij volwassenen met Mongoolse achtergrond is\, start Ireedui vzw met een taalproject waarbij de focus ligt op het versterken van het Nederlands. Dit met als doel het de integratie te bevorderen en gemeenschapsvorming te stimuleren. \n🗓️Iedere dinsdag  tot en met dinsdag 16 december \n \n⏰ 19u00-21u00 \n❔ Volwassenen + 18 jaar\, met Mongoolse achtergrond \n📍 Bindus\, Brederodestraat 188\, 2018 Antwerpen \n✍️ Inschrijven: via Nergui Erkhembayar (Facebook) \n💶 Deelnameprijs: Afhankelijk van de inschrijving \n❔ Meer informatie via n_erkhembayar@yahoo.com
URL:https://bindusvzw.be/activiteiten/taalproject-ireedui-vzw-19/
LOCATION:Bindus Antwerpen\, Brederodestraat 188\, Antwerpen\, antwerpen\, 2000\, België
CATEGORIES:Activiteit Leden
ATTACH;FMTTYPE=image/jpeg:https://bindusvzw.be/wp-content/uploads/2025/09/2021_Logo.jpg
ORGANIZER;CN="Ireedui vzw":MAILTO:n_erkhembayar@yahoo.com
END:VEVENT
BEGIN:VEVENT
DTSTART;TZID=Europe/Helsinki:20251120T190000
DTEND;TZID=Europe/Helsinki:20251120T210000
DTSTAMP:20260421T011819
CREATED:20250917T075516Z
LAST-MODIFIED:20250917T075516Z
UID:10001720-1763665200-1763672400@bindusvzw.be
SUMMARY:Taalproject Ireedui vzw
DESCRIPTION:Ireedui vzw start een taalproject met lessen Nederlands\n  \nNadat er vanuit de gemeenschap een duidelijke nood aan extra oefenkansen Nederlands en het versterken van het Nederlands bij volwassenen met Mongoolse achtergrond is\, start Ireedui vzw met een taalproject waarbij de focus ligt op het versterken van het Nederlands. Dit met als doel het de integratie te bevorderen en gemeenschapsvorming te stimuleren. \n🗓️Iedere donderdag  tot en met donderdag 11 december \n \n⏰ 19u00-21u00 \n❔ Volwassenen + 18 jaar\, met Mongoolse achtergrond \n📍 Bindus\, Brederodestraat 188\, 2018 Antwerpen \n✍️ Inschrijven: via Nergui Erkhembayar (Facebook) \n💶 Deelnameprijs: Afhankelijk van de inschrijving \n❔ Meer informatie via n_erkhembayar@yahoo.com
URL:https://bindusvzw.be/activiteiten/taalproject-ireedui-vzw-20/
LOCATION:Bindus Antwerpen\, Brederodestraat 188\, Antwerpen\, antwerpen\, 2000\, België
CATEGORIES:Activiteit Leden
ATTACH;FMTTYPE=image/jpeg:https://bindusvzw.be/wp-content/uploads/2025/09/2021_Logo.jpg
ORGANIZER;CN="Ireedui vzw":MAILTO:n_erkhembayar@yahoo.com
END:VEVENT
BEGIN:VEVENT
DTSTART;TZID=Europe/Helsinki:20251125T190000
DTEND;TZID=Europe/Helsinki:20251125T210000
DTSTAMP:20260421T011819
CREATED:20250917T075607Z
LAST-MODIFIED:20250917T075607Z
UID:10001721-1764097200-1764104400@bindusvzw.be
SUMMARY:Taalproject Ireedui vzw
DESCRIPTION:Ireedui vzw start een taalproject met lessen Nederlands\n  \nNadat er vanuit de gemeenschap een duidelijke nood aan extra oefenkansen Nederlands en het versterken van het Nederlands bij volwassenen met Mongoolse achtergrond is\, start Ireedui vzw met een taalproject waarbij de focus ligt op het versterken van het Nederlands. Dit met als doel het de integratie te bevorderen en gemeenschapsvorming te stimuleren. \n🗓️Iedere dinsdag  tot en met dinsdag 16 december \n \n⏰ 19u00-21u00 \n❔ Volwassenen + 18 jaar\, met Mongoolse achtergrond \n📍 Bindus\, Brederodestraat 188\, 2018 Antwerpen \n✍️ Inschrijven: via Nergui Erkhembayar (Facebook) \n💶 Deelnameprijs: Afhankelijk van de inschrijving \n❔ Meer informatie via n_erkhembayar@yahoo.com
URL:https://bindusvzw.be/activiteiten/taalproject-ireedui-vzw-21/
LOCATION:Bindus Antwerpen\, Brederodestraat 188\, Antwerpen\, antwerpen\, 2000\, België
CATEGORIES:Activiteit Leden
ATTACH;FMTTYPE=image/jpeg:https://bindusvzw.be/wp-content/uploads/2025/09/2021_Logo.jpg
ORGANIZER;CN="Ireedui vzw":MAILTO:n_erkhembayar@yahoo.com
END:VEVENT
BEGIN:VEVENT
DTSTART;TZID=Europe/Helsinki:20251127T190000
DTEND;TZID=Europe/Helsinki:20251127T210000
DTSTAMP:20260421T011819
CREATED:20250917T075715Z
LAST-MODIFIED:20250917T075715Z
UID:10001722-1764270000-1764277200@bindusvzw.be
SUMMARY:Taalproject Ireedui vzw
DESCRIPTION:Ireedui vzw start een taalproject met lessen Nederlands\n  \nNadat er vanuit de gemeenschap een duidelijke nood aan extra oefenkansen Nederlands en het versterken van het Nederlands bij volwassenen met Mongoolse achtergrond is\, start Ireedui vzw met een taalproject waarbij de focus ligt op het versterken van het Nederlands. Dit met als doel het de integratie te bevorderen en gemeenschapsvorming te stimuleren. \n🗓️Iedere donderdag  tot en met dinsdag 11 december \n \n⏰ 19u00-21u00 \n❔ Volwassenen + 18 jaar\, met Mongoolse achtergrond \n📍 Bindus\, Brederodestraat 188\, 2018 Antwerpen \n✍️ Inschrijven: via Nergui Erkhembayar (Facebook) \n💶 Deelnameprijs: Afhankelijk van de inschrijving \n❔ Meer informatie via n_erkhembayar@yahoo.com
URL:https://bindusvzw.be/activiteiten/taalproject-ireedui-vzw-22/
LOCATION:Bindus Antwerpen\, Brederodestraat 188\, Antwerpen\, antwerpen\, 2000\, België
CATEGORIES:Activiteit Leden
ATTACH;FMTTYPE=image/jpeg:https://bindusvzw.be/wp-content/uploads/2025/09/2021_Logo.jpg
ORGANIZER;CN="Ireedui vzw":MAILTO:n_erkhembayar@yahoo.com
END:VEVENT
END:VCALENDAR