BEGIN:VCALENDAR
VERSION:2.0
PRODID:-//Bindus vzw - ECPv6.15.20//NONSGML v1.0//EN
CALSCALE:GREGORIAN
METHOD:PUBLISH
X-ORIGINAL-URL:https://bindusvzw.be
X-WR-CALDESC:Evenementen voor Bindus vzw
REFRESH-INTERVAL;VALUE=DURATION:PT1H
X-Robots-Tag:noindex
X-PUBLISHED-TTL:PT1H
BEGIN:VTIMEZONE
TZID:Europe/Helsinki
BEGIN:DAYLIGHT
TZOFFSETFROM:+0200
TZOFFSETTO:+0300
TZNAME:EEST
DTSTART:20240331T010000
END:DAYLIGHT
BEGIN:STANDARD
TZOFFSETFROM:+0300
TZOFFSETTO:+0200
TZNAME:EET
DTSTART:20241027T010000
END:STANDARD
BEGIN:DAYLIGHT
TZOFFSETFROM:+0200
TZOFFSETTO:+0300
TZNAME:EEST
DTSTART:20250330T010000
END:DAYLIGHT
BEGIN:STANDARD
TZOFFSETFROM:+0300
TZOFFSETTO:+0200
TZNAME:EET
DTSTART:20251026T010000
END:STANDARD
BEGIN:DAYLIGHT
TZOFFSETFROM:+0200
TZOFFSETTO:+0300
TZNAME:EEST
DTSTART:20260329T010000
END:DAYLIGHT
BEGIN:STANDARD
TZOFFSETFROM:+0300
TZOFFSETTO:+0200
TZNAME:EET
DTSTART:20261025T010000
END:STANDARD
END:VTIMEZONE
BEGIN:VEVENT
DTSTART;TZID=Europe/Helsinki:20251202T190000
DTEND;TZID=Europe/Helsinki:20251202T210000
DTSTAMP:20260420T145012
CREATED:20250917T075800Z
LAST-MODIFIED:20250917T075800Z
UID:10001723-1764702000-1764709200@bindusvzw.be
SUMMARY:Taalproject Ireedui vzw
DESCRIPTION:Ireedui vzw start een taalproject met lessen Nederlands\n  \nNadat er vanuit de gemeenschap een duidelijke nood aan extra oefenkansen Nederlands en het versterken van het Nederlands bij volwassenen met Mongoolse achtergrond is\, start Ireedui vzw met een taalproject waarbij de focus ligt op het versterken van het Nederlands. Dit met als doel het de integratie te bevorderen en gemeenschapsvorming te stimuleren. \n🗓️Iedere dinsdag  tot en met dinsdag 16 december \n \n⏰ 19u00-21u00 \n❔ Volwassenen + 18 jaar\, met Mongoolse achtergrond \n📍 Bindus\, Brederodestraat 188\, 2018 Antwerpen \n✍️ Inschrijven: via Nergui Erkhembayar (Facebook) \n💶 Deelnameprijs: Afhankelijk van de inschrijving \n❔ Meer informatie via n_erkhembayar@yahoo.com
URL:https://bindusvzw.be/activiteiten/taalproject-ireedui-vzw-23/
LOCATION:Bindus Antwerpen\, Brederodestraat 188\, Antwerpen\, antwerpen\, 2000\, België
CATEGORIES:Activiteit Leden
ATTACH;FMTTYPE=image/jpeg:https://bindusvzw.be/wp-content/uploads/2025/09/2021_Logo.jpg
ORGANIZER;CN="Ireedui vzw":MAILTO:n_erkhembayar@yahoo.com
END:VEVENT
BEGIN:VEVENT
DTSTART;TZID=Europe/Helsinki:20251204T190000
DTEND;TZID=Europe/Helsinki:20251204T210000
DTSTAMP:20260420T145012
CREATED:20250917T075937Z
LAST-MODIFIED:20250917T075937Z
UID:10001724-1764874800-1764882000@bindusvzw.be
SUMMARY:Taalproject Ireedui vzw
DESCRIPTION:Ireedui vzw start een taalproject met lessen Nederlands\n  \nNadat er vanuit de gemeenschap een duidelijke nood aan extra oefenkansen Nederlands en het versterken van het Nederlands bij volwassenen met Mongoolse achtergrond is\, start Ireedui vzw met een taalproject waarbij de focus ligt op het versterken van het Nederlands. Dit met als doel het de integratie te bevorderen en gemeenschapsvorming te stimuleren. \n🗓️Iedere donderdag  tot en met donderdag 11 december \n \n⏰ 19u00-21u00 \n❔ Volwassenen + 18 jaar\, met Mongoolse achtergrond \n📍 Bindus\, Brederodestraat 188\, 2018 Antwerpen \n✍️ Inschrijven: via Nergui Erkhembayar (Facebook) \n💶 Deelnameprijs: Afhankelijk van de inschrijving \n❔ Meer informatie via n_erkhembayar@yahoo.com
URL:https://bindusvzw.be/activiteiten/taalproject-ireedui-vzw-24/
LOCATION:Bindus Antwerpen\, Brederodestraat 188\, Antwerpen\, antwerpen\, 2000\, België
CATEGORIES:Activiteit Leden
ATTACH;FMTTYPE=image/jpeg:https://bindusvzw.be/wp-content/uploads/2025/09/2021_Logo.jpg
ORGANIZER;CN="Ireedui vzw":MAILTO:n_erkhembayar@yahoo.com
END:VEVENT
BEGIN:VEVENT
DTSTART;TZID=Europe/Helsinki:20251209T190000
DTEND;TZID=Europe/Helsinki:20251209T210000
DTSTAMP:20260420T145012
CREATED:20250917T080019Z
LAST-MODIFIED:20250917T080019Z
UID:10001725-1765306800-1765314000@bindusvzw.be
SUMMARY:Taalproject Ireedui vzw
DESCRIPTION:Ireedui vzw start een taalproject met lessen Nederlands\n  \nNadat er vanuit de gemeenschap een duidelijke nood aan extra oefenkansen Nederlands en het versterken van het Nederlands bij volwassenen met Mongoolse achtergrond is\, start Ireedui vzw met een taalproject waarbij de focus ligt op het versterken van het Nederlands. Dit met als doel het de integratie te bevorderen en gemeenschapsvorming te stimuleren. \n🗓️Iedere dinsdag  tot en met dinsdag 16 december \n \n⏰ 19u00-21u00 \n❔ Volwassenen + 18 jaar\, met Mongoolse achtergrond \n📍 Bindus\, Brederodestraat 188\, 2018 Antwerpen \n✍️ Inschrijven: via Nergui Erkhembayar (Facebook) \n💶 Deelnameprijs: Afhankelijk van de inschrijving \n❔ Meer informatie via n_erkhembayar@yahoo.com
URL:https://bindusvzw.be/activiteiten/taalproject-ireedui-vzw-25/
LOCATION:Bindus Antwerpen\, Brederodestraat 188\, Antwerpen\, antwerpen\, 2000\, België
CATEGORIES:Activiteit Leden
ATTACH;FMTTYPE=image/jpeg:https://bindusvzw.be/wp-content/uploads/2025/09/2021_Logo.jpg
ORGANIZER;CN="Ireedui vzw":MAILTO:n_erkhembayar@yahoo.com
END:VEVENT
BEGIN:VEVENT
DTSTART;TZID=Europe/Helsinki:20251211T190000
DTEND;TZID=Europe/Helsinki:20251211T210000
DTSTAMP:20260420T145012
CREATED:20250917T080136Z
LAST-MODIFIED:20250917T080136Z
UID:10001726-1765479600-1765486800@bindusvzw.be
SUMMARY:Taalproject Ireedui vzw
DESCRIPTION:Ireedui vzw start een taalproject met lessen Nederlands\n  \nNadat er vanuit de gemeenschap een duidelijke nood aan extra oefenkansen Nederlands en het versterken van het Nederlands bij volwassenen met Mongoolse achtergrond is\, start Ireedui vzw met een taalproject waarbij de focus ligt op het versterken van het Nederlands. Dit met als doel het de integratie te bevorderen en gemeenschapsvorming te stimuleren. \n \n⏰ 19u00-21u00 \n❔ Volwassenen + 18 jaar\, met Mongoolse achtergrond \n📍 Bindus\, Brederodestraat 188\, 2018 Antwerpen \n✍️ Inschrijven: via Nergui Erkhembayar (Facebook) \n💶 Deelnameprijs: Afhankelijk van de inschrijving \n❔ Meer informatie via n_erkhembayar@yahoo.com
URL:https://bindusvzw.be/activiteiten/taalproject-ireedui-vzw-26/
LOCATION:Bindus Antwerpen\, Brederodestraat 188\, Antwerpen\, antwerpen\, 2000\, België
CATEGORIES:Activiteit Leden
ATTACH;FMTTYPE=image/jpeg:https://bindusvzw.be/wp-content/uploads/2025/09/2021_Logo.jpg
ORGANIZER;CN="Ireedui vzw":MAILTO:n_erkhembayar@yahoo.com
END:VEVENT
BEGIN:VEVENT
DTSTART;TZID=Europe/Helsinki:20251216T190000
DTEND;TZID=Europe/Helsinki:20251216T210000
DTSTAMP:20260420T145012
CREATED:20250917T080231Z
LAST-MODIFIED:20250917T080231Z
UID:10001727-1765911600-1765918800@bindusvzw.be
SUMMARY:Taalproject Ireedui vzw
DESCRIPTION:Ireedui vzw start een taalproject met lessen Nederlands\n  \nNadat er vanuit de gemeenschap een duidelijke nood aan extra oefenkansen Nederlands en het versterken van het Nederlands bij volwassenen met Mongoolse achtergrond is\, start Ireedui vzw met een taalproject waarbij de focus ligt op het versterken van het Nederlands. Dit met als doel het de integratie te bevorderen en gemeenschapsvorming te stimuleren. \n \n⏰ 19u00-21u00 \n❔ Volwassenen + 18 jaar\, met Mongoolse achtergrond \n📍 Bindus\, Brederodestraat 188\, 2018 Antwerpen \n✍️ Inschrijven: via Nergui Erkhembayar (Facebook) \n💶 Deelnameprijs: Afhankelijk van de inschrijving \n❔ Meer informatie via n_erkhembayar@yahoo.com
URL:https://bindusvzw.be/activiteiten/taalproject-ireedui-vzw-27/
LOCATION:Bindus Antwerpen\, Brederodestraat 188\, Antwerpen\, antwerpen\, 2000\, België
CATEGORIES:Activiteit Leden
ATTACH;FMTTYPE=image/jpeg:https://bindusvzw.be/wp-content/uploads/2025/09/2021_Logo.jpg
ORGANIZER;CN="Ireedui vzw":MAILTO:n_erkhembayar@yahoo.com
END:VEVENT
END:VCALENDAR