BEGIN:VCALENDAR
VERSION:2.0
PRODID:-//Bindus vzw - ECPv6.15.20//NONSGML v1.0//EN
CALSCALE:GREGORIAN
METHOD:PUBLISH
X-ORIGINAL-URL:https://bindusvzw.be
X-WR-CALDESC:Evenementen voor Bindus vzw
REFRESH-INTERVAL;VALUE=DURATION:PT1H
X-Robots-Tag:noindex
X-PUBLISHED-TTL:PT1H
BEGIN:VTIMEZONE
TZID:Europe/Helsinki
BEGIN:DAYLIGHT
TZOFFSETFROM:+0200
TZOFFSETTO:+0300
TZNAME:EEST
DTSTART:20250330T010000
END:DAYLIGHT
BEGIN:STANDARD
TZOFFSETFROM:+0300
TZOFFSETTO:+0200
TZNAME:EET
DTSTART:20251026T010000
END:STANDARD
BEGIN:DAYLIGHT
TZOFFSETFROM:+0200
TZOFFSETTO:+0300
TZNAME:EEST
DTSTART:20260329T010000
END:DAYLIGHT
BEGIN:STANDARD
TZOFFSETFROM:+0300
TZOFFSETTO:+0200
TZNAME:EET
DTSTART:20261025T010000
END:STANDARD
BEGIN:DAYLIGHT
TZOFFSETFROM:+0200
TZOFFSETTO:+0300
TZNAME:EEST
DTSTART:20270328T010000
END:DAYLIGHT
BEGIN:STANDARD
TZOFFSETFROM:+0300
TZOFFSETTO:+0200
TZNAME:EET
DTSTART:20271031T010000
END:STANDARD
END:VTIMEZONE
BEGIN:VEVENT
DTSTART;TZID=Europe/Helsinki:20260104T120000
DTEND;TZID=Europe/Helsinki:20260104T150000
DTSTAMP:20260421T051811
CREATED:20250811T115140Z
LAST-MODIFIED:20250811T115140Z
UID:10001492-1767528000-1767538800@bindusvzw.be
SUMMARY:muziekschool DoReMimuziek organiseert saz lessen
DESCRIPTION:Wil jij de Turkse saz leren spelen in Antwerpen?\nDoReMimuziek\, een succesvolle muziekschool\nuit Nederland\, komt naar Antwerpen met muzieklessen\nSaz voor zowel beginnende als gevorderde muzikanten.\nDit traditionele snaarinstrument heeft een rijke geschiedenis en is diep geworteld in de muzikale tradities\nvan het Midden-Oosten en de Balkan. Met zijn unieke\, warme klank creëert de saz een betoverende sfeer.\nOf het nu gaat om vrolijke deuntjes of emotionele ballades\,\nde saz vertelt een verhaal dat raakt. \n🗓️ Iedere zondag met uitzondering van de zomervakantie (juli en augustus) \n⏰ 12u00-15u00\n \n📍 Bindus\, Brederodestraat 188\, 2018 Antwerpen \n💶 70 euro per maand* \n🖊️ inschrijven en meer informatie via www.doremimuziek.nl of stuur een bericht naar +31651 886 633
URL:https://bindusvzw.be/activiteiten/muziekschool-doremimuziek-organiseert-saz-lessen-13/
LOCATION:Bindus Antwerpen\, Brederodestraat 188\, Antwerpen\, antwerpen\, 2000\, België
ATTACH;FMTTYPE=image/png:https://bindusvzw.be/wp-content/uploads/2025/08/Nieuwe-Logo-DMM-transparant.png
ORGANIZER;CN="DoReMimuziek":MAILTO:info@doremimuziek.nl
END:VEVENT
BEGIN:VEVENT
DTSTART;TZID=Europe/Helsinki:20260106T190000
DTEND;TZID=Europe/Helsinki:20260106T210000
DTSTAMP:20260421T051811
CREATED:20250512T132452Z
LAST-MODIFIED:20250512T132452Z
UID:10000745-1767726000-1767733200@bindusvzw.be
SUMMARY:Saz lessen voor volwassenen
DESCRIPTION:Sazlessen voor volwassenen \nWanneer: Elke dinsdag van 19.00 – 21.00 \nWaar: Bindus Limburg Teutenweg 13 – 3550 Heusden Zolder \ngratis \nDe bağlama of saz is een snaarinstrument\, met twee dubbelkorige snaren en een tripelkorige snaar. Het is een muziekinstrument uit de familie van langhalsluiten. De benaming bağlama duidt exact het instrument aan\, terwijl de bekendere naam saz feitelijk eerder snaarinstrument betekent. \nDe houten klankkast van de saz bestaat uit een stuk en wordt soms aan de zijkant rondom ingelegd met andere houtsoorten ter versiering. De stempinnen staan niet in een vlak maar staan zowel dwars op de hals (zoals bij een viool) als aan de onderzijde van de hals. \nHet instrument wordt bespeeld met een dun langwerpig plectrum. \nDe bağlama is niet alleen in Turkije een zeer populair instrument\, en wordt gemaakt in een groot aantal afmetingen. Van klein naar groot: \nCursus wordt gegeven door Ismail Erdogdu van Music Club Beringen \nDe bağlama of saz is een snaarinstrument\, met twee dubbelkorige snaren en een tripelkorige snaar. Het is een muziekinstrument uit de familie van langhalsluiten. De benaming bağlama duidt exact het instrument aan\, terwijl de bekendere naam saz feitelijk eerder snaarinstrument betekent. \nDe bağlama is niet alleen in Turkije een zeer populair instrument\, maar ook in het Midden-Oosten
URL:https://bindusvzw.be/activiteiten/saz-lessen-voor-volwassenen/2026-01-06/
LOCATION:Bindus Limburg\, Teutenweg 13\, Heusden-Zolder\, Limburg\, 3550\, België
CATEGORIES:Activiteit Leden,Regionale Activiteit Limburg
ATTACH;FMTTYPE=image/png:https://bindusvzw.be/wp-content/uploads/2025/05/MusicClub.png
END:VEVENT
BEGIN:VEVENT
DTSTART;TZID=Europe/Helsinki:20260107T150000
DTEND;TZID=Europe/Helsinki:20260107T170000
DTSTAMP:20260421T051811
CREATED:20250512T133205Z
LAST-MODIFIED:20250512T133205Z
UID:10001020-1767798000-1767805200@bindusvzw.be
SUMMARY:Saz lessen voor kinderen
DESCRIPTION:Sazlessen voor kinderen \nWanneer: Elke woensdag van 15.00 – 17.00 \nWaar: Bindus Limburg Teutenweg 13 – 3550 Heusden Zolder \ngratis \nDe bağlama of saz is een snaarinstrument\, met twee dubbelkorige snaren en een tripelkorige snaar. Het is een muziekinstrument uit de familie van langhalsluiten. De benaming bağlama duidt exact het instrument aan\, terwijl de bekendere naam saz feitelijk eerder snaarinstrument betekent. \nDe houten klankkast van de saz bestaat uit een stuk en wordt soms aan de zijkant rondom ingelegd met andere houtsoorten ter versiering. De stempinnen staan niet in een vlak maar staan zowel dwars op de hals (zoals bij een viool) als aan de onderzijde van de hals. \nHet instrument wordt bespeeld met een dun langwerpig plectrum. \nDe bağlama is niet alleen in Turkije een zeer populair instrument\, en wordt gemaakt in een groot aantal afmetingen. Van klein naar groot: \nCursus wordt gegeven door Ismail Erdogdu van Music Club Beringen \nDe bağlama of saz is een snaarinstrument\, met twee dubbelkorige snaren en een tripelkorige snaar. Het is een muziekinstrument uit de familie van langhalsluiten. De benaming bağlama duidt exact het instrument aan\, terwijl de bekendere naam saz feitelijk eerder snaarinstrument betekent. \nDe bağlama is niet alleen in Turkije een zeer populair instrument\, maar ook in het Midden-Oosten
URL:https://bindusvzw.be/activiteiten/saz-lessen-voor-kinderen/2026-01-07/
LOCATION:Bindus Limburg\, Teutenweg 13\, Heusden-Zolder\, Limburg\, 3550\, België
CATEGORIES:Activiteit Leden,Regionale Activiteit Limburg
ATTACH;FMTTYPE=image/png:https://bindusvzw.be/wp-content/uploads/2025/05/musicclubkids.png
END:VEVENT
BEGIN:VEVENT
DTSTART;TZID=Europe/Helsinki:20260111T120000
DTEND;TZID=Europe/Helsinki:20260111T150000
DTSTAMP:20260421T051811
CREATED:20250811T115233Z
LAST-MODIFIED:20250811T115233Z
UID:10001493-1768132800-1768143600@bindusvzw.be
SUMMARY:muziekschool DoReMimuziek organiseert saz lessen
DESCRIPTION:Wil jij de Turkse saz leren spelen in Antwerpen?\nDoReMimuziek\, een succesvolle muziekschool\nuit Nederland\, komt naar Antwerpen met muzieklessen\nSaz voor zowel beginnende als gevorderde muzikanten.\nDit traditionele snaarinstrument heeft een rijke geschiedenis en is diep geworteld in de muzikale tradities\nvan het Midden-Oosten en de Balkan. Met zijn unieke\, warme klank creëert de saz een betoverende sfeer.\nOf het nu gaat om vrolijke deuntjes of emotionele ballades\,\nde saz vertelt een verhaal dat raakt. \n🗓️ Iedere zondag met uitzondering van de zomervakantie (juli en augustus) \n⏰ 12u00-15u00\n \n📍 Bindus\, Brederodestraat 188\, 2018 Antwerpen \n💶 70 euro per maand* \n🖊️ inschrijven en meer informatie via www.doremimuziek.nl of stuur een bericht naar +31651 886 633
URL:https://bindusvzw.be/activiteiten/muziekschool-doremimuziek-organiseert-saz-lessen-14/
LOCATION:Bindus Antwerpen\, Brederodestraat 188\, Antwerpen\, antwerpen\, 2000\, België
ATTACH;FMTTYPE=image/png:https://bindusvzw.be/wp-content/uploads/2025/08/Nieuwe-Logo-DMM-transparant.png
ORGANIZER;CN="DoReMimuziek":MAILTO:info@doremimuziek.nl
END:VEVENT
BEGIN:VEVENT
DTSTART;TZID=Europe/Helsinki:20260113T190000
DTEND;TZID=Europe/Helsinki:20260113T210000
DTSTAMP:20260421T051811
CREATED:20250512T132452Z
LAST-MODIFIED:20250512T132452Z
UID:10000746-1768330800-1768338000@bindusvzw.be
SUMMARY:Saz lessen voor volwassenen
DESCRIPTION:Sazlessen voor volwassenen \nWanneer: Elke dinsdag van 19.00 – 21.00 \nWaar: Bindus Limburg Teutenweg 13 – 3550 Heusden Zolder \ngratis \nDe bağlama of saz is een snaarinstrument\, met twee dubbelkorige snaren en een tripelkorige snaar. Het is een muziekinstrument uit de familie van langhalsluiten. De benaming bağlama duidt exact het instrument aan\, terwijl de bekendere naam saz feitelijk eerder snaarinstrument betekent. \nDe houten klankkast van de saz bestaat uit een stuk en wordt soms aan de zijkant rondom ingelegd met andere houtsoorten ter versiering. De stempinnen staan niet in een vlak maar staan zowel dwars op de hals (zoals bij een viool) als aan de onderzijde van de hals. \nHet instrument wordt bespeeld met een dun langwerpig plectrum. \nDe bağlama is niet alleen in Turkije een zeer populair instrument\, en wordt gemaakt in een groot aantal afmetingen. Van klein naar groot: \nCursus wordt gegeven door Ismail Erdogdu van Music Club Beringen \nDe bağlama of saz is een snaarinstrument\, met twee dubbelkorige snaren en een tripelkorige snaar. Het is een muziekinstrument uit de familie van langhalsluiten. De benaming bağlama duidt exact het instrument aan\, terwijl de bekendere naam saz feitelijk eerder snaarinstrument betekent. \nDe bağlama is niet alleen in Turkije een zeer populair instrument\, maar ook in het Midden-Oosten
URL:https://bindusvzw.be/activiteiten/saz-lessen-voor-volwassenen/2026-01-13/
LOCATION:Bindus Limburg\, Teutenweg 13\, Heusden-Zolder\, Limburg\, 3550\, België
CATEGORIES:Activiteit Leden,Regionale Activiteit Limburg
ATTACH;FMTTYPE=image/png:https://bindusvzw.be/wp-content/uploads/2025/05/MusicClub.png
END:VEVENT
BEGIN:VEVENT
DTSTART;TZID=Europe/Helsinki:20260114T150000
DTEND;TZID=Europe/Helsinki:20260114T170000
DTSTAMP:20260421T051811
CREATED:20250512T133205Z
LAST-MODIFIED:20250512T133205Z
UID:10001021-1768402800-1768410000@bindusvzw.be
SUMMARY:Saz lessen voor kinderen
DESCRIPTION:Sazlessen voor kinderen \nWanneer: Elke woensdag van 15.00 – 17.00 \nWaar: Bindus Limburg Teutenweg 13 – 3550 Heusden Zolder \ngratis \nDe bağlama of saz is een snaarinstrument\, met twee dubbelkorige snaren en een tripelkorige snaar. Het is een muziekinstrument uit de familie van langhalsluiten. De benaming bağlama duidt exact het instrument aan\, terwijl de bekendere naam saz feitelijk eerder snaarinstrument betekent. \nDe houten klankkast van de saz bestaat uit een stuk en wordt soms aan de zijkant rondom ingelegd met andere houtsoorten ter versiering. De stempinnen staan niet in een vlak maar staan zowel dwars op de hals (zoals bij een viool) als aan de onderzijde van de hals. \nHet instrument wordt bespeeld met een dun langwerpig plectrum. \nDe bağlama is niet alleen in Turkije een zeer populair instrument\, en wordt gemaakt in een groot aantal afmetingen. Van klein naar groot: \nCursus wordt gegeven door Ismail Erdogdu van Music Club Beringen \nDe bağlama of saz is een snaarinstrument\, met twee dubbelkorige snaren en een tripelkorige snaar. Het is een muziekinstrument uit de familie van langhalsluiten. De benaming bağlama duidt exact het instrument aan\, terwijl de bekendere naam saz feitelijk eerder snaarinstrument betekent. \nDe bağlama is niet alleen in Turkije een zeer populair instrument\, maar ook in het Midden-Oosten
URL:https://bindusvzw.be/activiteiten/saz-lessen-voor-kinderen/2026-01-14/
LOCATION:Bindus Limburg\, Teutenweg 13\, Heusden-Zolder\, Limburg\, 3550\, België
CATEGORIES:Activiteit Leden,Regionale Activiteit Limburg
ATTACH;FMTTYPE=image/png:https://bindusvzw.be/wp-content/uploads/2025/05/musicclubkids.png
END:VEVENT
BEGIN:VEVENT
DTSTART;TZID=Europe/Helsinki:20260118T120000
DTEND;TZID=Europe/Helsinki:20260118T150000
DTSTAMP:20260421T051811
CREATED:20250811T115323Z
LAST-MODIFIED:20250811T115323Z
UID:10001494-1768737600-1768748400@bindusvzw.be
SUMMARY:muziekschool DoReMimuziek organiseert saz lessen
DESCRIPTION:Wil jij de Turkse saz leren spelen in Antwerpen?\nDoReMimuziek\, een succesvolle muziekschool\nuit Nederland\, komt naar Antwerpen met muzieklessen\nSaz voor zowel beginnende als gevorderde muzikanten.\nDit traditionele snaarinstrument heeft een rijke geschiedenis en is diep geworteld in de muzikale tradities\nvan het Midden-Oosten en de Balkan. Met zijn unieke\, warme klank creëert de saz een betoverende sfeer.\nOf het nu gaat om vrolijke deuntjes of emotionele ballades\,\nde saz vertelt een verhaal dat raakt. \n🗓️ Iedere zondag met uitzondering van de zomervakantie (juli en augustus) \n⏰ 12u00-15u00\n \n📍 Bindus\, Brederodestraat 188\, 2018 Antwerpen \n💶 70 euro per maand* \n🖊️ inschrijven en meer informatie via www.doremimuziek.nl of stuur een bericht naar +31651 886 633
URL:https://bindusvzw.be/activiteiten/muziekschool-doremimuziek-organiseert-saz-lessen-15/
LOCATION:Bindus Antwerpen\, Brederodestraat 188\, Antwerpen\, antwerpen\, 2000\, België
ATTACH;FMTTYPE=image/png:https://bindusvzw.be/wp-content/uploads/2025/08/Nieuwe-Logo-DMM-transparant.png
ORGANIZER;CN="DoReMimuziek":MAILTO:info@doremimuziek.nl
END:VEVENT
BEGIN:VEVENT
DTSTART;TZID=Europe/Helsinki:20260120T190000
DTEND;TZID=Europe/Helsinki:20260120T210000
DTSTAMP:20260421T051811
CREATED:20250512T132452Z
LAST-MODIFIED:20250512T132452Z
UID:10000747-1768935600-1768942800@bindusvzw.be
SUMMARY:Saz lessen voor volwassenen
DESCRIPTION:Sazlessen voor volwassenen \nWanneer: Elke dinsdag van 19.00 – 21.00 \nWaar: Bindus Limburg Teutenweg 13 – 3550 Heusden Zolder \ngratis \nDe bağlama of saz is een snaarinstrument\, met twee dubbelkorige snaren en een tripelkorige snaar. Het is een muziekinstrument uit de familie van langhalsluiten. De benaming bağlama duidt exact het instrument aan\, terwijl de bekendere naam saz feitelijk eerder snaarinstrument betekent. \nDe houten klankkast van de saz bestaat uit een stuk en wordt soms aan de zijkant rondom ingelegd met andere houtsoorten ter versiering. De stempinnen staan niet in een vlak maar staan zowel dwars op de hals (zoals bij een viool) als aan de onderzijde van de hals. \nHet instrument wordt bespeeld met een dun langwerpig plectrum. \nDe bağlama is niet alleen in Turkije een zeer populair instrument\, en wordt gemaakt in een groot aantal afmetingen. Van klein naar groot: \nCursus wordt gegeven door Ismail Erdogdu van Music Club Beringen \nDe bağlama of saz is een snaarinstrument\, met twee dubbelkorige snaren en een tripelkorige snaar. Het is een muziekinstrument uit de familie van langhalsluiten. De benaming bağlama duidt exact het instrument aan\, terwijl de bekendere naam saz feitelijk eerder snaarinstrument betekent. \nDe bağlama is niet alleen in Turkije een zeer populair instrument\, maar ook in het Midden-Oosten
URL:https://bindusvzw.be/activiteiten/saz-lessen-voor-volwassenen/2026-01-20/
LOCATION:Bindus Limburg\, Teutenweg 13\, Heusden-Zolder\, Limburg\, 3550\, België
CATEGORIES:Activiteit Leden,Regionale Activiteit Limburg
ATTACH;FMTTYPE=image/png:https://bindusvzw.be/wp-content/uploads/2025/05/MusicClub.png
END:VEVENT
BEGIN:VEVENT
DTSTART;TZID=Europe/Helsinki:20260121T150000
DTEND;TZID=Europe/Helsinki:20260121T170000
DTSTAMP:20260421T051811
CREATED:20250512T133205Z
LAST-MODIFIED:20250512T133205Z
UID:10001022-1769007600-1769014800@bindusvzw.be
SUMMARY:Saz lessen voor kinderen
DESCRIPTION:Sazlessen voor kinderen \nWanneer: Elke woensdag van 15.00 – 17.00 \nWaar: Bindus Limburg Teutenweg 13 – 3550 Heusden Zolder \ngratis \nDe bağlama of saz is een snaarinstrument\, met twee dubbelkorige snaren en een tripelkorige snaar. Het is een muziekinstrument uit de familie van langhalsluiten. De benaming bağlama duidt exact het instrument aan\, terwijl de bekendere naam saz feitelijk eerder snaarinstrument betekent. \nDe houten klankkast van de saz bestaat uit een stuk en wordt soms aan de zijkant rondom ingelegd met andere houtsoorten ter versiering. De stempinnen staan niet in een vlak maar staan zowel dwars op de hals (zoals bij een viool) als aan de onderzijde van de hals. \nHet instrument wordt bespeeld met een dun langwerpig plectrum. \nDe bağlama is niet alleen in Turkije een zeer populair instrument\, en wordt gemaakt in een groot aantal afmetingen. Van klein naar groot: \nCursus wordt gegeven door Ismail Erdogdu van Music Club Beringen \nDe bağlama of saz is een snaarinstrument\, met twee dubbelkorige snaren en een tripelkorige snaar. Het is een muziekinstrument uit de familie van langhalsluiten. De benaming bağlama duidt exact het instrument aan\, terwijl de bekendere naam saz feitelijk eerder snaarinstrument betekent. \nDe bağlama is niet alleen in Turkije een zeer populair instrument\, maar ook in het Midden-Oosten
URL:https://bindusvzw.be/activiteiten/saz-lessen-voor-kinderen/2026-01-21/
LOCATION:Bindus Limburg\, Teutenweg 13\, Heusden-Zolder\, Limburg\, 3550\, België
CATEGORIES:Activiteit Leden,Regionale Activiteit Limburg
ATTACH;FMTTYPE=image/png:https://bindusvzw.be/wp-content/uploads/2025/05/musicclubkids.png
END:VEVENT
BEGIN:VEVENT
DTSTART;TZID=Europe/Helsinki:20260125T120000
DTEND;TZID=Europe/Helsinki:20260125T150000
DTSTAMP:20260421T051811
CREATED:20250811T115422Z
LAST-MODIFIED:20250811T115422Z
UID:10001495-1769342400-1769353200@bindusvzw.be
SUMMARY:muziekschool DoReMimuziek organiseert saz lessen
DESCRIPTION:Wil jij de Turkse saz leren spelen in Antwerpen?\nDoReMimuziek\, een succesvolle muziekschool\nuit Nederland\, komt naar Antwerpen met muzieklessen\nSaz voor zowel beginnende als gevorderde muzikanten.\nDit traditionele snaarinstrument heeft een rijke geschiedenis en is diep geworteld in de muzikale tradities\nvan het Midden-Oosten en de Balkan. Met zijn unieke\, warme klank creëert de saz een betoverende sfeer.\nOf het nu gaat om vrolijke deuntjes of emotionele ballades\,\nde saz vertelt een verhaal dat raakt. \n🗓️ Iedere zondag met uitzondering van de zomervakantie (juli en augustus) \n⏰ 12u00-15u00\n \n📍 Bindus\, Brederodestraat 188\, 2018 Antwerpen \n💶 70 euro per maand* \n🖊️ inschrijven en meer informatie via www.doremimuziek.nl of stuur een bericht naar +31651 886 633
URL:https://bindusvzw.be/activiteiten/muziekschool-doremimuziek-organiseert-saz-lessen-16/
LOCATION:Bindus Antwerpen\, Brederodestraat 188\, Antwerpen\, antwerpen\, 2000\, België
ATTACH;FMTTYPE=image/png:https://bindusvzw.be/wp-content/uploads/2025/08/Nieuwe-Logo-DMM-transparant.png
ORGANIZER;CN="DoReMimuziek":MAILTO:info@doremimuziek.nl
END:VEVENT
BEGIN:VEVENT
DTSTART;TZID=Europe/Helsinki:20260127T190000
DTEND;TZID=Europe/Helsinki:20260127T210000
DTSTAMP:20260421T051811
CREATED:20250512T132452Z
LAST-MODIFIED:20250512T132452Z
UID:10000748-1769540400-1769547600@bindusvzw.be
SUMMARY:Saz lessen voor volwassenen
DESCRIPTION:Sazlessen voor volwassenen \nWanneer: Elke dinsdag van 19.00 – 21.00 \nWaar: Bindus Limburg Teutenweg 13 – 3550 Heusden Zolder \ngratis \nDe bağlama of saz is een snaarinstrument\, met twee dubbelkorige snaren en een tripelkorige snaar. Het is een muziekinstrument uit de familie van langhalsluiten. De benaming bağlama duidt exact het instrument aan\, terwijl de bekendere naam saz feitelijk eerder snaarinstrument betekent. \nDe houten klankkast van de saz bestaat uit een stuk en wordt soms aan de zijkant rondom ingelegd met andere houtsoorten ter versiering. De stempinnen staan niet in een vlak maar staan zowel dwars op de hals (zoals bij een viool) als aan de onderzijde van de hals. \nHet instrument wordt bespeeld met een dun langwerpig plectrum. \nDe bağlama is niet alleen in Turkije een zeer populair instrument\, en wordt gemaakt in een groot aantal afmetingen. Van klein naar groot: \nCursus wordt gegeven door Ismail Erdogdu van Music Club Beringen \nDe bağlama of saz is een snaarinstrument\, met twee dubbelkorige snaren en een tripelkorige snaar. Het is een muziekinstrument uit de familie van langhalsluiten. De benaming bağlama duidt exact het instrument aan\, terwijl de bekendere naam saz feitelijk eerder snaarinstrument betekent. \nDe bağlama is niet alleen in Turkije een zeer populair instrument\, maar ook in het Midden-Oosten
URL:https://bindusvzw.be/activiteiten/saz-lessen-voor-volwassenen/2026-01-27/
LOCATION:Bindus Limburg\, Teutenweg 13\, Heusden-Zolder\, Limburg\, 3550\, België
CATEGORIES:Activiteit Leden,Regionale Activiteit Limburg
ATTACH;FMTTYPE=image/png:https://bindusvzw.be/wp-content/uploads/2025/05/MusicClub.png
END:VEVENT
BEGIN:VEVENT
DTSTART;TZID=Europe/Helsinki:20260128T150000
DTEND;TZID=Europe/Helsinki:20260128T170000
DTSTAMP:20260421T051811
CREATED:20250512T133205Z
LAST-MODIFIED:20250512T133205Z
UID:10001023-1769612400-1769619600@bindusvzw.be
SUMMARY:Saz lessen voor kinderen
DESCRIPTION:Sazlessen voor kinderen \nWanneer: Elke woensdag van 15.00 – 17.00 \nWaar: Bindus Limburg Teutenweg 13 – 3550 Heusden Zolder \ngratis \nDe bağlama of saz is een snaarinstrument\, met twee dubbelkorige snaren en een tripelkorige snaar. Het is een muziekinstrument uit de familie van langhalsluiten. De benaming bağlama duidt exact het instrument aan\, terwijl de bekendere naam saz feitelijk eerder snaarinstrument betekent. \nDe houten klankkast van de saz bestaat uit een stuk en wordt soms aan de zijkant rondom ingelegd met andere houtsoorten ter versiering. De stempinnen staan niet in een vlak maar staan zowel dwars op de hals (zoals bij een viool) als aan de onderzijde van de hals. \nHet instrument wordt bespeeld met een dun langwerpig plectrum. \nDe bağlama is niet alleen in Turkije een zeer populair instrument\, en wordt gemaakt in een groot aantal afmetingen. Van klein naar groot: \nCursus wordt gegeven door Ismail Erdogdu van Music Club Beringen \nDe bağlama of saz is een snaarinstrument\, met twee dubbelkorige snaren en een tripelkorige snaar. Het is een muziekinstrument uit de familie van langhalsluiten. De benaming bağlama duidt exact het instrument aan\, terwijl de bekendere naam saz feitelijk eerder snaarinstrument betekent. \nDe bağlama is niet alleen in Turkije een zeer populair instrument\, maar ook in het Midden-Oosten
URL:https://bindusvzw.be/activiteiten/saz-lessen-voor-kinderen/2026-01-28/
LOCATION:Bindus Limburg\, Teutenweg 13\, Heusden-Zolder\, Limburg\, 3550\, België
CATEGORIES:Activiteit Leden,Regionale Activiteit Limburg
ATTACH;FMTTYPE=image/png:https://bindusvzw.be/wp-content/uploads/2025/05/musicclubkids.png
END:VEVENT
END:VCALENDAR