BEGIN:VCALENDAR
VERSION:2.0
PRODID:-//Bindus vzw - ECPv6.15.20//NONSGML v1.0//EN
CALSCALE:GREGORIAN
METHOD:PUBLISH
X-ORIGINAL-URL:https://bindusvzw.be
X-WR-CALDESC:Evenementen voor Bindus vzw
REFRESH-INTERVAL;VALUE=DURATION:PT1H
X-Robots-Tag:noindex
X-PUBLISHED-TTL:PT1H
BEGIN:VTIMEZONE
TZID:Europe/Helsinki
BEGIN:DAYLIGHT
TZOFFSETFROM:+0200
TZOFFSETTO:+0300
TZNAME:EEST
DTSTART:20250330T010000
END:DAYLIGHT
BEGIN:STANDARD
TZOFFSETFROM:+0300
TZOFFSETTO:+0200
TZNAME:EET
DTSTART:20251026T010000
END:STANDARD
BEGIN:DAYLIGHT
TZOFFSETFROM:+0200
TZOFFSETTO:+0300
TZNAME:EEST
DTSTART:20260329T010000
END:DAYLIGHT
BEGIN:STANDARD
TZOFFSETFROM:+0300
TZOFFSETTO:+0200
TZNAME:EET
DTSTART:20261025T010000
END:STANDARD
BEGIN:DAYLIGHT
TZOFFSETFROM:+0200
TZOFFSETTO:+0300
TZNAME:EEST
DTSTART:20270328T010000
END:DAYLIGHT
BEGIN:STANDARD
TZOFFSETFROM:+0300
TZOFFSETTO:+0200
TZNAME:EET
DTSTART:20271031T010000
END:STANDARD
END:VTIMEZONE
BEGIN:VEVENT
DTSTART;TZID=Europe/Helsinki:20260505T190000
DTEND;TZID=Europe/Helsinki:20260505T210000
DTSTAMP:20260420T040718
CREATED:20250512T132452Z
LAST-MODIFIED:20250512T132452Z
UID:10000762-1778007600-1778014800@bindusvzw.be
SUMMARY:Saz lessen voor volwassenen
DESCRIPTION:Sazlessen voor volwassenen \nWanneer: Elke dinsdag van 19.00 – 21.00 \nWaar: Bindus Limburg Teutenweg 13 – 3550 Heusden Zolder \ngratis \nDe bağlama of saz is een snaarinstrument\, met twee dubbelkorige snaren en een tripelkorige snaar. Het is een muziekinstrument uit de familie van langhalsluiten. De benaming bağlama duidt exact het instrument aan\, terwijl de bekendere naam saz feitelijk eerder snaarinstrument betekent. \nDe houten klankkast van de saz bestaat uit een stuk en wordt soms aan de zijkant rondom ingelegd met andere houtsoorten ter versiering. De stempinnen staan niet in een vlak maar staan zowel dwars op de hals (zoals bij een viool) als aan de onderzijde van de hals. \nHet instrument wordt bespeeld met een dun langwerpig plectrum. \nDe bağlama is niet alleen in Turkije een zeer populair instrument\, en wordt gemaakt in een groot aantal afmetingen. Van klein naar groot: \nCursus wordt gegeven door Ismail Erdogdu van Music Club Beringen \nDe bağlama of saz is een snaarinstrument\, met twee dubbelkorige snaren en een tripelkorige snaar. Het is een muziekinstrument uit de familie van langhalsluiten. De benaming bağlama duidt exact het instrument aan\, terwijl de bekendere naam saz feitelijk eerder snaarinstrument betekent. \nDe bağlama is niet alleen in Turkije een zeer populair instrument\, maar ook in het Midden-Oosten
URL:https://bindusvzw.be/activiteiten/saz-lessen-voor-volwassenen/2026-05-05/
LOCATION:Bindus Limburg\, Teutenweg 13\, Heusden-Zolder\, Limburg\, 3550\, België
CATEGORIES:Activiteit Leden,Regionale Activiteit Limburg
ATTACH;FMTTYPE=image/png:https://bindusvzw.be/wp-content/uploads/2025/05/MusicClub.png
END:VEVENT
BEGIN:VEVENT
DTSTART;TZID=Europe/Helsinki:20260512T190000
DTEND;TZID=Europe/Helsinki:20260512T210000
DTSTAMP:20260420T040718
CREATED:20250512T132452Z
LAST-MODIFIED:20250512T132452Z
UID:10000763-1778612400-1778619600@bindusvzw.be
SUMMARY:Saz lessen voor volwassenen
DESCRIPTION:Sazlessen voor volwassenen \nWanneer: Elke dinsdag van 19.00 – 21.00 \nWaar: Bindus Limburg Teutenweg 13 – 3550 Heusden Zolder \ngratis \nDe bağlama of saz is een snaarinstrument\, met twee dubbelkorige snaren en een tripelkorige snaar. Het is een muziekinstrument uit de familie van langhalsluiten. De benaming bağlama duidt exact het instrument aan\, terwijl de bekendere naam saz feitelijk eerder snaarinstrument betekent. \nDe houten klankkast van de saz bestaat uit een stuk en wordt soms aan de zijkant rondom ingelegd met andere houtsoorten ter versiering. De stempinnen staan niet in een vlak maar staan zowel dwars op de hals (zoals bij een viool) als aan de onderzijde van de hals. \nHet instrument wordt bespeeld met een dun langwerpig plectrum. \nDe bağlama is niet alleen in Turkije een zeer populair instrument\, en wordt gemaakt in een groot aantal afmetingen. Van klein naar groot: \nCursus wordt gegeven door Ismail Erdogdu van Music Club Beringen \nDe bağlama of saz is een snaarinstrument\, met twee dubbelkorige snaren en een tripelkorige snaar. Het is een muziekinstrument uit de familie van langhalsluiten. De benaming bağlama duidt exact het instrument aan\, terwijl de bekendere naam saz feitelijk eerder snaarinstrument betekent. \nDe bağlama is niet alleen in Turkije een zeer populair instrument\, maar ook in het Midden-Oosten
URL:https://bindusvzw.be/activiteiten/saz-lessen-voor-volwassenen/2026-05-12/
LOCATION:Bindus Limburg\, Teutenweg 13\, Heusden-Zolder\, Limburg\, 3550\, België
CATEGORIES:Activiteit Leden,Regionale Activiteit Limburg
ATTACH;FMTTYPE=image/png:https://bindusvzw.be/wp-content/uploads/2025/05/MusicClub.png
END:VEVENT
BEGIN:VEVENT
DTSTART;TZID=Europe/Helsinki:20260519T190000
DTEND;TZID=Europe/Helsinki:20260519T210000
DTSTAMP:20260420T040718
CREATED:20250512T132452Z
LAST-MODIFIED:20250512T132452Z
UID:10000764-1779217200-1779224400@bindusvzw.be
SUMMARY:Saz lessen voor volwassenen
DESCRIPTION:Sazlessen voor volwassenen \nWanneer: Elke dinsdag van 19.00 – 21.00 \nWaar: Bindus Limburg Teutenweg 13 – 3550 Heusden Zolder \ngratis \nDe bağlama of saz is een snaarinstrument\, met twee dubbelkorige snaren en een tripelkorige snaar. Het is een muziekinstrument uit de familie van langhalsluiten. De benaming bağlama duidt exact het instrument aan\, terwijl de bekendere naam saz feitelijk eerder snaarinstrument betekent. \nDe houten klankkast van de saz bestaat uit een stuk en wordt soms aan de zijkant rondom ingelegd met andere houtsoorten ter versiering. De stempinnen staan niet in een vlak maar staan zowel dwars op de hals (zoals bij een viool) als aan de onderzijde van de hals. \nHet instrument wordt bespeeld met een dun langwerpig plectrum. \nDe bağlama is niet alleen in Turkije een zeer populair instrument\, en wordt gemaakt in een groot aantal afmetingen. Van klein naar groot: \nCursus wordt gegeven door Ismail Erdogdu van Music Club Beringen \nDe bağlama of saz is een snaarinstrument\, met twee dubbelkorige snaren en een tripelkorige snaar. Het is een muziekinstrument uit de familie van langhalsluiten. De benaming bağlama duidt exact het instrument aan\, terwijl de bekendere naam saz feitelijk eerder snaarinstrument betekent. \nDe bağlama is niet alleen in Turkije een zeer populair instrument\, maar ook in het Midden-Oosten
URL:https://bindusvzw.be/activiteiten/saz-lessen-voor-volwassenen/2026-05-19/
LOCATION:Bindus Limburg\, Teutenweg 13\, Heusden-Zolder\, Limburg\, 3550\, België
CATEGORIES:Activiteit Leden,Regionale Activiteit Limburg
ATTACH;FMTTYPE=image/png:https://bindusvzw.be/wp-content/uploads/2025/05/MusicClub.png
END:VEVENT
BEGIN:VEVENT
DTSTART;TZID=Europe/Helsinki:20260526T190000
DTEND;TZID=Europe/Helsinki:20260526T210000
DTSTAMP:20260420T040718
CREATED:20250512T132452Z
LAST-MODIFIED:20250512T132452Z
UID:10000765-1779822000-1779829200@bindusvzw.be
SUMMARY:Saz lessen voor volwassenen
DESCRIPTION:Sazlessen voor volwassenen \nWanneer: Elke dinsdag van 19.00 – 21.00 \nWaar: Bindus Limburg Teutenweg 13 – 3550 Heusden Zolder \ngratis \nDe bağlama of saz is een snaarinstrument\, met twee dubbelkorige snaren en een tripelkorige snaar. Het is een muziekinstrument uit de familie van langhalsluiten. De benaming bağlama duidt exact het instrument aan\, terwijl de bekendere naam saz feitelijk eerder snaarinstrument betekent. \nDe houten klankkast van de saz bestaat uit een stuk en wordt soms aan de zijkant rondom ingelegd met andere houtsoorten ter versiering. De stempinnen staan niet in een vlak maar staan zowel dwars op de hals (zoals bij een viool) als aan de onderzijde van de hals. \nHet instrument wordt bespeeld met een dun langwerpig plectrum. \nDe bağlama is niet alleen in Turkije een zeer populair instrument\, en wordt gemaakt in een groot aantal afmetingen. Van klein naar groot: \nCursus wordt gegeven door Ismail Erdogdu van Music Club Beringen \nDe bağlama of saz is een snaarinstrument\, met twee dubbelkorige snaren en een tripelkorige snaar. Het is een muziekinstrument uit de familie van langhalsluiten. De benaming bağlama duidt exact het instrument aan\, terwijl de bekendere naam saz feitelijk eerder snaarinstrument betekent. \nDe bağlama is niet alleen in Turkije een zeer populair instrument\, maar ook in het Midden-Oosten
URL:https://bindusvzw.be/activiteiten/saz-lessen-voor-volwassenen/2026-05-26/
LOCATION:Bindus Limburg\, Teutenweg 13\, Heusden-Zolder\, Limburg\, 3550\, België
CATEGORIES:Activiteit Leden,Regionale Activiteit Limburg
ATTACH;FMTTYPE=image/png:https://bindusvzw.be/wp-content/uploads/2025/05/MusicClub.png
END:VEVENT
END:VCALENDAR