BEGIN:VCALENDAR
VERSION:2.0
PRODID:-//Bindus vzw - ECPv6.15.20//NONSGML v1.0//EN
CALSCALE:GREGORIAN
METHOD:PUBLISH
X-WR-CALNAME:Bindus vzw
X-ORIGINAL-URL:https://bindusvzw.be
X-WR-CALDESC:Evenementen voor Bindus vzw
REFRESH-INTERVAL;VALUE=DURATION:PT1H
X-Robots-Tag:noindex
X-PUBLISHED-TTL:PT1H
BEGIN:VTIMEZONE
TZID:Europe/Helsinki
BEGIN:DAYLIGHT
TZOFFSETFROM:+0200
TZOFFSETTO:+0300
TZNAME:EEST
DTSTART:20240331T010000
END:DAYLIGHT
BEGIN:STANDARD
TZOFFSETFROM:+0300
TZOFFSETTO:+0200
TZNAME:EET
DTSTART:20241027T010000
END:STANDARD
BEGIN:DAYLIGHT
TZOFFSETFROM:+0200
TZOFFSETTO:+0300
TZNAME:EEST
DTSTART:20250330T010000
END:DAYLIGHT
BEGIN:STANDARD
TZOFFSETFROM:+0300
TZOFFSETTO:+0200
TZNAME:EET
DTSTART:20251026T010000
END:STANDARD
BEGIN:DAYLIGHT
TZOFFSETFROM:+0200
TZOFFSETTO:+0300
TZNAME:EEST
DTSTART:20260329T010000
END:DAYLIGHT
BEGIN:STANDARD
TZOFFSETFROM:+0300
TZOFFSETTO:+0200
TZNAME:EET
DTSTART:20261025T010000
END:STANDARD
END:VTIMEZONE
BEGIN:VEVENT
DTSTART;TZID=Europe/Helsinki:20250527T080000
DTEND;TZID=Europe/Helsinki:20250531T170000
DTSTAMP:20260419T234001
CREATED:20250519T112845Z
LAST-MODIFIED:20250519T112845Z
UID:10001250-1748332800-1748710800@bindusvzw.be
SUMMARY:Sportkamp Future Football Stars
DESCRIPTION:Future Football Stars organiseert een sportkamp in Antalya voor jongeren tussen 15j – 18j van 27 tot 30 mei \nMet dit sportkamp willen ze 70 jongens en meisjes de kans geven om kennis te maken met professionele sportaccommodaties\, trainingen en ontspanningsmogelijkheden. \nZe worden ook met infomomenten getraind rond gezond sporten \nmeer in fo : info@futurefootballstars.be
URL:https://bindusvzw.be/activiteiten/sportkamp-future-football-stars/
LOCATION:antalya
CATEGORIES:Activiteit Leden
ATTACH;FMTTYPE=image/jpeg:https://bindusvzw.be/wp-content/uploads/2025/05/future.jpg
ORGANIZER;CN="Bindus vzw":MAILTO:info@bindusvzw.be
END:VEVENT
BEGIN:VEVENT
DTSTART;TZID=Europe/Helsinki:20250510T100000
DTEND;TZID=Europe/Helsinki:20250510T210000
DTSTAMP:20260419T234001
CREATED:20250519T105157Z
LAST-MODIFIED:20250519T105157Z
UID:10001249-1746871200-1746910800@bindusvzw.be
SUMMARY:Academy Cup
DESCRIPTION:FC Turksport Jeugdwerking organiseert op 10 mei een jeugdtornooi voor spelers vanaf 6 jaar tot 15 jaar. \nEr is een groot podium voorzien met kinderanimatie en muziekshows \nWe starten om 10u en eindigen als iedereen weg is \nKom af en enjoy
URL:https://bindusvzw.be/activiteiten/academy-cup/
LOCATION:Turksport Antwerpen\, Blancefloerlaan\, Linkeroever\, 2050\, België
ATTACH;FMTTYPE=image/jpeg:https://bindusvzw.be/wp-content/uploads/2025/05/unnamed-1.jpg
END:VEVENT
END:VCALENDAR