BEGIN:VCALENDAR
VERSION:2.0
PRODID:-//Bindus vzw - ECPv6.15.20//NONSGML v1.0//EN
CALSCALE:GREGORIAN
METHOD:PUBLISH
X-WR-CALNAME:Bindus vzw
X-ORIGINAL-URL:https://bindusvzw.be
X-WR-CALDESC:Evenementen voor Bindus vzw
REFRESH-INTERVAL;VALUE=DURATION:PT1H
X-Robots-Tag:noindex
X-PUBLISHED-TTL:PT1H
BEGIN:VTIMEZONE
TZID:Europe/Helsinki
BEGIN:DAYLIGHT
TZOFFSETFROM:+0200
TZOFFSETTO:+0300
TZNAME:EEST
DTSTART:20240331T010000
END:DAYLIGHT
BEGIN:STANDARD
TZOFFSETFROM:+0300
TZOFFSETTO:+0200
TZNAME:EET
DTSTART:20241027T010000
END:STANDARD
BEGIN:DAYLIGHT
TZOFFSETFROM:+0200
TZOFFSETTO:+0300
TZNAME:EEST
DTSTART:20250330T010000
END:DAYLIGHT
BEGIN:STANDARD
TZOFFSETFROM:+0300
TZOFFSETTO:+0200
TZNAME:EET
DTSTART:20251026T010000
END:STANDARD
BEGIN:DAYLIGHT
TZOFFSETFROM:+0200
TZOFFSETTO:+0300
TZNAME:EEST
DTSTART:20260329T010000
END:DAYLIGHT
BEGIN:STANDARD
TZOFFSETFROM:+0300
TZOFFSETTO:+0200
TZNAME:EET
DTSTART:20261025T010000
END:STANDARD
END:VTIMEZONE
BEGIN:VEVENT
DTSTART;TZID=Europe/Helsinki:20251212T180000
DTEND;TZID=Europe/Helsinki:20251212T220000
DTSTAMP:20260422T165727
CREATED:20251208T142713Z
LAST-MODIFIED:20251208T142713Z
UID:10001791-1765562400-1765576800@bindusvzw.be
SUMMARY:Het Jemenitisch Forum neemt deel aan weekend van Culturen
DESCRIPTION:Weekend van culturen\nKom tijdens het weekend van culturen kennis maken met de diversiteit aan smaken\, muziek en cultuur en laat je meenemen op een wereldreis doorheen de Stuivenbergsite.  \n📅 12-14 december \n⏰ 12 december van 18u-22u : Palestijnse en Sudanese avond \n⏰ 13 december 13u-22u Jemenitische namiddag en avond \n⏰ 14 december 14u-20u Eritrese namiddag en avond \n❔ Iedereen is van harte welkom \n🤝 in samenwerking met vzw Elhikma2060\, Gemeenschap van Zuidwest-Somalië in België\, Eritrea Hilal vereniging\, Palistinian Diaspora For Heritage vzw \n📍 Stuivenbergsite\, Pesthofstraat \, 2060 Antwerpen \n💶 Deelname: toegang is gratis \n 
URL:https://bindusvzw.be/activiteiten/het-jemenitisch-forum-neemt-deel-aan-weekend-van-culturen/
LOCATION:Stuivenbergsite\, Pesthofstraat\, Antwerpen\, 2060
CATEGORIES:Activiteit Leden
ORGANIZER;CN="Jemenitisch Forum":MAILTO:forumyemeni@gmail.com
END:VEVENT
BEGIN:VEVENT
DTSTART;TZID=Europe/Helsinki:20251213T130000
DTEND;TZID=Europe/Helsinki:20251213T220000
DTSTAMP:20260422T165727
CREATED:20251208T142831Z
LAST-MODIFIED:20251208T142831Z
UID:10001792-1765630800-1765663200@bindusvzw.be
SUMMARY:Het Jemenitisch Forum neemt deel aan weekend van Culturen
DESCRIPTION:Weekend van culturen\nKom tijdens het weekend van culturen kennis maken met de diversiteit aan smaken\, muziek en cultuur en laat je meenemen op een wereldreis doorheen de Stuivenbergsite.  \n📅 12-14 december \n⏰ 12 december van 18u-22u : Palestijnse en Sudanese avond \n⏰ 13 december 13u-22u Jemenitische namiddag en avond \n⏰ 14 december 14u-20u Eritrese namiddag en avond \n❔ Iedereen is van harte welkom \n🤝 in samenwerking met vzw Elhikma2060\, Gemeenschap van Zuidwest-Somalië in België\, Eritrea Hilal vereniging\, Palistinian Diaspora For Heritage vzw \n📍 Stuivenbergsite\, Pesthofstraat \, 2060 Antwerpen \n💶 Deelname: toegang is gratis \n 
URL:https://bindusvzw.be/activiteiten/het-jemenitisch-forum-neemt-deel-aan-weekend-van-culturen-2/
LOCATION:Stuivenbergsite\, Pesthofstraat\, Antwerpen\, 2060
CATEGORIES:Activiteit Leden
ORGANIZER;CN="Jemenitisch Forum":MAILTO:forumyemeni@gmail.com
END:VEVENT
BEGIN:VEVENT
DTSTART;TZID=Europe/Helsinki:20251214T140000
DTEND;TZID=Europe/Helsinki:20251214T200000
DTSTAMP:20260422T165727
CREATED:20251208T142912Z
LAST-MODIFIED:20251208T142912Z
UID:10001793-1765720800-1765742400@bindusvzw.be
SUMMARY:Het Jemenitisch Forum neemt deel aan weekend van Culturen
DESCRIPTION:Weekend van culturen\nKom tijdens het weekend van culturen kennis maken met de diversiteit aan smaken\, muziek en cultuur en laat je meenemen op een wereldreis doorheen de Stuivenbergsite.  \n📅 12-14 december \n⏰ 12 december van 18u-22u : Palestijnse en Sudanese avond \n⏰ 13 december 13u-22u Jemenitische namiddag en avond \n⏰ 14 december 14u-20u Eritrese namiddag en avond \n❔ Iedereen is van harte welkom \n🤝 in samenwerking met vzw Elhikma2060\, Gemeenschap van Zuidwest-Somalië in België\, Eritrea Hilal vereniging\, Palistinian Diaspora For Heritage vzw \n📍 Stuivenbergsite\, Pesthofstraat \, 2060 Antwerpen \n💶 Deelname: toegang is gratis \n 
URL:https://bindusvzw.be/activiteiten/het-jemenitisch-forum-neemt-deel-aan-weekend-van-culturen-3/
LOCATION:Stuivenbergsite\, Pesthofstraat\, Antwerpen\, 2060
CATEGORIES:Activiteit Leden
ORGANIZER;CN="Jemenitisch Forum":MAILTO:forumyemeni@gmail.com
END:VEVENT
END:VCALENDAR