BEGIN:VCALENDAR
VERSION:2.0
PRODID:-//Bindus vzw - ECPv6.15.20//NONSGML v1.0//EN
CALSCALE:GREGORIAN
METHOD:PUBLISH
X-ORIGINAL-URL:https://bindusvzw.be
X-WR-CALDESC:Evenementen voor Bindus vzw
REFRESH-INTERVAL;VALUE=DURATION:PT1H
X-Robots-Tag:noindex
X-PUBLISHED-TTL:PT1H
BEGIN:VTIMEZONE
TZID:Europe/Helsinki
BEGIN:DAYLIGHT
TZOFFSETFROM:+0200
TZOFFSETTO:+0300
TZNAME:EEST
DTSTART:20230326T010000
END:DAYLIGHT
BEGIN:STANDARD
TZOFFSETFROM:+0300
TZOFFSETTO:+0200
TZNAME:EET
DTSTART:20231029T010000
END:STANDARD
BEGIN:DAYLIGHT
TZOFFSETFROM:+0200
TZOFFSETTO:+0300
TZNAME:EEST
DTSTART:20240331T010000
END:DAYLIGHT
BEGIN:STANDARD
TZOFFSETFROM:+0300
TZOFFSETTO:+0200
TZNAME:EET
DTSTART:20241027T010000
END:STANDARD
BEGIN:DAYLIGHT
TZOFFSETFROM:+0200
TZOFFSETTO:+0300
TZNAME:EEST
DTSTART:20250330T010000
END:DAYLIGHT
BEGIN:STANDARD
TZOFFSETFROM:+0300
TZOFFSETTO:+0200
TZNAME:EET
DTSTART:20251026T010000
END:STANDARD
BEGIN:DAYLIGHT
TZOFFSETFROM:+0200
TZOFFSETTO:+0300
TZNAME:EEST
DTSTART:20260329T010000
END:DAYLIGHT
BEGIN:STANDARD
TZOFFSETFROM:+0300
TZOFFSETTO:+0200
TZNAME:EET
DTSTART:20261025T010000
END:STANDARD
END:VTIMEZONE
BEGIN:VEVENT
DTSTART;TZID=Europe/Helsinki:20250924T130000
DTEND;TZID=Europe/Helsinki:20250924T170000
DTSTAMP:20260420T235159
CREATED:20251006T134455Z
LAST-MODIFIED:20251006T134455Z
UID:10001757-1758718800-1758733200@bindusvzw.be
SUMMARY:Maak kennis met Inclusion Lab
DESCRIPTION:Inclusion Lab organiseert een Kick off Meeting\n  \n✨ Inclusion lab staat gekend voor hun innovatieve aanpak\nom de integratie van jonge vluchtelingen in Brussel\nte bevorderen. In samenwerking met verschillende\nBrusselse vluchtelingencentra werkt de organisatie\neen aanbod uit op maat. \n🗓️ woensdag 24  september \n📍Fedasil: François Sebrechtslaan 40\, 1080 Sint-Jans-Molenbeek \n🤝 in samenwerking met Fedasil \n🖊️ Meer informatie: inclusionlab07@gmail.com
URL:https://bindusvzw.be/activiteiten/maak-kennis-met-inclusion-lab/
LOCATION:Fedasil Molenbeek\, François Sebrechtslaan 40\, 1080 Sint-Jans-Molenbeek
CATEGORIES:Activiteit Leden,Regionale Activiteit Brussel
ATTACH;FMTTYPE=image/jpeg:https://bindusvzw.be/wp-content/uploads/2025/03/goed-logo-inclusion-lab.jpg
ORGANIZER;CN="Inclusion Lab":MAILTO:inclusionlab07@gmail.com
END:VEVENT
BEGIN:VEVENT
DTSTART;TZID=Europe/Helsinki:20250723T130000
DTEND;TZID=Europe/Helsinki:20250723T170000
DTSTAMP:20260420T235159
CREATED:20251006T133503Z
LAST-MODIFIED:20251006T133503Z
UID:10001756-1753275600-1753290000@bindusvzw.be
SUMMARY:Inclusion lab organiseert een workshop
DESCRIPTION:Inclusion Lab organiseert een workshop met als thema hoe maak je een goede c.v.\n  \n✨ Inclusion lab staat gekend voor hun innovatieve aanpak\nom de integratie van jonge vluchtelingen in Brussel\nte bevorderen. In samenwerking met verschillende\nBrusselse vluchtelingencentra werkt de organisatie\neen aanbod uit op maat. \n🗓️ woensdag 23  juli \n📍Fedasil: François Sebrechtslaan 40\, 1080 Sint-Jans-Molenbeek \n🖊️ Meer informatie: inclusionlab07@gmail.com
URL:https://bindusvzw.be/activiteiten/inclusion-lab-organiseert-een-workshop-7/
LOCATION:Fedasil Molenbeek\, François Sebrechtslaan 40\, 1080 Sint-Jans-Molenbeek
CATEGORIES:Activiteit Leden,Regionale Activiteit Brussel
ATTACH;FMTTYPE=image/jpeg:https://bindusvzw.be/wp-content/uploads/2025/03/goed-logo-inclusion-lab.jpg
ORGANIZER;CN="Inclusion Lab":MAILTO:inclusionlab07@gmail.com
END:VEVENT
BEGIN:VEVENT
DTSTART;TZID=Europe/Helsinki:20250611T130000
DTEND;TZID=Europe/Helsinki:20250611T170000
DTSTAMP:20260420T235159
CREATED:20251006T130406Z
LAST-MODIFIED:20251006T130406Z
UID:10001750-1749646800-1749661200@bindusvzw.be
SUMMARY:Inclusion lab organiseert een workshop
DESCRIPTION:Inclusion Lab organiseert een workshop\n  \n✨ Inclusion lab staat gekend voor hun innovatieve aanpak\nom de integratie van jonge vluchtelingen in Brussel\nte bevorderen. In samenwerking met verschillende\nBrusselse vluchtelingencentra werkt de organisatie\neen aanbod uit op maat. \n❗thema: je vaardigheden kennen en versterken bij het vinden van een job \n🗓️ woensdag 11  juni \n📍Anderlecht \n🖊️ Meer informatie: inclusionlab07@gmail.com
URL:https://bindusvzw.be/activiteiten/inclusion-lab-organiseert-een-workshop-5/
CATEGORIES:Activiteit Leden,Regionale Activiteit Brussel
ATTACH;FMTTYPE=image/jpeg:https://bindusvzw.be/wp-content/uploads/2025/03/goed-logo-inclusion-lab.jpg
ORGANIZER;CN="Inclusion Lab":MAILTO:inclusionlab07@gmail.com
END:VEVENT
BEGIN:VEVENT
DTSTART;TZID=Europe/Helsinki:20250507T130000
DTEND;TZID=Europe/Helsinki:20250507T170000
DTSTAMP:20260420T235159
CREATED:20251006T122911Z
LAST-MODIFIED:20251006T122911Z
UID:10000698-1746622800-1746637200@bindusvzw.be
SUMMARY:Inclusion lab organiseert een workshop
DESCRIPTION:Inclusion Lab organiseert een workshop met als thema hoe maak je een goede sollicitatiebrief\n  \n✨ Inclusion lab staat gekend voor hun innovatieve aanpak\nom de integratie van jonge vluchtelingen in Brussel\nte bevorderen. In samenwerking met verschillende\nBrusselse vluchtelingencentra werkt de organisatie\neen aanbod uit op maat. \n🗓️ Dinsdag 07  mei \n📍Fedasil: François Sebrechtslaan 40\, 1080 Sint-Jans-Molenbeek \n🖊️ Meer informatie: inclusionlab07@gmail.com
URL:https://bindusvzw.be/activiteiten/inclusion-lab-organiseert-een-workshop-4/
LOCATION:Fedasil Molenbeek\, François Sebrechtslaan 40\, 1080 Sint-Jans-Molenbeek
CATEGORIES:Activiteit Leden,Regionale Activiteit Brussel
ATTACH;FMTTYPE=image/jpeg:https://bindusvzw.be/wp-content/uploads/2025/03/goed-logo-inclusion-lab.jpg
ORGANIZER;CN="Inclusion Lab":MAILTO:inclusionlab07@gmail.com
END:VEVENT
BEGIN:VEVENT
DTSTART;TZID=Europe/Helsinki:20250428T130000
DTEND;TZID=Europe/Helsinki:20250428T170000
DTSTAMP:20260420T235159
CREATED:20250506T080858Z
LAST-MODIFIED:20250506T080858Z
UID:10000695-1745845200-1745859600@bindusvzw.be
SUMMARY:Inclusion lab organiseert innovatieve lessen Nederlands
DESCRIPTION:Inclusion Lab organiseert een workshop met als thema Nederlands taaloverzicht\n  \n✨ Inclusion lab staat gekend voor hun innovatieve aanpak\nom de integratie van jonge vluchtelingen in Brussel\nte bevorderen. In samenwerking met verschillende\nBrusselse vluchtelingencentra werkt de organisatie\neen aanbod uit op maat. \n❗thema: Het Nederlands taaloverzicht \n🗓️ maandag 28  april \n📍Fedasil: François Sebrechtslaan 40\, 1080 Sint-Jans-Molenbeek \n🖊️ Meer informatie: inclusionlab07@gmail.com
URL:https://bindusvzw.be/activiteiten/inclusion-lab-organiseert-innovatieve-lessen-nederlands-3/
LOCATION:Fedasil Molenbeek\, François Sebrechtslaan 40\, 1080 Sint-Jans-Molenbeek
CATEGORIES:Activiteit Leden,Regionale Activiteit Brussel
ATTACH;FMTTYPE=image/jpeg:https://bindusvzw.be/wp-content/uploads/2025/03/goed-logo-inclusion-lab.jpg
ORGANIZER;CN="Inclusion Lab":MAILTO:inclusionlab07@gmail.com
END:VEVENT
BEGIN:VEVENT
DTSTART;TZID=Europe/Helsinki:20250311T130000
DTEND;TZID=Europe/Helsinki:20250311T170000
DTSTAMP:20260420T235159
CREATED:20250506T080710Z
LAST-MODIFIED:20250506T080710Z
UID:10000694-1741698000-1741712400@bindusvzw.be
SUMMARY:Inclusion lab organiseert innovatieve lessen Nederlands
DESCRIPTION:Inclusion Lab organiseert een workshop met als thema Nederlands taaloverzicht\n  \n✨ Inclusion lab staat gekend voor hun innovatieve aanpak\nom de integratie van jonge vluchtelingen in Brussel\nte bevorderen. In samenwerking met verschillende\nBrusselse vluchtelingencentra werkt de organisatie\neen aanbod uit op maat. \n❗thema: Het Nederlands taaloverzicht \n🗓️ Dinsdag 11  maart \n📍Fedasil: François Sebrechtslaan 40\, 1080 Sint-Jans-Molenbeek \n🖊️ Meer informatie: inclusionlab07@gmail.com
URL:https://bindusvzw.be/activiteiten/inclusion-lab-organiseert-innovatieve-lessen-nederlands-2/
LOCATION:Fedasil Molenbeek\, François Sebrechtslaan 40\, 1080 Sint-Jans-Molenbeek
CATEGORIES:Activiteit Leden,Regionale Activiteit Brussel
ATTACH;FMTTYPE=image/jpeg:https://bindusvzw.be/wp-content/uploads/2025/03/goed-logo-inclusion-lab.jpg
ORGANIZER;CN="Inclusion Lab":MAILTO:inclusionlab07@gmail.com
END:VEVENT
BEGIN:VEVENT
DTSTART;TZID=Europe/Helsinki:20250304T130000
DTEND;TZID=Europe/Helsinki:20250304T170000
DTSTAMP:20260420T235159
CREATED:20250506T080504Z
LAST-MODIFIED:20250506T080551Z
UID:10000693-1741093200-1741107600@bindusvzw.be
SUMMARY:Inclusion lab organiseert een workshop
DESCRIPTION:Inclusion Lab organiseert een workshop met als thema Mondly app\n  \n✨ Inclusion lab staat gekend voor hun innovatieve aanpak\nom de integratie van jonge vluchtelingen in Brussel\nte bevorderen. In samenwerking met verschillende\nBrusselse vluchtelingencentra werkt de organisatie\neen aanbod uit op maat. \n❗thema: het gebruik van de mondly app om een nieuwe taal te leren \n🗓️ Dinsdag 4  maart \n📍Fedasil: François Sebrechtslaan 40\, 1080 Sint-Jans-Molenbeek \n🖊️ Meer informatie: inclusionlab07@gmail.com
URL:https://bindusvzw.be/activiteiten/inclusion-lab-organiseert-een-workshop-3/
LOCATION:Fedasil Molenbeek\, François Sebrechtslaan 40\, 1080 Sint-Jans-Molenbeek
CATEGORIES:Activiteit Leden,Regionale Activiteit Brussel
ATTACH;FMTTYPE=image/jpeg:https://bindusvzw.be/wp-content/uploads/2025/03/goed-logo-inclusion-lab.jpg
ORGANIZER;CN="Inclusion Lab":MAILTO:inclusionlab07@gmail.com
END:VEVENT
BEGIN:VEVENT
DTSTART;TZID=Europe/Helsinki:20250211T130000
DTEND;TZID=Europe/Helsinki:20250211T170000
DTSTAMP:20260420T235159
CREATED:20250506T080219Z
LAST-MODIFIED:20250506T080219Z
UID:10000692-1739278800-1739293200@bindusvzw.be
SUMMARY:Inclusion lab organiseert een workshop
DESCRIPTION:Inclusion Lab organiseert een workshop met als thema Duolingo\n  \n✨ Inclusion lab staat gekend voor hun innovatieve aanpak\nom de integratie van jonge vluchtelingen in Brussel\nte bevorderen. In samenwerking met verschillende\nBrusselse vluchtelingencentra werkt de organisatie\neen aanbod uit op maat. \n❗thema: het gebruik van Duolingo om een nieuwe taal te leren \n🗓️ Dinsdag 17  december \n📍Fedasil: François Sebrechtslaan 40\, 1080 Sint-Jans-Molenbeek \n🤝 In samenwerking met Fedasil \n🖊️ Meer informatie: inclusionlab07@gmail.com
URL:https://bindusvzw.be/activiteiten/inclusion-lab-organiseert-een-workshop-2/
LOCATION:Fedasil Molenbeek\, François Sebrechtslaan 40\, 1080 Sint-Jans-Molenbeek
CATEGORIES:Activiteit Leden,Regionale Activiteit Brussel
ATTACH;FMTTYPE=image/jpeg:https://bindusvzw.be/wp-content/uploads/2025/03/goed-logo-inclusion-lab.jpg
ORGANIZER;CN="Inclusion Lab":MAILTO:inclusionlab07@gmail.com
END:VEVENT
BEGIN:VEVENT
DTSTART;TZID=Europe/Helsinki:20241217T130000
DTEND;TZID=Europe/Helsinki:20241217T170000
DTSTAMP:20260420T235159
CREATED:20250506T075639Z
LAST-MODIFIED:20250506T075639Z
UID:10000691-1734440400-1734454800@bindusvzw.be
SUMMARY:Inclusion lab organiseert innovatieve lessen Nederlands
DESCRIPTION:Inclusion Lab organiseert een workshop met als thema Nederlands taaloverzicht\n  \n✨ Inclusion lab staat gekend voor hun innovatieve aanpak\nom de integratie van jonge vluchtelingen in Brussel\nte bevorderen. In samenwerking met verschillende\nBrusselse vluchtelingencentra werkt de organisatie\neen aanbod uit op maat. \n❗thema: Het Nederlands taaloverzicht \n🗓️ Dinsdag 17  december \n📍Fedasil: François Sebrechtslaan 40\, 1080 Sint-Jans-Molenbeek \n🖊️ Meer informatie: inclusionlab07@gmail.com
URL:https://bindusvzw.be/activiteiten/inclusion-lab-organiseert-innovatieve-lessen-nederlands/
LOCATION:Fedasil Molenbeek\, François Sebrechtslaan 40\, 1080 Sint-Jans-Molenbeek
CATEGORIES:Activiteit Leden,Regionale Activiteit Brussel
ATTACH;FMTTYPE=image/jpeg:https://bindusvzw.be/wp-content/uploads/2025/03/goed-logo-inclusion-lab.jpg
ORGANIZER;CN="Inclusion Lab":MAILTO:inclusionlab07@gmail.com
END:VEVENT
BEGIN:VEVENT
DTSTART;TZID=Europe/Helsinki:20241210T130000
DTEND;TZID=Europe/Helsinki:20241210T170000
DTSTAMP:20260420T235159
CREATED:20250506T075450Z
LAST-MODIFIED:20250506T075719Z
UID:10000690-1733835600-1733850000@bindusvzw.be
SUMMARY:Inclusion lab organiseert een workshop
DESCRIPTION:Inclusion Lab organiseert een workshop met als thema hoe maak je een goede sollicitatiebrief\n  \n✨ Inclusion lab staat gekend voor hun innovatieve aanpak\nom de integratie van jonge vluchtelingen in Brussel\nte bevorderen. In samenwerking met verschillende\nBrusselse vluchtelingencentra werkt de organisatie\neen aanbod uit op maat. \n🗓️ Dinsdag 10  december \n📍Fedasil: François Sebrechtslaan 40\, 1080 Sint-Jans-Molenbeek \n🖊️ Meer informatie: inclusionlab07@gmail.com
URL:https://bindusvzw.be/activiteiten/inclusion-lab-organiseert-een-workshop/
LOCATION:Fedasil Molenbeek\, François Sebrechtslaan 40\, 1080 Sint-Jans-Molenbeek
CATEGORIES:Activiteit Leden,Regionale Activiteit Brussel
ATTACH;FMTTYPE=image/jpeg:https://bindusvzw.be/wp-content/uploads/2025/03/goed-logo-inclusion-lab.jpg
ORGANIZER;CN="Inclusion Lab":MAILTO:inclusionlab07@gmail.com
END:VEVENT
END:VCALENDAR