BEGIN:VCALENDAR
VERSION:2.0
PRODID:-//Bindus vzw - ECPv6.15.20//NONSGML v1.0//EN
CALSCALE:GREGORIAN
METHOD:PUBLISH
X-WR-CALNAME:Bindus vzw
X-ORIGINAL-URL:https://bindusvzw.be
X-WR-CALDESC:Evenementen voor Bindus vzw
REFRESH-INTERVAL;VALUE=DURATION:PT1H
X-Robots-Tag:noindex
X-PUBLISHED-TTL:PT1H
BEGIN:VTIMEZONE
TZID:Europe/Helsinki
BEGIN:DAYLIGHT
TZOFFSETFROM:+0200
TZOFFSETTO:+0300
TZNAME:EEST
DTSTART:20240331T010000
END:DAYLIGHT
BEGIN:STANDARD
TZOFFSETFROM:+0300
TZOFFSETTO:+0200
TZNAME:EET
DTSTART:20241027T010000
END:STANDARD
BEGIN:DAYLIGHT
TZOFFSETFROM:+0200
TZOFFSETTO:+0300
TZNAME:EEST
DTSTART:20250330T010000
END:DAYLIGHT
BEGIN:STANDARD
TZOFFSETFROM:+0300
TZOFFSETTO:+0200
TZNAME:EET
DTSTART:20251026T010000
END:STANDARD
BEGIN:DAYLIGHT
TZOFFSETFROM:+0200
TZOFFSETTO:+0300
TZNAME:EEST
DTSTART:20260329T010000
END:DAYLIGHT
BEGIN:STANDARD
TZOFFSETFROM:+0300
TZOFFSETTO:+0200
TZNAME:EET
DTSTART:20261025T010000
END:STANDARD
END:VTIMEZONE
BEGIN:VEVENT
DTSTART;TZID=Europe/Helsinki:20251108T150000
DTEND;TZID=Europe/Helsinki:20251108T180000
DTSTAMP:20260426T021444
CREATED:20251106T092420Z
LAST-MODIFIED:20251106T092420Z
UID:10001769-1762614000-1762624800@bindusvzw.be
SUMMARY:Het Jemenitisch Forum organiseert een vrouwendag
DESCRIPTION:Een sterke vrouw bouwt een gelukkig gezin en verandert de emigratie in een thuis\n  \n🗓️ zaterdag 8 november \n⏰ 15-18u  \n❔ Iedereen is welkom \nOp 11 november 1972 vierde België voor het eerst een nationale vrouwendag\, ter ere van de strijd en de rol van de vrouw\nin het opbouwen van de samenleving.\nVanuit dit inspirerende idee organiseert het  Jemenitisch Forum in België vzw\, met de steun van het IOM een bijeenkomst ter\nviering van de kracht\, het doorzettingsvermogen en de toewijding van vrouwen in het buitenland. \n🎙️ Tijdens de bijeenkomst: \n* Inspirerende gesprekken en ervaringsverhalen \n* Entertainment en muziek \n* Snack- en koffieruimte 🍰☕ \n  \n✨ Onderwerpen van de bijeenkomst: \n💬 De uitdagingen waarmee vrouwen in het buitenland te maken krijgen en hoe hiermee om te gaan \n🏡 De rol van de vrouw in het bouwen van een gelukkig en stabiel gezin \n💪 De kracht van de vrouw en het gezin is de kracht van de samenleving \n  \n📍Lucy’s Antwerp Paleisstraat 39-41\, 2018 Antwerpen \n💶 Deelname: helemaal gratis  \n❔ Meer informatie via forumyemeni@gmail.com
URL:https://bindusvzw.be/activiteiten/het-jemenitisch-forum-organiseert-een-vrouwendag/
LOCATION:Lucy’s Antwerp\, Paleisstraat 39-41\, Antwerpen\, 2018
CATEGORIES:Activiteit Leden
ATTACH;FMTTYPE=image/jpeg:https://bindusvzw.be/wp-content/uploads/2025/01/WhatsApp-Image-2025-01-27-at-10.11.41.jpeg
ORGANIZER;CN="Jemenitisch Forum":MAILTO:forumyemeni@gmail.com
END:VEVENT
BEGIN:VEVENT
DTSTART;TZID=Europe/Helsinki:20250216T143000
DTEND;TZID=Europe/Helsinki:20250216T160000
DTSTAMP:20260426T021444
CREATED:20250204T142455Z
LAST-MODIFIED:20250204T142455Z
UID:10000412-1739716200-1739721600@bindusvzw.be
SUMMARY:Wandel naar jezelf - met Womanifest
DESCRIPTION:Zin in een ontspannend én verbindende wandeling?\nElke derde zondag van de maand organiseert Womanifest een wandeling doorheen het prachtige Polderbos in Hoboken. \n🗓️ Elke derde zondag van de maand\, nu 16/2 \n⏰ Van 14.30 tot 16.00 \n📍 Verzamelen om 14.30 uur aan STAERK GYM – Kapelstraat 70\, Hoboken \n💶 Deelname: Slechts 5 euro per persoon \n  \n👶 Kinderopvang nodig?\nGeen zorgen\, Womanifest heeft eraan gedacht! Terwijl jij geniet\, worden je kinderen vermaakt met leuke animatie. Vergeet niet een hapje en drankje voor hen mee te nemen. \nOpvangkosten: \n\n1 kind: 5 euro\n2 kinderen: 4 euro per kind\n3 kinderen: 3 euro per kind\n\n✨ Voel jij het al kriebelen?\nSchrijf je snel in via info@womanifest.be! \n💡 Nog niet bekend met Womanifest?\nDit is een inclusieve vereniging voor en door vrouwen 💕. Hier vind je een safe space om jezelf te zijn\, nieuwe grenzen te verkennen\, en te groeien in verbinding\, educatie en welzijn.
URL:https://bindusvzw.be/activiteiten/wandel-naar-jezelf-met-womanifest-2/
LOCATION:STAERK GYM\, Hoboken\, Kapelstraat 70\, Hoboken\, Antwerpen\, 2660\, België
CATEGORIES:Activiteit Leden,Regionale Activiteit Antwerpen
ATTACH;FMTTYPE=image/jpeg:https://bindusvzw.be/wp-content/uploads/2025/02/Screenshot_20250202_153121_Instagram.jpg
ORGANIZER;CN="Womanifest":MAILTO:info@womanifest.be
END:VEVENT
END:VCALENDAR