BEGIN:VCALENDAR
VERSION:2.0
PRODID:-//Bindus vzw - ECPv6.15.20//NONSGML v1.0//EN
CALSCALE:GREGORIAN
METHOD:PUBLISH
X-ORIGINAL-URL:https://bindusvzw.be
X-WR-CALDESC:Evenementen voor Bindus vzw
REFRESH-INTERVAL;VALUE=DURATION:PT1H
X-Robots-Tag:noindex
X-PUBLISHED-TTL:PT1H
BEGIN:VTIMEZONE
TZID:Europe/Helsinki
BEGIN:DAYLIGHT
TZOFFSETFROM:+0200
TZOFFSETTO:+0300
TZNAME:EEST
DTSTART:20250330T010000
END:DAYLIGHT
BEGIN:STANDARD
TZOFFSETFROM:+0300
TZOFFSETTO:+0200
TZNAME:EET
DTSTART:20251026T010000
END:STANDARD
BEGIN:DAYLIGHT
TZOFFSETFROM:+0200
TZOFFSETTO:+0300
TZNAME:EEST
DTSTART:20260329T010000
END:DAYLIGHT
BEGIN:STANDARD
TZOFFSETFROM:+0300
TZOFFSETTO:+0200
TZNAME:EET
DTSTART:20261025T010000
END:STANDARD
BEGIN:DAYLIGHT
TZOFFSETFROM:+0200
TZOFFSETTO:+0300
TZNAME:EEST
DTSTART:20270328T010000
END:DAYLIGHT
BEGIN:STANDARD
TZOFFSETFROM:+0300
TZOFFSETTO:+0200
TZNAME:EET
DTSTART:20271031T010000
END:STANDARD
END:VTIMEZONE
BEGIN:VEVENT
DTSTART;TZID=Europe/Helsinki:20260528T173000
DTEND;TZID=Europe/Helsinki:20260528T213000
DTSTAMP:20260423T105406
CREATED:20250729T091113Z
LAST-MODIFIED:20250729T091113Z
UID:10001404-1779989400-1780003800@bindusvzw.be
SUMMARY:Svetulka: Bulgaarse folkloregroep
DESCRIPTION:Danslessen Bulgaarse folklore\n🗓️ Iedere dinsdag\, donderdag en zondag met uitzondering van de zomervakantie (juli en augustus) \n⏰ Dinsdag: 17u30-21u30\n⏰Donderdag: 17u30-21u30\n ⏰ Zondag: 14u30-19u00\n \n📍 Bindus\, Brederodestraat 188\, 2018 Antwerpen \n❗Afhankelijk van optredens in het binnen en buitenland kunnen er wijzigingen zijn in de planning \n✨ Mee te nemen: dansschoenen en comfortabele danskleding en een flesje water \n🖊️ inschrijven en meer informatie via Svetulka@skynet.be
URL:https://bindusvzw.be/activiteiten/svetulka-bulgaarse-folkloregroep-195/
LOCATION:Bindus Antwerpen\, Brederodestraat 188\, Antwerpen\, antwerpen\, 2000\, België
CATEGORIES:Activiteit Leden
ATTACH;FMTTYPE=image/jpeg:https://bindusvzw.be/wp-content/uploads/2024/12/341b5fe5-4e47-4669-9182-fa176066e9c5.jpg
ORGANIZER;CN="Svetulka":MAILTO:Svetulka@skynet.be
END:VEVENT
BEGIN:VEVENT
DTSTART;TZID=Europe/Helsinki:20260530T120000
DTEND;TZID=Europe/Helsinki:20260530T190000
DTSTAMP:20260423T105406
CREATED:20250917T095344Z
LAST-MODIFIED:20250917T095344Z
UID:10001747-1780142400-1780167600@bindusvzw.be
SUMMARY:Mongoolse zaterdagschool Ireedui vzw
DESCRIPTION:Ireedui vzw zet zich in voor het behoud van de Mongoolse taal en cultuur in Vlaanderen\n  \n🗓️ Iedere zaterdag met uitzondering van de\nvakantieperiodes die van  toepassing zijn voor\nhet Nederlandstalig onderwijs in Vlaanderen \n⏰ 12-19u \n❔ Kinderen van 2\,8 tot 11 jaar \n📍 Het stadsmagazijn\, Keistraat 5\, 2000 Antwerpen \n✨ De leerstof volgt het programma van het Ministerie\nvan Onderwijs en Wetenschappen in Mongolië\nbetr.  de Mongoolse zondagscholen in het buitenland\nwaardoor kinderen die geen Mongools als moedertaal\nhebben ook welkom  zijn. \n✍️ Inschrijven: via Nergui Erkhembayar (Facebook) \n💶 Deelnameprijs: maandelijkse bijdrage \n❔ Meer informatie via n_erkhembayar@yahoo.com of 0484 15 02 89
URL:https://bindusvzw.be/activiteiten/mongoolse-zaterdagschool-ireedui-vzw-54/
LOCATION:Bindus Antwerpen\, Brederodestraat 188\, Antwerpen\, antwerpen\, 2000\, België
CATEGORIES:Activiteit Leden
ATTACH;FMTTYPE=image/jpeg:https://bindusvzw.be/wp-content/uploads/2024/12/foto-nergui-website-4.jpg
ORGANIZER;CN="Ireedui vzw":MAILTO:n_erkhembayar@yahoo.com
END:VEVENT
BEGIN:VEVENT
DTSTART;TZID=Europe/Helsinki:20260531T120000
DTEND;TZID=Europe/Helsinki:20260531T150000
DTSTAMP:20260423T105406
CREATED:20250811T121116Z
LAST-MODIFIED:20250811T121116Z
UID:10001513-1780228800-1780239600@bindusvzw.be
SUMMARY:muziekschool DoReMimuziek organiseert saz lessen
DESCRIPTION:Wil jij de Turkse saz leren spelen in Antwerpen?\nDoReMimuziek\, een succesvolle muziekschool\nuit Nederland\, komt naar Antwerpen met muzieklessen\nSaz voor zowel beginnende als gevorderde muzikanten.\nDit traditionele snaarinstrument heeft een rijke geschiedenis en is diep geworteld in de muzikale tradities\nvan het Midden-Oosten en de Balkan. Met zijn unieke\, warme klank creëert de saz een betoverende sfeer.\nOf het nu gaat om vrolijke deuntjes of emotionele ballades\,\nde saz vertelt een verhaal dat raakt. \n🗓️ Iedere zondag met uitzondering van de zomervakantie (juli en augustus) \n⏰ 12u00-15u00\n \n📍 Bindus\, Brederodestraat 188\, 2018 Antwerpen \n💶 70 euro per maand* \n🖊️ inschrijven en meer informatie via www.doremimuziek.nl of stuur een bericht naar +31651 886 633
URL:https://bindusvzw.be/activiteiten/muziekschool-doremimuziek-organiseert-saz-lessen-34/
LOCATION:Bindus Antwerpen\, Brederodestraat 188\, Antwerpen\, antwerpen\, 2000\, België
ATTACH;FMTTYPE=image/png:https://bindusvzw.be/wp-content/uploads/2025/08/Nieuwe-Logo-DMM-transparant.png
ORGANIZER;CN="DoReMimuziek":MAILTO:info@doremimuziek.nl
END:VEVENT
BEGIN:VEVENT
DTSTART;TZID=Europe/Helsinki:20260531T143000
DTEND;TZID=Europe/Helsinki:20260531T190000
DTSTAMP:20260423T105406
CREATED:20250729T091302Z
LAST-MODIFIED:20250729T091302Z
UID:10001405-1780237800-1780254000@bindusvzw.be
SUMMARY:Svetulka: Bulgaarse folkloregroep
DESCRIPTION:Danslessen Bulgaarse folklore\n🗓️ Iedere dinsdag\, donderdag en zondag met uitzondering van de zomervakantie (juli en augustus) \n⏰ Dinsdag: 17u30-21u30\n⏰Donderdag: 17u30-21u30\n ⏰ Zondag: 14u30-19u00\n \n📍 Bindus\, Brederodestraat 188\, 2018 Antwerpen \n❗Afhankelijk van optredens in het binnen en buitenland kunnen er wijzigingen zijn in de planning \n✨ Mee te nemen: dansschoenen en comfortabele danskleding en een flesje water \n🖊️ inschrijven en meer informatie via Svetulka@skynet.be
URL:https://bindusvzw.be/activiteiten/svetulka-bulgaarse-folkloregroep-196/
LOCATION:Bindus Antwerpen\, Brederodestraat 188\, Antwerpen\, antwerpen\, 2000\, België
CATEGORIES:Activiteit Leden
ATTACH;FMTTYPE=image/jpeg:https://bindusvzw.be/wp-content/uploads/2024/12/341b5fe5-4e47-4669-9182-fa176066e9c5.jpg
ORGANIZER;CN="Svetulka":MAILTO:Svetulka@skynet.be
END:VEVENT
BEGIN:VEVENT
DTSTART;TZID=Europe/Helsinki:20260602T173000
DTEND;TZID=Europe/Helsinki:20260602T213000
DTSTAMP:20260423T105406
CREATED:20250729T102627Z
LAST-MODIFIED:20250729T102627Z
UID:10001406-1780421400-1780435800@bindusvzw.be
SUMMARY:Svetulka: Bulgaarse folkloregroep
DESCRIPTION:Danslessen Bulgaarse folklore\n🗓️ Iedere dinsdag\, donderdag en zondag met uitzondering van de zomervakantie (juli en augustus) \n⏰ Dinsdag: 17u30-21u30\n⏰Donderdag: 17u30-21u30\n ⏰ Zondag: 14u30-19u00\n \n📍 Bindus\, Brederodestraat 188\, 2018 Antwerpen \n❗Afhankelijk van optredens in het binnen en buitenland kunnen er wijzigingen zijn in de planning \n✨ Mee te nemen: dansschoenen en comfortabele danskleding en een flesje water \n🖊️ inschrijven en meer informatie via Svetulka@skynet.be
URL:https://bindusvzw.be/activiteiten/svetulka-bulgaarse-folkloregroep-197/
LOCATION:Bindus Antwerpen\, Brederodestraat 188\, Antwerpen\, antwerpen\, 2000\, België
CATEGORIES:Activiteit Leden
ATTACH;FMTTYPE=image/jpeg:https://bindusvzw.be/wp-content/uploads/2024/12/341b5fe5-4e47-4669-9182-fa176066e9c5.jpg
ORGANIZER;CN="Svetulka":MAILTO:Svetulka@skynet.be
END:VEVENT
BEGIN:VEVENT
DTSTART;TZID=Europe/Helsinki:20260604T173000
DTEND;TZID=Europe/Helsinki:20260604T213000
DTSTAMP:20260423T105406
CREATED:20250729T102922Z
LAST-MODIFIED:20250729T102922Z
UID:10001407-1780594200-1780608600@bindusvzw.be
SUMMARY:Svetulka: Bulgaarse folkloregroep
DESCRIPTION:Danslessen Bulgaarse folklore\n🗓️ Iedere dinsdag\, donderdag en zondag met uitzondering van de zomervakantie (juli en augustus) \n⏰ Dinsdag: 17u30-21u30\n⏰Donderdag: 17u30-21u30\n ⏰ Zondag: 14u30-19u00\n \n📍 Bindus\, Brederodestraat 188\, 2018 Antwerpen \n❗Afhankelijk van optredens in het binnen en buitenland kunnen er wijzigingen zijn in de planning \n✨ Mee te nemen: dansschoenen en comfortabele danskleding en een flesje water \n🖊️ inschrijven en meer informatie via Svetulka@skynet.be
URL:https://bindusvzw.be/activiteiten/svetulka-bulgaarse-folkloregroep-198/
LOCATION:Bindus Antwerpen\, Brederodestraat 188\, Antwerpen\, antwerpen\, 2000\, België
CATEGORIES:Activiteit Leden
ATTACH;FMTTYPE=image/jpeg:https://bindusvzw.be/wp-content/uploads/2024/12/341b5fe5-4e47-4669-9182-fa176066e9c5.jpg
ORGANIZER;CN="Svetulka":MAILTO:Svetulka@skynet.be
END:VEVENT
BEGIN:VEVENT
DTSTART;TZID=Europe/Helsinki:20260607T120000
DTEND;TZID=Europe/Helsinki:20260607T150000
DTSTAMP:20260423T105406
CREATED:20250811T121226Z
LAST-MODIFIED:20250811T121226Z
UID:10001514-1780833600-1780844400@bindusvzw.be
SUMMARY:muziekschool DoReMimuziek organiseert saz lessen
DESCRIPTION:Wil jij de Turkse saz leren spelen in Antwerpen?\nDoReMimuziek\, een succesvolle muziekschool\nuit Nederland\, komt naar Antwerpen met muzieklessen\nSaz voor zowel beginnende als gevorderde muzikanten.\nDit traditionele snaarinstrument heeft een rijke geschiedenis en is diep geworteld in de muzikale tradities\nvan het Midden-Oosten en de Balkan. Met zijn unieke\, warme klank creëert de saz een betoverende sfeer.\nOf het nu gaat om vrolijke deuntjes of emotionele ballades\,\nde saz vertelt een verhaal dat raakt. \n🗓️ Iedere zondag met uitzondering van de zomervakantie (juli en augustus) \n⏰ 12u00-15u00\n \n📍 Bindus\, Brederodestraat 188\, 2018 Antwerpen \n💶 70 euro per maand* \n🖊️ inschrijven en meer informatie via www.doremimuziek.nl of stuur een bericht naar +31651 886 633
URL:https://bindusvzw.be/activiteiten/muziekschool-doremimuziek-organiseert-saz-lessen-35/
LOCATION:Bindus Antwerpen\, Brederodestraat 188\, Antwerpen\, antwerpen\, 2000\, België
ATTACH;FMTTYPE=image/png:https://bindusvzw.be/wp-content/uploads/2025/08/Nieuwe-Logo-DMM-transparant.png
ORGANIZER;CN="DoReMimuziek":MAILTO:info@doremimuziek.nl
END:VEVENT
BEGIN:VEVENT
DTSTART;TZID=Europe/Helsinki:20260607T143000
DTEND;TZID=Europe/Helsinki:20260607T190000
DTSTAMP:20260423T105406
CREATED:20250729T103158Z
LAST-MODIFIED:20250729T103158Z
UID:10001408-1780842600-1780858800@bindusvzw.be
SUMMARY:Svetulka: Bulgaarse folkloregroep
DESCRIPTION:Danslessen Bulgaarse folklore\n🗓️ Iedere dinsdag\, donderdag en zondag met uitzondering van de zomervakantie (juli en augustus) \n⏰ Dinsdag: 17u30-21u30\n⏰Donderdag: 17u30-21u30\n ⏰ Zondag: 14u30-19u00\n \n📍 Bindus\, Brederodestraat 188\, 2018 Antwerpen \n❗Afhankelijk van optredens in het binnen en buitenland kunnen er wijzigingen zijn in de planning \n✨ Mee te nemen: dansschoenen en comfortabele danskleding en een flesje water \n🖊️ inschrijven en meer informatie via Svetulka@skynet.be
URL:https://bindusvzw.be/activiteiten/svetulka-bulgaarse-folkloregroep-199/
LOCATION:Bindus Antwerpen\, Brederodestraat 188\, Antwerpen\, antwerpen\, 2000\, België
CATEGORIES:Activiteit Leden
ATTACH;FMTTYPE=image/jpeg:https://bindusvzw.be/wp-content/uploads/2024/12/341b5fe5-4e47-4669-9182-fa176066e9c5.jpg
ORGANIZER;CN="Svetulka":MAILTO:Svetulka@skynet.be
END:VEVENT
BEGIN:VEVENT
DTSTART;TZID=Europe/Helsinki:20260609T173000
DTEND;TZID=Europe/Helsinki:20260609T213000
DTSTAMP:20260423T105406
CREATED:20250729T103452Z
LAST-MODIFIED:20250729T103452Z
UID:10001409-1781026200-1781040600@bindusvzw.be
SUMMARY:Svetulka: Bulgaarse folkloregroep
DESCRIPTION:Danslessen Bulgaarse folklore\n🗓️ Iedere dinsdag\, donderdag en zondag met uitzondering van de zomervakantie (juli en augustus) \n⏰ Dinsdag: 17u30-21u30\n⏰Donderdag: 17u30-21u30\n ⏰ Zondag: 14u30-19u00\n \n📍 Bindus\, Brederodestraat 188\, 2018 Antwerpen \n❗Afhankelijk van optredens in het binnen en buitenland kunnen er wijzigingen zijn in de planning \n✨ Mee te nemen: dansschoenen en comfortabele danskleding en een flesje water \n🖊️ inschrijven en meer informatie via Svetulka@skynet.be
URL:https://bindusvzw.be/activiteiten/svetulka-bulgaarse-folkloregroep-200/
LOCATION:Bindus Antwerpen\, Brederodestraat 188\, Antwerpen\, antwerpen\, 2000\, België
CATEGORIES:Activiteit Leden
ATTACH;FMTTYPE=image/jpeg:https://bindusvzw.be/wp-content/uploads/2024/12/341b5fe5-4e47-4669-9182-fa176066e9c5.jpg
ORGANIZER;CN="Svetulka":MAILTO:Svetulka@skynet.be
END:VEVENT
BEGIN:VEVENT
DTSTART;TZID=Europe/Helsinki:20260611T173000
DTEND;TZID=Europe/Helsinki:20260611T213000
DTSTAMP:20260423T105406
CREATED:20250729T103638Z
LAST-MODIFIED:20250729T103638Z
UID:10001410-1781199000-1781213400@bindusvzw.be
SUMMARY:Svetulka: Bulgaarse folkloregroep
DESCRIPTION:Danslessen Bulgaarse folklore\n🗓️ Iedere dinsdag\, donderdag en zondag met uitzondering van de zomervakantie (juli en augustus) \n⏰ Dinsdag: 17u30-21u30\n⏰Donderdag: 17u30-21u30\n ⏰ Zondag: 14u30-19u00\n \n📍 Bindus\, Brederodestraat 188\, 2018 Antwerpen \n❗Afhankelijk van optredens in het binnen en buitenland kunnen er wijzigingen zijn in de planning \n✨ Mee te nemen: dansschoenen en comfortabele danskleding en een flesje water \n🖊️ inschrijven en meer informatie via Svetulka@skynet.be
URL:https://bindusvzw.be/activiteiten/svetulka-bulgaarse-folkloregroep-201/
LOCATION:Bindus Antwerpen\, Brederodestraat 188\, Antwerpen\, antwerpen\, 2000\, België
CATEGORIES:Activiteit Leden
ATTACH;FMTTYPE=image/jpeg:https://bindusvzw.be/wp-content/uploads/2024/12/341b5fe5-4e47-4669-9182-fa176066e9c5.jpg
ORGANIZER;CN="Svetulka":MAILTO:Svetulka@skynet.be
END:VEVENT
BEGIN:VEVENT
DTSTART;TZID=Europe/Helsinki:20260614T120000
DTEND;TZID=Europe/Helsinki:20260614T150000
DTSTAMP:20260423T105406
CREATED:20250811T121326Z
LAST-MODIFIED:20250811T121326Z
UID:10001515-1781438400-1781449200@bindusvzw.be
SUMMARY:muziekschool DoReMimuziek organiseert saz lessen
DESCRIPTION:Wil jij de Turkse saz leren spelen in Antwerpen?\nDoReMimuziek\, een succesvolle muziekschool\nuit Nederland\, komt naar Antwerpen met muzieklessen\nSaz voor zowel beginnende als gevorderde muzikanten.\nDit traditionele snaarinstrument heeft een rijke geschiedenis en is diep geworteld in de muzikale tradities\nvan het Midden-Oosten en de Balkan. Met zijn unieke\, warme klank creëert de saz een betoverende sfeer.\nOf het nu gaat om vrolijke deuntjes of emotionele ballades\,\nde saz vertelt een verhaal dat raakt. \n🗓️ Iedere zondag met uitzondering van de zomervakantie (juli en augustus) \n⏰ 12u00-15u00\n \n📍 Bindus\, Brederodestraat 188\, 2018 Antwerpen \n💶 70 euro per maand* \n🖊️ inschrijven en meer informatie via www.doremimuziek.nl of stuur een bericht naar +31651 886 633
URL:https://bindusvzw.be/activiteiten/muziekschool-doremimuziek-organiseert-saz-lessen-36/
LOCATION:Bindus Antwerpen\, Brederodestraat 188\, Antwerpen\, antwerpen\, 2000\, België
ATTACH;FMTTYPE=image/png:https://bindusvzw.be/wp-content/uploads/2025/08/Nieuwe-Logo-DMM-transparant.png
ORGANIZER;CN="DoReMimuziek":MAILTO:info@doremimuziek.nl
END:VEVENT
BEGIN:VEVENT
DTSTART;TZID=Europe/Helsinki:20260614T143000
DTEND;TZID=Europe/Helsinki:20260614T190000
DTSTAMP:20260423T105406
CREATED:20250729T103938Z
LAST-MODIFIED:20250729T103938Z
UID:10001411-1781447400-1781463600@bindusvzw.be
SUMMARY:Svetulka: Bulgaarse folkloregroep
DESCRIPTION:Danslessen Bulgaarse folklore\n🗓️ Iedere dinsdag\, donderdag en zondag met uitzondering van de zomervakantie (juli en augustus) \n⏰ Dinsdag: 17u30-21u30\n⏰Donderdag: 17u30-21u30\n ⏰ Zondag: 14u30-19u00\n \n📍 Bindus\, Brederodestraat 188\, 2018 Antwerpen \n❗Afhankelijk van optredens in het binnen en buitenland kunnen er wijzigingen zijn in de planning \n✨ Mee te nemen: dansschoenen en comfortabele danskleding en een flesje water \n🖊️ inschrijven en meer informatie via Svetulka@skynet.be
URL:https://bindusvzw.be/activiteiten/svetulka-bulgaarse-folkloregroep-202/
LOCATION:Bindus Antwerpen\, Brederodestraat 188\, Antwerpen\, antwerpen\, 2000\, België
CATEGORIES:Activiteit Leden
ATTACH;FMTTYPE=image/jpeg:https://bindusvzw.be/wp-content/uploads/2024/12/341b5fe5-4e47-4669-9182-fa176066e9c5.jpg
ORGANIZER;CN="Svetulka":MAILTO:Svetulka@skynet.be
END:VEVENT
BEGIN:VEVENT
DTSTART;TZID=Europe/Helsinki:20260616T173000
DTEND;TZID=Europe/Helsinki:20260616T213000
DTSTAMP:20260423T105406
CREATED:20250729T104116Z
LAST-MODIFIED:20250729T104116Z
UID:10001412-1781631000-1781645400@bindusvzw.be
SUMMARY:Svetulka: Bulgaarse folkloregroep
DESCRIPTION:Danslessen Bulgaarse folklore\n🗓️ Iedere dinsdag\, donderdag en zondag met uitzondering van de zomervakantie (juli en augustus) \n⏰ Dinsdag: 17u30-21u30\n⏰Donderdag: 17u30-21u30\n ⏰ Zondag: 14u30-19u00\n \n📍 Bindus\, Brederodestraat 188\, 2018 Antwerpen \n❗Afhankelijk van optredens in het binnen en buitenland kunnen er wijzigingen zijn in de planning \n✨ Mee te nemen: dansschoenen en comfortabele danskleding en een flesje water \n🖊️ inschrijven en meer informatie via Svetulka@skynet.be
URL:https://bindusvzw.be/activiteiten/svetulka-bulgaarse-folkloregroep-203/
LOCATION:Bindus Antwerpen\, Brederodestraat 188\, Antwerpen\, antwerpen\, 2000\, België
CATEGORIES:Activiteit Leden
ATTACH;FMTTYPE=image/jpeg:https://bindusvzw.be/wp-content/uploads/2024/12/341b5fe5-4e47-4669-9182-fa176066e9c5.jpg
ORGANIZER;CN="Svetulka":MAILTO:Svetulka@skynet.be
END:VEVENT
BEGIN:VEVENT
DTSTART;TZID=Europe/Helsinki:20260618T173000
DTEND;TZID=Europe/Helsinki:20260618T213000
DTSTAMP:20260423T105406
CREATED:20250729T104256Z
LAST-MODIFIED:20250729T104256Z
UID:10001413-1781803800-1781818200@bindusvzw.be
SUMMARY:Svetulka: Bulgaarse folkloregroep
DESCRIPTION:Danslessen Bulgaarse folklore\n🗓️ Iedere dinsdag\, donderdag en zondag met uitzondering van de zomervakantie (juli en augustus) \n⏰ Dinsdag: 17u30-21u30\n⏰Donderdag: 17u30-21u30\n ⏰ Zondag: 14u30-19u00\n \n📍 Bindus\, Brederodestraat 188\, 2018 Antwerpen \n❗Afhankelijk van optredens in het binnen en buitenland kunnen er wijzigingen zijn in de planning \n✨ Mee te nemen: dansschoenen en comfortabele danskleding en een flesje water \n🖊️ inschrijven en meer informatie via Svetulka@skynet.be
URL:https://bindusvzw.be/activiteiten/svetulka-bulgaarse-folkloregroep-204/
LOCATION:Bindus Antwerpen\, Brederodestraat 188\, Antwerpen\, antwerpen\, 2000\, België
CATEGORIES:Activiteit Leden
ATTACH;FMTTYPE=image/jpeg:https://bindusvzw.be/wp-content/uploads/2024/12/341b5fe5-4e47-4669-9182-fa176066e9c5.jpg
ORGANIZER;CN="Svetulka":MAILTO:Svetulka@skynet.be
END:VEVENT
BEGIN:VEVENT
DTSTART;TZID=Europe/Helsinki:20260621T120000
DTEND;TZID=Europe/Helsinki:20260621T150000
DTSTAMP:20260423T105406
CREATED:20250811T121428Z
LAST-MODIFIED:20250811T121428Z
UID:10001516-1782043200-1782054000@bindusvzw.be
SUMMARY:muziekschool DoReMimuziek organiseert saz lessen
DESCRIPTION:Wil jij de Turkse saz leren spelen in Antwerpen?\nDoReMimuziek\, een succesvolle muziekschool\nuit Nederland\, komt naar Antwerpen met muzieklessen\nSaz voor zowel beginnende als gevorderde muzikanten.\nDit traditionele snaarinstrument heeft een rijke geschiedenis en is diep geworteld in de muzikale tradities\nvan het Midden-Oosten en de Balkan. Met zijn unieke\, warme klank creëert de saz een betoverende sfeer.\nOf het nu gaat om vrolijke deuntjes of emotionele ballades\,\nde saz vertelt een verhaal dat raakt. \n🗓️ Iedere zondag met uitzondering van de zomervakantie (juli en augustus) \n⏰ 12u00-15u00\n \n📍 Bindus\, Brederodestraat 188\, 2018 Antwerpen \n💶 70 euro per maand* \n🖊️ inschrijven en meer informatie via www.doremimuziek.nl of stuur een bericht naar +31651 886 633
URL:https://bindusvzw.be/activiteiten/muziekschool-doremimuziek-organiseert-saz-lessen-37/
LOCATION:Bindus Antwerpen\, Brederodestraat 188\, Antwerpen\, antwerpen\, 2000\, België
ATTACH;FMTTYPE=image/png:https://bindusvzw.be/wp-content/uploads/2025/08/Nieuwe-Logo-DMM-transparant.png
ORGANIZER;CN="DoReMimuziek":MAILTO:info@doremimuziek.nl
END:VEVENT
BEGIN:VEVENT
DTSTART;TZID=Europe/Helsinki:20260621T143000
DTEND;TZID=Europe/Helsinki:20260621T190000
DTSTAMP:20260423T105406
CREATED:20250729T104459Z
LAST-MODIFIED:20250729T104459Z
UID:10001414-1782052200-1782068400@bindusvzw.be
SUMMARY:Svetulka: Bulgaarse folkloregroep
DESCRIPTION:Danslessen Bulgaarse folklore\n🗓️ Iedere dinsdag\, donderdag en zondag met uitzondering van de zomervakantie (juli en augustus) \n⏰ Dinsdag: 17u30-21u30\n⏰Donderdag: 17u30-21u30\n ⏰ Zondag: 14u30-19u00\n \n📍 Bindus\, Brederodestraat 188\, 2018 Antwerpen \n❗Afhankelijk van optredens in het binnen en buitenland kunnen er wijzigingen zijn in de planning \n✨ Mee te nemen: dansschoenen en comfortabele danskleding en een flesje water \n🖊️ inschrijven en meer informatie via Svetulka@skynet.be
URL:https://bindusvzw.be/activiteiten/svetulka-bulgaarse-folkloregroep-205/
LOCATION:Bindus Antwerpen\, Brederodestraat 188\, Antwerpen\, antwerpen\, 2000\, België
CATEGORIES:Activiteit Leden
ATTACH;FMTTYPE=image/jpeg:https://bindusvzw.be/wp-content/uploads/2024/12/341b5fe5-4e47-4669-9182-fa176066e9c5.jpg
ORGANIZER;CN="Svetulka":MAILTO:Svetulka@skynet.be
END:VEVENT
BEGIN:VEVENT
DTSTART;TZID=Europe/Helsinki:20260623T173000
DTEND;TZID=Europe/Helsinki:20260623T213000
DTSTAMP:20260423T105406
CREATED:20250729T104641Z
LAST-MODIFIED:20250729T104641Z
UID:10001415-1782235800-1782250200@bindusvzw.be
SUMMARY:Svetulka: Bulgaarse folkloregroep
DESCRIPTION:Danslessen Bulgaarse folklore\n🗓️ Iedere dinsdag\, donderdag en zondag met uitzondering van de zomervakantie (juli en augustus) \n⏰ Dinsdag: 17u30-21u30\n⏰Donderdag: 17u30-21u30\n ⏰ Zondag: 14u30-19u00\n \n📍 Bindus\, Brederodestraat 188\, 2018 Antwerpen \n❗Afhankelijk van optredens in het binnen en buitenland kunnen er wijzigingen zijn in de planning \n✨ Mee te nemen: dansschoenen en comfortabele danskleding en een flesje water \n🖊️ inschrijven en meer informatie via Svetulka@skynet.be
URL:https://bindusvzw.be/activiteiten/svetulka-bulgaarse-folkloregroep-206/
LOCATION:Bindus Antwerpen\, Brederodestraat 188\, Antwerpen\, antwerpen\, 2000\, België
CATEGORIES:Activiteit Leden
ATTACH;FMTTYPE=image/jpeg:https://bindusvzw.be/wp-content/uploads/2024/12/341b5fe5-4e47-4669-9182-fa176066e9c5.jpg
ORGANIZER;CN="Svetulka":MAILTO:Svetulka@skynet.be
END:VEVENT
BEGIN:VEVENT
DTSTART;TZID=Europe/Helsinki:20260625T173000
DTEND;TZID=Europe/Helsinki:20260625T213000
DTSTAMP:20260423T105406
CREATED:20250729T104830Z
LAST-MODIFIED:20250729T104830Z
UID:10001416-1782408600-1782423000@bindusvzw.be
SUMMARY:Svetulka: Bulgaarse folkloregroep
DESCRIPTION:Danslessen Bulgaarse folklore\n🗓️ Iedere dinsdag\, donderdag en zondag met uitzondering van de zomervakantie (juli en augustus) \n⏰ Dinsdag: 17u30-21u30\n⏰Donderdag: 17u30-21u30\n ⏰ Zondag: 14u30-19u00\n \n📍 Bindus\, Brederodestraat 188\, 2018 Antwerpen \n❗Afhankelijk van optredens in het binnen en buitenland kunnen er wijzigingen zijn in de planning \n✨ Mee te nemen: dansschoenen en comfortabele danskleding en een flesje water \n🖊️ inschrijven en meer informatie via Svetulka@skynet.be
URL:https://bindusvzw.be/activiteiten/svetulka-bulgaarse-folkloregroep-207/
LOCATION:Bindus Antwerpen\, Brederodestraat 188\, Antwerpen\, antwerpen\, 2000\, België
CATEGORIES:Activiteit Leden
ATTACH;FMTTYPE=image/jpeg:https://bindusvzw.be/wp-content/uploads/2024/12/341b5fe5-4e47-4669-9182-fa176066e9c5.jpg
ORGANIZER;CN="Svetulka":MAILTO:Svetulka@skynet.be
END:VEVENT
BEGIN:VEVENT
DTSTART;TZID=Europe/Helsinki:20260628T120000
DTEND;TZID=Europe/Helsinki:20260628T150000
DTSTAMP:20260423T105406
CREATED:20250811T121521Z
LAST-MODIFIED:20250811T121521Z
UID:10001517-1782648000-1782658800@bindusvzw.be
SUMMARY:muziekschool DoReMimuziek organiseert saz lessen
DESCRIPTION:Wil jij de Turkse saz leren spelen in Antwerpen?\nDoReMimuziek\, een succesvolle muziekschool\nuit Nederland\, komt naar Antwerpen met muzieklessen\nSaz voor zowel beginnende als gevorderde muzikanten.\nDit traditionele snaarinstrument heeft een rijke geschiedenis en is diep geworteld in de muzikale tradities\nvan het Midden-Oosten en de Balkan. Met zijn unieke\, warme klank creëert de saz een betoverende sfeer.\nOf het nu gaat om vrolijke deuntjes of emotionele ballades\,\nde saz vertelt een verhaal dat raakt. \n🗓️ Iedere zondag met uitzondering van de zomervakantie (juli en augustus) \n⏰ 12u00-15u00\n \n📍 Bindus\, Brederodestraat 188\, 2018 Antwerpen \n💶 70 euro per maand* \n🖊️ inschrijven en meer informatie via www.doremimuziek.nl of stuur een bericht naar +31651 886 633
URL:https://bindusvzw.be/activiteiten/muziekschool-doremimuziek-organiseert-saz-lessen-38/
LOCATION:Bindus Antwerpen\, Brederodestraat 188\, Antwerpen\, antwerpen\, 2000\, België
ATTACH;FMTTYPE=image/png:https://bindusvzw.be/wp-content/uploads/2025/08/Nieuwe-Logo-DMM-transparant.png
ORGANIZER;CN="DoReMimuziek":MAILTO:info@doremimuziek.nl
END:VEVENT
BEGIN:VEVENT
DTSTART;TZID=Europe/Helsinki:20260628T143000
DTEND;TZID=Europe/Helsinki:20260628T190000
DTSTAMP:20260423T105406
CREATED:20250729T105309Z
LAST-MODIFIED:20250729T105309Z
UID:10001417-1782657000-1782673200@bindusvzw.be
SUMMARY:Svetulka: Bulgaarse folkloregroep
DESCRIPTION:Danslessen Bulgaarse folklore\n🗓️ Iedere dinsdag\, donderdag en zondag met uitzondering van de zomervakantie (juli en augustus) \n⏰ Dinsdag: 17u30-21u30\n⏰Donderdag: 17u30-21u30\n ⏰ Zondag: 14u30-19u00\n \n📍 Bindus\, Brederodestraat 188\, 2018 Antwerpen \n❗Afhankelijk van optredens in het binnen en buitenland kunnen er wijzigingen zijn in de planning \n✨ Mee te nemen: dansschoenen en comfortabele danskleding en een flesje water \n🖊️ inschrijven en meer informatie via Svetulka@skynet.be
URL:https://bindusvzw.be/activiteiten/svetulka-bulgaarse-folkloregroep-208/
LOCATION:Bindus Antwerpen\, Brederodestraat 188\, Antwerpen\, antwerpen\, 2000\, België
CATEGORIES:Activiteit Leden
ATTACH;FMTTYPE=image/jpeg:https://bindusvzw.be/wp-content/uploads/2024/12/341b5fe5-4e47-4669-9182-fa176066e9c5.jpg
ORGANIZER;CN="Svetulka":MAILTO:Svetulka@skynet.be
END:VEVENT
BEGIN:VEVENT
DTSTART;TZID=Europe/Helsinki:20260630T173000
DTEND;TZID=Europe/Helsinki:20260630T213000
DTSTAMP:20260423T105406
CREATED:20250729T105443Z
LAST-MODIFIED:20250729T105443Z
UID:10001418-1782840600-1782855000@bindusvzw.be
SUMMARY:Svetulka: Bulgaarse folkloregroep
DESCRIPTION:Danslessen Bulgaarse folklore\n🗓️ Iedere dinsdag\, donderdag en zondag met uitzondering van de zomervakantie (juli en augustus) \n⏰ Dinsdag: 17u30-21u30\n⏰Donderdag: 17u30-21u30\n ⏰ Zondag: 14u30-19u00\n \n📍 Bindus\, Brederodestraat 188\, 2018 Antwerpen \n❗Afhankelijk van optredens in het binnen en buitenland kunnen er wijzigingen zijn in de planning \n✨ Mee te nemen: dansschoenen en comfortabele danskleding en een flesje water \n🖊️ inschrijven en meer informatie via Svetulka@skynet.be
URL:https://bindusvzw.be/activiteiten/svetulka-bulgaarse-folkloregroep-209/
LOCATION:Bindus Antwerpen\, Brederodestraat 188\, Antwerpen\, antwerpen\, 2000\, België
CATEGORIES:Activiteit Leden
ATTACH;FMTTYPE=image/jpeg:https://bindusvzw.be/wp-content/uploads/2024/12/341b5fe5-4e47-4669-9182-fa176066e9c5.jpg
ORGANIZER;CN="Svetulka":MAILTO:Svetulka@skynet.be
END:VEVENT
END:VCALENDAR