BEGIN:VCALENDAR
VERSION:2.0
PRODID:-//Bindus vzw - ECPv6.15.20//NONSGML v1.0//EN
CALSCALE:GREGORIAN
METHOD:PUBLISH
X-WR-CALNAME:Bindus vzw
X-ORIGINAL-URL:https://bindusvzw.be
X-WR-CALDESC:Evenementen voor Bindus vzw
REFRESH-INTERVAL;VALUE=DURATION:PT1H
X-Robots-Tag:noindex
X-PUBLISHED-TTL:PT1H
BEGIN:VTIMEZONE
TZID:Europe/Helsinki
BEGIN:DAYLIGHT
TZOFFSETFROM:+0200
TZOFFSETTO:+0300
TZNAME:EEST
DTSTART:20230326T010000
END:DAYLIGHT
BEGIN:STANDARD
TZOFFSETFROM:+0300
TZOFFSETTO:+0200
TZNAME:EET
DTSTART:20231029T010000
END:STANDARD
BEGIN:DAYLIGHT
TZOFFSETFROM:+0200
TZOFFSETTO:+0300
TZNAME:EEST
DTSTART:20240331T010000
END:DAYLIGHT
BEGIN:STANDARD
TZOFFSETFROM:+0300
TZOFFSETTO:+0200
TZNAME:EET
DTSTART:20241027T010000
END:STANDARD
BEGIN:DAYLIGHT
TZOFFSETFROM:+0200
TZOFFSETTO:+0300
TZNAME:EEST
DTSTART:20250330T010000
END:DAYLIGHT
BEGIN:STANDARD
TZOFFSETFROM:+0300
TZOFFSETTO:+0200
TZNAME:EET
DTSTART:20251026T010000
END:STANDARD
END:VTIMEZONE
BEGIN:VEVENT
DTSTART;TZID=Europe/Helsinki:20240912T080000
DTEND;TZID=Europe/Helsinki:20240912T170000
DTSTAMP:20260421T065549
CREATED:20241209T094015Z
LAST-MODIFIED:20241209T094015Z
UID:10000238-1726128000-1726160400@bindusvzw.be
SUMMARY:DUSOD organiseert ademsessies
DESCRIPTION:Ademsessie\n🗓️Donderdag 12 september    \n📍Dusod Academy België\, Brusselsesteenweg 129\, 1850 Grimbergen \n💶 Deelname: helemaal gratis \n🖊️ inschrijven via 0484 90 95 51 \n 
URL:https://bindusvzw.be/activiteiten/dusod-organiseert-ademsessies/
LOCATION:Dusod Academy België\, Brusselsesteenweg 129\, Grimbergen\, 1850\, België
CATEGORIES:Activiteit Leden
END:VEVENT
END:VCALENDAR