BEGIN:VCALENDAR
VERSION:2.0
PRODID:-//Bindus vzw - ECPv6.15.20//NONSGML v1.0//EN
CALSCALE:GREGORIAN
METHOD:PUBLISH
X-WR-CALNAME:Bindus vzw
X-ORIGINAL-URL:https://bindusvzw.be
X-WR-CALDESC:Evenementen voor Bindus vzw
REFRESH-INTERVAL;VALUE=DURATION:PT1H
X-Robots-Tag:noindex
X-PUBLISHED-TTL:PT1H
BEGIN:VTIMEZONE
TZID:Europe/Helsinki
BEGIN:DAYLIGHT
TZOFFSETFROM:+0200
TZOFFSETTO:+0300
TZNAME:EEST
DTSTART:20230326T010000
END:DAYLIGHT
BEGIN:STANDARD
TZOFFSETFROM:+0300
TZOFFSETTO:+0200
TZNAME:EET
DTSTART:20231029T010000
END:STANDARD
BEGIN:DAYLIGHT
TZOFFSETFROM:+0200
TZOFFSETTO:+0300
TZNAME:EEST
DTSTART:20240331T010000
END:DAYLIGHT
BEGIN:STANDARD
TZOFFSETFROM:+0300
TZOFFSETTO:+0200
TZNAME:EET
DTSTART:20241027T010000
END:STANDARD
BEGIN:DAYLIGHT
TZOFFSETFROM:+0200
TZOFFSETTO:+0300
TZNAME:EEST
DTSTART:20250330T010000
END:DAYLIGHT
BEGIN:STANDARD
TZOFFSETFROM:+0300
TZOFFSETTO:+0200
TZNAME:EET
DTSTART:20251026T010000
END:STANDARD
END:VTIMEZONE
BEGIN:VEVENT
DTSTART;VALUE=DATE:20240608
DTEND;VALUE=DATE:20240609
DTSTAMP:20260420T010410
CREATED:20241211T103539Z
LAST-MODIFIED:20241211T103539Z
UID:10000337-1717804800-1717891199@bindusvzw.be
SUMMARY:20ste cultuur en sporftestival
DESCRIPTION:The Touch of Love Academy neemt deel\n🗓️ Zaterdag 8 juni \n \n⏰ 10-13u  \n📍Gemeentelijk stadion Georges Petre\, Lombaertstraat 70\, 1140 Brussel \n✨ Iedereen is van harte welkom \n✨ Op het programma onder andere een groot voetbaltornooi\, artistieke optredens\, wereldkeuken en een heleboel activiteiten voor kinderen \n💶 Deelname: helemaal gratis \n🖊️ Meer informatie 20ste Cultuur- en Sportfestival Anatolië | Sint-Joost-ten-Node
URL:https://bindusvzw.be/activiteiten/20ste-cultuur-en-sporftestival/
LOCATION:Gemeentelijk stadion Georges Petre\, De Lombaertstraat 70\, 1140
CATEGORIES:Activiteit Leden
ATTACH;FMTTYPE=image/png:https://bindusvzw.be/wp-content/uploads/2024/12/versie-5.png
END:VEVENT
END:VCALENDAR