BEGIN:VCALENDAR
VERSION:2.0
PRODID:-//Bindus vzw - ECPv6.15.20//NONSGML v1.0//EN
CALSCALE:GREGORIAN
METHOD:PUBLISH
X-WR-CALNAME:Bindus vzw
X-ORIGINAL-URL:https://bindusvzw.be
X-WR-CALDESC:Evenementen voor Bindus vzw
REFRESH-INTERVAL;VALUE=DURATION:PT1H
X-Robots-Tag:noindex
X-PUBLISHED-TTL:PT1H
BEGIN:VTIMEZONE
TZID:Europe/Helsinki
BEGIN:DAYLIGHT
TZOFFSETFROM:+0200
TZOFFSETTO:+0300
TZNAME:EEST
DTSTART:20230326T010000
END:DAYLIGHT
BEGIN:STANDARD
TZOFFSETFROM:+0300
TZOFFSETTO:+0200
TZNAME:EET
DTSTART:20231029T010000
END:STANDARD
BEGIN:DAYLIGHT
TZOFFSETFROM:+0200
TZOFFSETTO:+0300
TZNAME:EEST
DTSTART:20240331T010000
END:DAYLIGHT
BEGIN:STANDARD
TZOFFSETFROM:+0300
TZOFFSETTO:+0200
TZNAME:EET
DTSTART:20241027T010000
END:STANDARD
BEGIN:DAYLIGHT
TZOFFSETFROM:+0200
TZOFFSETTO:+0300
TZNAME:EEST
DTSTART:20250330T010000
END:DAYLIGHT
BEGIN:STANDARD
TZOFFSETFROM:+0300
TZOFFSETTO:+0200
TZNAME:EET
DTSTART:20251026T010000
END:STANDARD
END:VTIMEZONE
BEGIN:VEVENT
DTSTART;TZID=Europe/Helsinki:20241114T103000
DTEND;TZID=Europe/Helsinki:20241114T150000
DTSTAMP:20260420T001622
CREATED:20241106T101809Z
LAST-MODIFIED:20241106T145438Z
UID:10000067-1731580200-1731596400@bindusvzw.be
SUMMARY:Vrijwilligersmarkt
DESCRIPTION:Vrijwilligersmarkt Jij komt toch ook?\n  \nTijdens de vrijwilligersmarkt worden kandidaat-vrijwilligers (nieuwkomers en anderstaligen) in contact gebracht met organisaties die passend én toegankelijk vrijwilligerswerk aanbieden: \n\nVrijwilligerstaken op maat van motivatie en talenten\nEen kans om het Nederlands te oefenen\n\n📅 14 november \n⌚ 10u30 – 15u00 \n📍 Muntpunt\, Munt 6 \n💳 Helemaal gratis \n 
URL:https://bindusvzw.be/activiteiten/vrijwilligersmarkt/
LOCATION:Muntpunt\, Munt 6\, Brussel\, 1000\, België
ORGANIZER;CN="Steunpunt vrijwilligerswerk Brussel":MAILTO:vrijwilligerswerk@kenniscentrumwwz.be
END:VEVENT
END:VCALENDAR