BEGIN:VCALENDAR
VERSION:2.0
PRODID:-//Bindus vzw - ECPv6.15.20//NONSGML v1.0//EN
CALSCALE:GREGORIAN
METHOD:PUBLISH
X-WR-CALNAME:Bindus vzw
X-ORIGINAL-URL:https://bindusvzw.be
X-WR-CALDESC:Evenementen voor Bindus vzw
REFRESH-INTERVAL;VALUE=DURATION:PT1H
X-Robots-Tag:noindex
X-PUBLISHED-TTL:PT1H
BEGIN:VTIMEZONE
TZID:Europe/Helsinki
BEGIN:DAYLIGHT
TZOFFSETFROM:+0200
TZOFFSETTO:+0300
TZNAME:EEST
DTSTART:20240331T010000
END:DAYLIGHT
BEGIN:STANDARD
TZOFFSETFROM:+0300
TZOFFSETTO:+0200
TZNAME:EET
DTSTART:20241027T010000
END:STANDARD
BEGIN:DAYLIGHT
TZOFFSETFROM:+0200
TZOFFSETTO:+0300
TZNAME:EEST
DTSTART:20250330T010000
END:DAYLIGHT
BEGIN:STANDARD
TZOFFSETFROM:+0300
TZOFFSETTO:+0200
TZNAME:EET
DTSTART:20251026T010000
END:STANDARD
BEGIN:DAYLIGHT
TZOFFSETFROM:+0200
TZOFFSETTO:+0300
TZNAME:EEST
DTSTART:20260329T010000
END:DAYLIGHT
BEGIN:STANDARD
TZOFFSETFROM:+0300
TZOFFSETTO:+0200
TZNAME:EET
DTSTART:20261025T010000
END:STANDARD
END:VTIMEZONE
BEGIN:VEVENT
DTSTART;TZID=Europe/Helsinki:20250525T130000
DTEND;TZID=Europe/Helsinki:20250525T170000
DTSTAMP:20260421T011734
CREATED:20250519T102617Z
LAST-MODIFIED:20250519T102617Z
UID:10001248-1748178000-1748192400@bindusvzw.be
SUMMARY:Schoolfeest Optimum Genk
DESCRIPTION:Namens het hele team van VBS Optimum Genk en ons oudercomité nodigen wij u van harte uit op ons feestelijk schoolfeest op zondag 25 mei 2025. Dit jaar staat het feest in het teken van “Optimum op wereldreis”\, een kleurrijk evenement vol muziek\, cultuur en verbondenheid. \nWat kunt u verwachten? \n\nEen wervelende show met optredens van onze leerlingen (start om 14.00u)\nTientallen leuke activiteiten voor jong en oud\nHeerlijke snacks en verfrissende drankjes\nEen gezellige sfeer met meer dan 250 ingeschreven deelnemers\nEen mooie gelegenheid om onze school en gemeenschap beter te leren kennen\n\n🕐 Praktische info: \n\nWanneer: zondag 25 mei 2025\nLocatie: VBS Optimum Genk – Bijlkestraat 26\, 3600 Genk\nStart show om 14.00u\nDeuren open om 13.00u– Einde voorzien om 17.00u\n\nVoor wie onze school nog niet heeft bezocht\, is dit een uitgelezen kans om VBS Optimum Genk van dichtbij te ontdekken en samen te genieten van een warme\, bruisende namiddag.
URL:https://bindusvzw.be/activiteiten/schoolfeest-optimum-genk/
LOCATION:optimum\, Bijlkestraat 26\, Genk\, België
CATEGORIES:Activiteit Leden,Regionale Activiteit Limburg
ATTACH;FMTTYPE=image/jpeg:https://bindusvzw.be/wp-content/uploads/2025/05/optimumschoolfest.jpg
END:VEVENT
END:VCALENDAR