BEGIN:VCALENDAR
VERSION:2.0
PRODID:-//Bindus vzw - ECPv6.15.20//NONSGML v1.0//EN
CALSCALE:GREGORIAN
METHOD:PUBLISH
X-ORIGINAL-URL:https://bindusvzw.be
X-WR-CALDESC:Evenementen voor Bindus vzw
REFRESH-INTERVAL;VALUE=DURATION:PT1H
X-Robots-Tag:noindex
X-PUBLISHED-TTL:PT1H
BEGIN:VTIMEZONE
TZID:Europe/Helsinki
BEGIN:DAYLIGHT
TZOFFSETFROM:+0200
TZOFFSETTO:+0300
TZNAME:EEST
DTSTART:20240331T010000
END:DAYLIGHT
BEGIN:STANDARD
TZOFFSETFROM:+0300
TZOFFSETTO:+0200
TZNAME:EET
DTSTART:20241027T010000
END:STANDARD
BEGIN:DAYLIGHT
TZOFFSETFROM:+0200
TZOFFSETTO:+0300
TZNAME:EEST
DTSTART:20250330T010000
END:DAYLIGHT
BEGIN:STANDARD
TZOFFSETFROM:+0300
TZOFFSETTO:+0200
TZNAME:EET
DTSTART:20251026T010000
END:STANDARD
BEGIN:DAYLIGHT
TZOFFSETFROM:+0200
TZOFFSETTO:+0300
TZNAME:EEST
DTSTART:20260329T010000
END:DAYLIGHT
BEGIN:STANDARD
TZOFFSETFROM:+0300
TZOFFSETTO:+0200
TZNAME:EET
DTSTART:20261025T010000
END:STANDARD
END:VTIMEZONE
BEGIN:VEVENT
DTSTART;TZID=Europe/Helsinki:20250418T080000
DTEND;TZID=Europe/Helsinki:20250421T170000
DTSTAMP:20260421T071647
CREATED:20250410T120219Z
LAST-MODIFIED:20250410T155904Z
UID:10000668-1744963200-1745254800@bindusvzw.be
SUMMARY:Ga mee op reis met Dusod naar Bulgarije
DESCRIPTION:Ben je klaar om nieuwe vrienden te maken?\n\nBen je geboren en getogen in Bulgarije?\nBen je 18 jaar oud? Het maakt niet uit al je 40 jaar oud bent!\nMet de steun van YTB Precidency for Turks Abroad en Community of Relatives reis je naar de wortels in eigen land en leer je daarbij je voorouders van dichtbij kennen.\nTegelijkertijd werk je tijdens de reis aan jezelf/je essentie in het persoonlijke ontwikkelingskamp met experts uit België\, Duitsland en Turkije. Dit alles op een bijzonder plek\, midden in de natuur! \n🗓️ Vrijdag 18 april tot en met dinsdag 22 april \n📍 Plovdiv\, Bulgarije \n🤝 In samenwerking met Kenan cultural foundation\, YTB en Nefes academie \n💶 Deelname: helemaal gratis dankzij fondsenwerving (omvat vervoer\, accommodatie\, eten en training) \n✍️ Meer informatie en inschrijven via Nebahat Inam: kenanculturalfoundation@gmail.com
URL:https://bindusvzw.be/activiteiten/ga-mee-op-reis-met-dusod-naar-bulgarije/
LOCATION:Plovdiv\, Bulgarije\, Plovdiv\, Bulgaria
CATEGORIES:Activiteit Leden
ATTACH;FMTTYPE=image/webp:https://bindusvzw.be/wp-content/uploads/2025/04/logo-dusod.webp
END:VEVENT
END:VCALENDAR