BEGIN:VCALENDAR
VERSION:2.0
PRODID:-//Bindus vzw - ECPv6.15.20//NONSGML v1.0//EN
CALSCALE:GREGORIAN
METHOD:PUBLISH
X-ORIGINAL-URL:https://bindusvzw.be
X-WR-CALDESC:Evenementen voor Bindus vzw
REFRESH-INTERVAL;VALUE=DURATION:PT1H
X-Robots-Tag:noindex
X-PUBLISHED-TTL:PT1H
BEGIN:VTIMEZONE
TZID:Europe/Helsinki
BEGIN:DAYLIGHT
TZOFFSETFROM:+0200
TZOFFSETTO:+0300
TZNAME:EEST
DTSTART:20240331T010000
END:DAYLIGHT
BEGIN:STANDARD
TZOFFSETFROM:+0300
TZOFFSETTO:+0200
TZNAME:EET
DTSTART:20241027T010000
END:STANDARD
BEGIN:DAYLIGHT
TZOFFSETFROM:+0200
TZOFFSETTO:+0300
TZNAME:EEST
DTSTART:20250330T010000
END:DAYLIGHT
BEGIN:STANDARD
TZOFFSETFROM:+0300
TZOFFSETTO:+0200
TZNAME:EET
DTSTART:20251026T010000
END:STANDARD
BEGIN:DAYLIGHT
TZOFFSETFROM:+0200
TZOFFSETTO:+0300
TZNAME:EEST
DTSTART:20260329T010000
END:DAYLIGHT
BEGIN:STANDARD
TZOFFSETFROM:+0300
TZOFFSETTO:+0200
TZNAME:EET
DTSTART:20261025T010000
END:STANDARD
END:VTIMEZONE
BEGIN:VEVENT
DTSTART;TZID=Europe/Helsinki:20250829T190000
DTEND;TZID=Europe/Helsinki:20250829T220000
DTSTAMP:20260421T000948
CREATED:20250701T113526Z
LAST-MODIFIED:20250701T113526Z
UID:10001291-1756494000-1756504800@bindusvzw.be
SUMMARY:Zomer van Antwerpen organiseert muziek in de wijk
DESCRIPTION:Muziek in de wijk – Dageraadplaats\n🗓️ vrijdag 29 augustus \n📍  Dageraadplaats\, Dageraadplaats 31\, 2018 Antwerpen \n❗Voor het ultieme feest moet je op de pleintjes in onze stad zijn.  Daar vieren we jouw zomer! Met muziek uit\nalle uithoeken van de wereld en met lokale talenten. Van Afrikaanse ritmes tot Franse tango\, voor ieder wat wils! \n Plein opent om 19u en sluit om 22u  19u30: Voorprogramma (BAND of Brothers) 21u00: Hoofdprogramma (Calle Mambo (Chili)) \n💶 Deelname: geheel gratis \n❔ Meer informatie via Agenda | Zomer van Antwerpen | Zomer van Antwerpen
URL:https://bindusvzw.be/activiteiten/zomer-van-antwerpen-organiseert-muziek-in-de-wijk-32/
LOCATION:Zomer in de wijk -Dageraadplaats\, Dageraadplaats 31\, An\, 2018
END:VEVENT
BEGIN:VEVENT
DTSTART;TZID=Europe/Helsinki:20250822T190000
DTEND;TZID=Europe/Helsinki:20250822T220000
DTSTAMP:20260421T000948
CREATED:20250701T113400Z
LAST-MODIFIED:20250701T113400Z
UID:10001290-1755889200-1755900000@bindusvzw.be
SUMMARY:Zomer van Antwerpen organiseert muziek in de wijk
DESCRIPTION:Muziek in de wijk – Dageraadplaats\n🗓️ vrijdag 22 augustus \n📍  Dageraadplaats\, Dageraadplaats 31\, 2018 Antwerpen \n❗Voor het ultieme feest moet je op de pleintjes in onze stad zijn.  Daar vieren we jouw zomer! Met muziek uit\nalle uithoeken van de wereld en met lokale talenten. Van Afrikaanse ritmes tot Franse tango\, voor ieder wat wils! \n Plein opent om 19u en sluit om 22u  19u30: Voorprogramma ( Seaside Disk) 21u00: Hoofdprogramma (Valerie Ekoumé (Kameroen)) \n💶 Deelname: geheel gratis \n❔ Meer informatie via Agenda | Zomer van Antwerpen | Zomer van Antwerpen
URL:https://bindusvzw.be/activiteiten/zomer-van-antwerpen-organiseert-muziek-in-de-wijk-31/
LOCATION:Zomer in de wijk -Dageraadplaats\, Dageraadplaats 31\, An\, 2018
END:VEVENT
BEGIN:VEVENT
DTSTART;TZID=Europe/Helsinki:20250815T190000
DTEND;TZID=Europe/Helsinki:20250815T220000
DTSTAMP:20260421T000948
CREATED:20250701T113251Z
LAST-MODIFIED:20250701T113251Z
UID:10001289-1755284400-1755295200@bindusvzw.be
SUMMARY:Zomer van Antwerpen organiseert muziek in de wijk
DESCRIPTION:Muziek in de wijk – Dageraadplaats\n🗓️ vrijdag 15 augustus \n📍  Dageraadplaats\, Dageraadplaats 31\, 2018 Antwerpen \n❗Voor het ultieme feest moet je op de pleintjes in onze stad zijn.  Daar vieren we jouw zomer! Met muziek uit\nalle uithoeken van de wereld en met lokale talenten. Van Afrikaanse ritmes tot Franse tango\, voor ieder wat wils! \n Plein opent om 19u en sluit om 22u  19u30: Voorprogramma (The owls and Orcas) 21u00: Hoofdprogramma (Expresso Transatlantico (Portugal)) \n💶 Deelname: geheel gratis \n❔ Meer informatie via Agenda | Zomer van Antwerpen | Zomer van Antwerpen
URL:https://bindusvzw.be/activiteiten/zomer-van-antwerpen-organiseert-muziek-in-de-wijk-30/
LOCATION:Zomer in de wijk -Dageraadplaats\, Dageraadplaats 31\, An\, 2018
END:VEVENT
BEGIN:VEVENT
DTSTART;TZID=Europe/Helsinki:20250808T190000
DTEND;TZID=Europe/Helsinki:20250808T220000
DTSTAMP:20260421T000948
CREATED:20250701T113103Z
LAST-MODIFIED:20250701T113103Z
UID:10001288-1754679600-1754690400@bindusvzw.be
SUMMARY:Zomer van Antwerpen organiseert muziek in de wijk
DESCRIPTION:Muziek in de wijk – Dageraadplaats\n🗓️ vrijdag 08 augustus \n📍  Dageraadplaats\, Dageraadplaats 31\, 2018 Antwerpen \n❗Voor het ultieme feest moet je op de pleintjes in onze stad zijn.  Daar vieren we jouw zomer! Met muziek uit\nalle uithoeken van de wereld en met lokale talenten. Van Afrikaanse ritmes tot Franse tango\, voor ieder wat wils! \n Plein opent om 19u en sluit om 22u  19u30: Voorprogramma (Dexelle) 21u00: Hoofdprogramma (Tangomotán (Frankrijk)) \n💶 Deelname: geheel gratis \n❔ Meer informatie via Agenda | Zomer van Antwerpen | Zomer van Antwerpen
URL:https://bindusvzw.be/activiteiten/zomer-van-antwerpen-organiseert-muziek-in-de-wijk-29/
LOCATION:Zomer in de wijk -Dageraadplaats\, Dageraadplaats 31\, An\, 2018
END:VEVENT
END:VCALENDAR