BEGIN:VCALENDAR
VERSION:2.0
PRODID:-//Bindus vzw - ECPv6.15.20//NONSGML v1.0//EN
CALSCALE:GREGORIAN
METHOD:PUBLISH
X-WR-CALNAME:Bindus vzw
X-ORIGINAL-URL:https://bindusvzw.be
X-WR-CALDESC:Evenementen voor Bindus vzw
REFRESH-INTERVAL;VALUE=DURATION:PT1H
X-Robots-Tag:noindex
X-PUBLISHED-TTL:PT1H
BEGIN:VTIMEZONE
TZID:Europe/Helsinki
BEGIN:DAYLIGHT
TZOFFSETFROM:+0200
TZOFFSETTO:+0300
TZNAME:EEST
DTSTART:20240331T010000
END:DAYLIGHT
BEGIN:STANDARD
TZOFFSETFROM:+0300
TZOFFSETTO:+0200
TZNAME:EET
DTSTART:20241027T010000
END:STANDARD
BEGIN:DAYLIGHT
TZOFFSETFROM:+0200
TZOFFSETTO:+0300
TZNAME:EEST
DTSTART:20250330T010000
END:DAYLIGHT
BEGIN:STANDARD
TZOFFSETFROM:+0300
TZOFFSETTO:+0200
TZNAME:EET
DTSTART:20251026T010000
END:STANDARD
BEGIN:DAYLIGHT
TZOFFSETFROM:+0200
TZOFFSETTO:+0300
TZNAME:EEST
DTSTART:20260329T010000
END:DAYLIGHT
BEGIN:STANDARD
TZOFFSETFROM:+0300
TZOFFSETTO:+0200
TZNAME:EET
DTSTART:20261025T010000
END:STANDARD
END:VTIMEZONE
BEGIN:VEVENT
DTSTART;TZID=Europe/Helsinki:20250831T140000
DTEND;TZID=Europe/Helsinki:20250831T170000
DTSTAMP:20260422T044113
CREATED:20250701T115006Z
LAST-MODIFIED:20250701T115130Z
UID:10001298-1756648800-1756659600@bindusvzw.be
SUMMARY:Zomer van Antwerpen organiseert muziek in de wijk
DESCRIPTION:Muziek in de wijk – Kroonplein\n🗓️ zondag 24 augustus \n📍  Kroonplein\, Kroonplein 42 \, 2170 Antwerpen \n❗Voor het ultieme feest moet je op de pleintjes in onze stad zijn.  Daar vieren we jouw zomer! Met muziek uit\nalle uithoeken van de wereld en met lokale talenten. Van Afrikaanse ritmes tot Franse tango\, voor ieder wat wils! \n Plein opent om 14u en sluit om 17u  14u30: Voorprogramma (Kojo The Artist + The Fungusheads)  16u00: Hoofdprogramma (Calle Mambo (Chili)) \n💶 Deelname: geheel gratis \n❔ Meer informatie via Agenda | Zomer van Antwerpen | Zomer van Antwerpen
URL:https://bindusvzw.be/activiteiten/zomer-van-antwerpen-organiseert-muziek-in-de-wijk-39/
LOCATION:Zomer in de wijk – Kroonplein\, Kroonplein 42\, Antwerpen\, 2170\, België
END:VEVENT
BEGIN:VEVENT
DTSTART;TZID=Europe/Helsinki:20250817T140000
DTEND;TZID=Europe/Helsinki:20250817T170000
DTSTAMP:20260422T044113
CREATED:20250701T114905Z
LAST-MODIFIED:20250701T114905Z
UID:10001297-1755439200-1755450000@bindusvzw.be
SUMMARY:Zomer van Antwerpen organiseert muziek in de wijk
DESCRIPTION:Muziek in de wijk – Kroonplein\n🗓️ zondag 17 augustus \n📍  Kroonplein\, Kroonplein 42 \, 2170 Antwerpen \n❗Voor het ultieme feest moet je op de pleintjes in onze stad zijn.  Daar vieren we jouw zomer! Met muziek uit\nalle uithoeken van de wereld en met lokale talenten. Van Afrikaanse ritmes tot Franse tango\, voor ieder wat wils! \n Plein opent om 14u en sluit om 17u  14u30: Voorprogramma (Gomes and the Ayahuasca Kartel)  16u00: Hoofdprogramma ( Expresso Transatlantico (Portugal)) \n💶 Deelname: geheel gratis \n❔ Meer informatie via Agenda | Zomer van Antwerpen | Zomer van Antwerpen
URL:https://bindusvzw.be/activiteiten/zomer-van-antwerpen-organiseert-muziek-in-de-wijk-38/
LOCATION:Zomer in de wijk – Kroonplein\, Kroonplein 42\, Antwerpen\, 2170\, België
END:VEVENT
BEGIN:VEVENT
DTSTART;TZID=Europe/Helsinki:20250810T140000
DTEND;TZID=Europe/Helsinki:20250810T170000
DTSTAMP:20260422T044113
CREATED:20250701T114758Z
LAST-MODIFIED:20250701T114758Z
UID:10001296-1754834400-1754845200@bindusvzw.be
SUMMARY:Zomer van Antwerpen organiseert muziek in de wijk
DESCRIPTION:Muziek in de wijk – Kroonplein\n🗓️ zondag 10 augustus \n📍  Kroonplein\, Kroonplein 42 \, 2170 Antwerpen \n❗Voor het ultieme feest moet je op de pleintjes in onze stad zijn.  Daar vieren we jouw zomer! Met muziek uit\nalle uithoeken van de wereld en met lokale talenten. Van Afrikaanse ritmes tot Franse tango\, voor ieder wat wils! \n Plein opent om 14u en sluit om 17u  14u30: Voorprogramma (Aghogho)  16u00: Hoofdprogramma ( Tangomotán (Frankrijk)) \n💶 Deelname: geheel gratis \n❔ Meer informatie via Agenda | Zomer van Antwerpen | Zomer van Antwerpen
URL:https://bindusvzw.be/activiteiten/zomer-van-antwerpen-organiseert-muziek-in-de-wijk-37/
LOCATION:Zomer in de wijk – Kroonplein\, Kroonplein 42\, Antwerpen\, 2170\, België
END:VEVENT
END:VCALENDAR