BEGIN:VCALENDAR
VERSION:2.0
PRODID:-//Bindus vzw - ECPv6.15.20//NONSGML v1.0//EN
CALSCALE:GREGORIAN
METHOD:PUBLISH
X-WR-CALNAME:Bindus vzw
X-ORIGINAL-URL:https://bindusvzw.be
X-WR-CALDESC:Evenementen voor Bindus vzw
REFRESH-INTERVAL;VALUE=DURATION:PT1H
X-Robots-Tag:noindex
X-PUBLISHED-TTL:PT1H
BEGIN:VTIMEZONE
TZID:Europe/Helsinki
BEGIN:DAYLIGHT
TZOFFSETFROM:+0200
TZOFFSETTO:+0300
TZNAME:EEST
DTSTART:20240331T010000
END:DAYLIGHT
BEGIN:STANDARD
TZOFFSETFROM:+0300
TZOFFSETTO:+0200
TZNAME:EET
DTSTART:20241027T010000
END:STANDARD
BEGIN:DAYLIGHT
TZOFFSETFROM:+0200
TZOFFSETTO:+0300
TZNAME:EEST
DTSTART:20250330T010000
END:DAYLIGHT
BEGIN:STANDARD
TZOFFSETFROM:+0300
TZOFFSETTO:+0200
TZNAME:EET
DTSTART:20251026T010000
END:STANDARD
BEGIN:DAYLIGHT
TZOFFSETFROM:+0200
TZOFFSETTO:+0300
TZNAME:EEST
DTSTART:20260329T010000
END:DAYLIGHT
BEGIN:STANDARD
TZOFFSETFROM:+0300
TZOFFSETTO:+0200
TZNAME:EET
DTSTART:20261025T010000
END:STANDARD
END:VTIMEZONE
BEGIN:VEVENT
DTSTART;TZID=Europe/Helsinki:20250726T180000
DTEND;TZID=Europe/Helsinki:20250726T210000
DTSTAMP:20260421T000956
CREATED:20250630T134959Z
LAST-MODIFIED:20250630T134959Z
UID:10001275-1753552800-1753563600@bindusvzw.be
SUMMARY:Zomer van Antwerpen organiseert muziek in de wijk
DESCRIPTION:Muziek in de wijk – Zillebekelaan\n🗓️ zaterdag 26 juli  \n📍 Zillebekelaan 9\, 2600 Berchem \n❗Voor het ultieme feest moet je op de pleintjes in onze stad zijn.  Daar vieren we jouw zomer! Met muziek uit\nalle uithoeken van de wereld en met lokale talenten. Van Afrikaanse ritmes tot Franse tango\, voor ieder wat wils! \n Plein opent om 18u en sluit om 21u  19u30: Voorprogramma (Millson) 21u00: Hoofdprogramma (Sara Curruchich (Guatemala)) \n💶 Deelname: geheel gratis \n❔ Meer informatie via Agenda | Zomer van Antwerpen | Zomer van Antwerpen
URL:https://bindusvzw.be/activiteiten/zomer-van-antwerpen-organiseert-muziek-in-de-wijk-16/
LOCATION:Zomer van Antwerpen – Zillebekelaan\, Zillebekelaan 9\, Berchem\, 2600
END:VEVENT
BEGIN:VEVENT
DTSTART;TZID=Europe/Helsinki:20250719T180000
DTEND;TZID=Europe/Helsinki:20250719T210000
DTSTAMP:20260421T000956
CREATED:20250630T134839Z
LAST-MODIFIED:20250630T134839Z
UID:10001274-1752948000-1752958800@bindusvzw.be
SUMMARY:Zomer van Antwerpen organiseert muziek in de wijk
DESCRIPTION:Muziek in de wijk – Zillebekelaan\n🗓️ zaterdag 19 juli  \n📍 Zillebekelaan 9\, 2600 Berchem \n❗Voor het ultieme feest moet je op de pleintjes in onze stad zijn.  Daar vieren we jouw zomer! Met muziek uit\nalle uithoeken van de wereld en met lokale talenten. Van Afrikaanse ritmes tot Franse tango\, voor ieder wat wils! \n Plein opent om 18u en sluit om 21u  19u30: Voorprogramma (Surprise act) 21u00: Hoofdprogramma (Riccie Oriach (Dominicaanse Republiek)) \n💶 Deelname: geheel gratis \n❔ Meer informatie via Agenda | Zomer van Antwerpen | Zomer van Antwerpen
URL:https://bindusvzw.be/activiteiten/zomer-van-antwerpen-organiseert-muziek-in-de-wijk-15/
LOCATION:Zomer van Antwerpen – Zillebekelaan\, Zillebekelaan 9\, Berchem\, 2600
END:VEVENT
BEGIN:VEVENT
DTSTART;TZID=Europe/Helsinki:20250712T180000
DTEND;TZID=Europe/Helsinki:20250712T210000
DTSTAMP:20260421T000956
CREATED:20250630T134632Z
LAST-MODIFIED:20250630T134632Z
UID:10001273-1752343200-1752354000@bindusvzw.be
SUMMARY:Zomer van Antwerpen organiseert muziek in de wijk
DESCRIPTION:Muziek in de wijk – Zillebekelaan\n🗓️ zaterdag 12 juli   \n📍 Zillebekelaan 9\, 2600 Berchem \n❗Voor het ultieme feest moet je op de pleintjes in onze stad zijn.  Daar vieren we jouw zomer! Met muziek uit\nalle uithoeken van de wereld en met lokale talenten. Van Afrikaanse ritmes tot Franse tango\, voor ieder wat wils! \n Plein opent om 18u en sluit om 21u  19u30: Voorprogramma ( Morane) 21u00: Hoofdprogramma (Kaapverdië) \n💶 Deelname: geheel gratis \n❔ Meer informatie via Agenda | Zomer van Antwerpen | Zomer van Antwerpen
URL:https://bindusvzw.be/activiteiten/zomer-van-antwerpen-organiseert-muziek-in-de-wijk-14/
LOCATION:Zomer van Antwerpen – Zillebekelaan\, Zillebekelaan 9\, Berchem\, 2600
END:VEVENT
BEGIN:VEVENT
DTSTART;TZID=Europe/Helsinki:20250705T180000
DTEND;TZID=Europe/Helsinki:20250705T210000
DTSTAMP:20260421T000956
CREATED:20250630T134458Z
LAST-MODIFIED:20250630T134458Z
UID:10001272-1751738400-1751749200@bindusvzw.be
SUMMARY:Zomer van Antwerpen organiseert muziek in de wijk
DESCRIPTION:Muziek in de wijk – Zillebekelaan\n🗓️ zaterdag 05 juli   \n📍 Zillebekelaan 9\, 2600 Berchem \n❗Voor het ultieme feest moet je op de pleintjes in onze stad zijn.  Daar vieren we jouw zomer! Met muziek uit\nalle uithoeken van de wereld en met lokale talenten. Van Afrikaanse ritmes tot Franse tango\, voor ieder wat wils! \n Plein opent om 18u en sluit om 21u  19u30: Voorprogramma ( Ninja24o) 21u00: Hoofdprogramma (Kasiva Mutua (Kenia)) \n💶 Deelname: geheel gratis \n❔ Meer informatie via Agenda | Zomer van Antwerpen | Zomer van Antwerpen
URL:https://bindusvzw.be/activiteiten/zomer-van-antwerpen-organiseert-muziek-in-de-wijk-13/
LOCATION:Zomer van Antwerpen – Zillebekelaan\, Zillebekelaan 9\, Berchem\, 2600
END:VEVENT
END:VCALENDAR