BEGIN:VCALENDAR
VERSION:2.0
PRODID:-//Bindus vzw - ECPv6.15.20//NONSGML v1.0//EN
CALSCALE:GREGORIAN
METHOD:PUBLISH
X-ORIGINAL-URL:https://bindusvzw.be
X-WR-CALDESC:Evenementen voor Bindus vzw
REFRESH-INTERVAL;VALUE=DURATION:PT1H
X-Robots-Tag:noindex
X-PUBLISHED-TTL:PT1H
BEGIN:VTIMEZONE
TZID:Europe/Helsinki
BEGIN:DAYLIGHT
TZOFFSETFROM:+0200
TZOFFSETTO:+0300
TZNAME:EEST
DTSTART:20240331T010000
END:DAYLIGHT
BEGIN:STANDARD
TZOFFSETFROM:+0300
TZOFFSETTO:+0200
TZNAME:EET
DTSTART:20241027T010000
END:STANDARD
BEGIN:DAYLIGHT
TZOFFSETFROM:+0200
TZOFFSETTO:+0300
TZNAME:EEST
DTSTART:20250330T010000
END:DAYLIGHT
BEGIN:STANDARD
TZOFFSETFROM:+0300
TZOFFSETTO:+0200
TZNAME:EET
DTSTART:20251026T010000
END:STANDARD
BEGIN:DAYLIGHT
TZOFFSETFROM:+0200
TZOFFSETTO:+0300
TZNAME:EEST
DTSTART:20260329T010000
END:DAYLIGHT
BEGIN:STANDARD
TZOFFSETFROM:+0300
TZOFFSETTO:+0200
TZNAME:EET
DTSTART:20261025T010000
END:STANDARD
END:VTIMEZONE
BEGIN:VEVENT
DTSTART;TZID=Europe/Helsinki:20250828T170000
DTEND;TZID=Europe/Helsinki:20250828T200000
DTSTAMP:20260420T024359
CREATED:20250901T112134Z
LAST-MODIFIED:20250901T112134Z
UID:10001519-1756400400-1756411200@bindusvzw.be
SUMMARY:Project over het muurtje in samenwerking met buurthuis Unik
DESCRIPTION:Over het muurtje\nHet verbinden van mensen en culturen dat is wat we doen\, stimuleren en graag aan deelnemen. \nOp deze zomerse avond verbinden we culturen uit alle windstreken doorheen muziek en lekkernijen. \n🗓️ Donderdag 28 augustus  \n⏰ 17u-20u  \n📍 Buurthuis Unik\, Fransenplaats 1\, 2018 Antwerpen \n✨ Iedereen is welkom \n \n🤝 In samenwerking met buurthuis Unik\, Izvor vzw en DoReMimuziek \n💶 Deelname: geheel kosteloos \n 
URL:https://bindusvzw.be/activiteiten/project-over-het-muurtje-in-samenwerking-met-buurthuis-unik/
LOCATION:Buurthuis Unik\, Fransenplaats 1\, Antwerpen\, 2018
CATEGORIES:Regionale Activiteit Antwerpen
ORGANIZER;CN="buurthuis Unik":MAILTO:info@buurthuisunik.com
END:VEVENT
END:VCALENDAR