BEGIN:VCALENDAR
VERSION:2.0
PRODID:-//Bindus vzw - ECPv6.15.20//NONSGML v1.0//EN
CALSCALE:GREGORIAN
METHOD:PUBLISH
X-ORIGINAL-URL:https://bindusvzw.be
X-WR-CALDESC:Evenementen voor Bindus vzw
REFRESH-INTERVAL;VALUE=DURATION:PT1H
X-Robots-Tag:noindex
X-PUBLISHED-TTL:PT1H
BEGIN:VTIMEZONE
TZID:Europe/Helsinki
BEGIN:DAYLIGHT
TZOFFSETFROM:+0200
TZOFFSETTO:+0300
TZNAME:EEST
DTSTART:20230326T010000
END:DAYLIGHT
BEGIN:STANDARD
TZOFFSETFROM:+0300
TZOFFSETTO:+0200
TZNAME:EET
DTSTART:20231029T010000
END:STANDARD
BEGIN:DAYLIGHT
TZOFFSETFROM:+0200
TZOFFSETTO:+0300
TZNAME:EEST
DTSTART:20240331T010000
END:DAYLIGHT
BEGIN:STANDARD
TZOFFSETFROM:+0300
TZOFFSETTO:+0200
TZNAME:EET
DTSTART:20241027T010000
END:STANDARD
BEGIN:DAYLIGHT
TZOFFSETFROM:+0200
TZOFFSETTO:+0300
TZNAME:EEST
DTSTART:20250330T010000
END:DAYLIGHT
BEGIN:STANDARD
TZOFFSETFROM:+0300
TZOFFSETTO:+0200
TZNAME:EET
DTSTART:20251026T010000
END:STANDARD
END:VTIMEZONE
BEGIN:VEVENT
DTSTART;TZID=Europe/Helsinki:20241211T091500
DTEND;TZID=Europe/Helsinki:20241211T170000
DTSTAMP:20260420T230120
CREATED:20241203T122645Z
LAST-MODIFIED:20241203T122645Z
UID:10000221-1733908500-1733936400@bindusvzw.be
SUMMARY:Studeren op unieke locaties\, ook bij ons!
DESCRIPTION:We’re all in this together!  \nHet is misschien wel de meest geneuriede songtekst die weerklinkt in de gangen van STUDY360. Tijdens de blokperiode van december 2024 en januari 2025 zetten ook wij onze deuren open voor studerende studenten. \n📍locatie: Brederodestraat 188\, 2018 Antwerpen \n⌚ van 09.15-17.00* \n🍽️ koffie\, thee en water is voorzien \n🛜 stabiele wifiverbinding \n💳 Helemaal gratis! \n🤝 Meer informatie: STUDY360 is er weer! | STUDY360\, studeren op unieke locaties in Antwerpen \n✍️ Registeren kan via https//study360.wp.mrhenry.eu/registreer/ \n* op de dagen die in geregistreerd staan
URL:https://bindusvzw.be/activiteiten/studeren-op-unieke-locaties-ook-bij-ons-5/
LOCATION:Bindus Antwerpen\, Brederodestraat 188\, Antwerpen\, antwerpen\, 2000\, België
CATEGORIES:Regionale Activiteit Antwerpen
ATTACH;FMTTYPE=image/jpeg:https://bindusvzw.be/wp-content/uploads/2024/11/study360-mas_1.jpg
ORGANIZER;CN="Bindus vzw":MAILTO:info@bindusvzw.be
END:VEVENT
BEGIN:VEVENT
DTSTART;TZID=Europe/Helsinki:20241210T091500
DTEND;TZID=Europe/Helsinki:20241210T170000
DTSTAMP:20260420T230120
CREATED:20241203T122613Z
LAST-MODIFIED:20241203T122613Z
UID:10000220-1733822100-1733850000@bindusvzw.be
SUMMARY:Studeren op unieke locaties\, ook bij ons!
DESCRIPTION:We’re all in this together!  \nHet is misschien wel de meest geneuriede songtekst die weerklinkt in de gangen van STUDY360. Tijdens de blokperiode van december 2024 en januari 2025 zetten ook wij onze deuren open voor studerende studenten. \n📍locatie: Brederodestraat 188\, 2018 Antwerpen \n⌚ van 09.15-17.00* \n🍽️ koffie\, thee en water is voorzien \n🛜 stabiele wifiverbinding \n💳 Helemaal gratis! \n🤝 Meer informatie: STUDY360 is er weer! | STUDY360\, studeren op unieke locaties in Antwerpen \n✍️ Registeren kan via https//study360.wp.mrhenry.eu/registreer/ \n* op de dagen die in geregistreerd staan
URL:https://bindusvzw.be/activiteiten/studeren-op-unieke-locaties-ook-bij-ons-4/
LOCATION:Bindus Antwerpen\, Brederodestraat 188\, Antwerpen\, antwerpen\, 2000\, België
CATEGORIES:Regionale Activiteit Antwerpen
ATTACH;FMTTYPE=image/jpeg:https://bindusvzw.be/wp-content/uploads/2024/11/study360-mas_1.jpg
ORGANIZER;CN="Bindus vzw":MAILTO:info@bindusvzw.be
END:VEVENT
BEGIN:VEVENT
DTSTART;TZID=Europe/Helsinki:20241209T091500
DTEND;TZID=Europe/Helsinki:20241209T170000
DTSTAMP:20260420T230120
CREATED:20241203T122542Z
LAST-MODIFIED:20241203T122542Z
UID:10000219-1733735700-1733763600@bindusvzw.be
SUMMARY:Studeren op unieke locaties\, ook bij ons!
DESCRIPTION:We’re all in this together!  \nHet is misschien wel de meest geneuriede songtekst die weerklinkt in de gangen van STUDY360. Tijdens de blokperiode van december 2024 en januari 2025 zetten ook wij onze deuren open voor studerende studenten. \n📍locatie: Brederodestraat 188\, 2018 Antwerpen \n⌚ van 09.15-17.00* \n🍽️ koffie\, thee en water is voorzien \n🛜 stabiele wifiverbinding \n💳 Helemaal gratis! \n🤝 Meer informatie: STUDY360 is er weer! | STUDY360\, studeren op unieke locaties in Antwerpen \n✍️ Registeren kan via https//study360.wp.mrhenry.eu/registreer/ \n* op de dagen die in geregistreerd staan
URL:https://bindusvzw.be/activiteiten/studeren-op-unieke-locaties-ook-bij-ons-3/
LOCATION:Bindus Antwerpen\, Brederodestraat 188\, Antwerpen\, antwerpen\, 2000\, België
CATEGORIES:Regionale Activiteit Antwerpen
ATTACH;FMTTYPE=image/jpeg:https://bindusvzw.be/wp-content/uploads/2024/11/study360-mas_1.jpg
ORGANIZER;CN="Bindus vzw":MAILTO:info@bindusvzw.be
END:VEVENT
BEGIN:VEVENT
DTSTART;TZID=Europe/Helsinki:20241204T091500
DTEND;TZID=Europe/Helsinki:20241204T170000
DTSTAMP:20260420T230120
CREATED:20241203T122508Z
LAST-MODIFIED:20241203T122508Z
UID:10000218-1733303700-1733331600@bindusvzw.be
SUMMARY:Studeren op unieke locaties\, ook bij ons!
DESCRIPTION:We’re all in this together!  \nHet is misschien wel de meest geneuriede songtekst die weerklinkt in de gangen van STUDY360. Tijdens de blokperiode van december 2024 en januari 2025 zetten ook wij onze deuren open voor studerende studenten. \n📍locatie: Brederodestraat 188\, 2018 Antwerpen \n⌚ van 09.15-17.00* \n🍽️ koffie\, thee en water is voorzien \n🛜 stabiele wifiverbinding \n💳 Helemaal gratis! \n🤝 Meer informatie: STUDY360 is er weer! | STUDY360\, studeren op unieke locaties in Antwerpen \n✍️ Registeren kan via https//study360.wp.mrhenry.eu/registreer/ \n* op de dagen die in geregistreerd staan
URL:https://bindusvzw.be/activiteiten/studeren-op-unieke-locaties-ook-bij-ons-2/
LOCATION:Bindus Antwerpen\, Brederodestraat 188\, Antwerpen\, antwerpen\, 2000\, België
CATEGORIES:Regionale Activiteit Antwerpen
ATTACH;FMTTYPE=image/jpeg:https://bindusvzw.be/wp-content/uploads/2024/11/study360-mas_1.jpg
ORGANIZER;CN="Bindus vzw":MAILTO:info@bindusvzw.be
END:VEVENT
BEGIN:VEVENT
DTSTART;TZID=Europe/Helsinki:20241203T091500
DTEND;TZID=Europe/Helsinki:20241203T170000
DTSTAMP:20260420T230120
CREATED:20241126T145525Z
LAST-MODIFIED:20241203T122405Z
UID:10000136-1733217300-1733245200@bindusvzw.be
SUMMARY:Studeren op unieke locaties\, ook bij ons!
DESCRIPTION:We’re all in this together!  \nHet is misschien wel de meest geneuriede songtekst die weerklinkt in de gangen van STUDY360. Tijdens de blokperiode van december 2024 en januari 2025 zetten ook wij onze deuren open voor studerende studenten. \n📍locatie: Brederodestraat 188\, 2018 Antwerpen \n⌚ van 09.15-17.00* \n🍽️ koffie\, thee en water is voorzien \n🛜 stabiele wifiverbinding \n💳 Helemaal gratis! \n🤝 Meer informatie: STUDY360 is er weer! | STUDY360\, studeren op unieke locaties in Antwerpen \n✍️ Registeren kan via https//study360.wp.mrhenry.eu/registreer/ \n* op de dagen die in geregistreerd staan
URL:https://bindusvzw.be/activiteiten/studeren-op-unieke-locaties-ook-bij-ons/
LOCATION:Bindus Antwerpen\, Brederodestraat 188\, Antwerpen\, antwerpen\, 2000\, België
CATEGORIES:Regionale Activiteit Antwerpen
ATTACH;FMTTYPE=image/jpeg:https://bindusvzw.be/wp-content/uploads/2024/11/study360-mas_1.jpg
ORGANIZER;CN="Bindus vzw":MAILTO:info@bindusvzw.be
END:VEVENT
END:VCALENDAR