BEGIN:VCALENDAR
VERSION:2.0
PRODID:-//Bindus vzw - ECPv6.15.20//NONSGML v1.0//EN
CALSCALE:GREGORIAN
METHOD:PUBLISH
X-WR-CALNAME:Bindus vzw
X-ORIGINAL-URL:https://bindusvzw.be
X-WR-CALDESC:Evenementen voor Bindus vzw
REFRESH-INTERVAL;VALUE=DURATION:PT1H
X-Robots-Tag:noindex
X-PUBLISHED-TTL:PT1H
BEGIN:VTIMEZONE
TZID:Europe/Helsinki
BEGIN:DAYLIGHT
TZOFFSETFROM:+0200
TZOFFSETTO:+0300
TZNAME:EEST
DTSTART:20220327T010000
END:DAYLIGHT
BEGIN:STANDARD
TZOFFSETFROM:+0300
TZOFFSETTO:+0200
TZNAME:EET
DTSTART:20221030T010000
END:STANDARD
BEGIN:DAYLIGHT
TZOFFSETFROM:+0200
TZOFFSETTO:+0300
TZNAME:EEST
DTSTART:20230326T010000
END:DAYLIGHT
BEGIN:STANDARD
TZOFFSETFROM:+0300
TZOFFSETTO:+0200
TZNAME:EET
DTSTART:20231029T010000
END:STANDARD
BEGIN:DAYLIGHT
TZOFFSETFROM:+0200
TZOFFSETTO:+0300
TZNAME:EEST
DTSTART:20240331T010000
END:DAYLIGHT
BEGIN:STANDARD
TZOFFSETFROM:+0300
TZOFFSETTO:+0200
TZNAME:EET
DTSTART:20241027T010000
END:STANDARD
BEGIN:DAYLIGHT
TZOFFSETFROM:+0200
TZOFFSETTO:+0300
TZNAME:EEST
DTSTART:20250330T010000
END:DAYLIGHT
BEGIN:STANDARD
TZOFFSETFROM:+0300
TZOFFSETTO:+0200
TZNAME:EET
DTSTART:20251026T010000
END:STANDARD
BEGIN:DAYLIGHT
TZOFFSETFROM:+0200
TZOFFSETTO:+0300
TZNAME:EEST
DTSTART:20260329T010000
END:DAYLIGHT
BEGIN:STANDARD
TZOFFSETFROM:+0300
TZOFFSETTO:+0200
TZNAME:EET
DTSTART:20261025T010000
END:STANDARD
END:VTIMEZONE
BEGIN:VEVENT
DTSTART;TZID=Europe/Helsinki:20251111T100000
DTEND;TZID=Europe/Helsinki:20251111T180000
DTSTAMP:20260420T021045
CREATED:20251009T133625Z
LAST-MODIFIED:20251009T133625Z
UID:10001301-1762855200-1762884000@bindusvzw.be
SUMMARY:The Touch of Love organiseert een solidariteitsactie
DESCRIPTION:Kom samen met The Touch of Love en steun Gaza\n\n⏰ 10u-13u (ontbijt) \n⏰ 13u-18u (markt ten voordele van Gaza) \n❔ Iedereen is van harte welkom om samen met ons een hele dag van hoop en verbondenheid te beleven. \n📍 De Villages De Clercampstraat 36\, 1853 Strombeek-Bever \n💶 Deelname: ontbijt 10 euro\nDe volledige opbrengst gaat naar steun voor Gaza \n🖊️ inschrijven en meer informatie: Facebook \n 
URL:https://bindusvzw.be/activiteiten/the-touch-of-love-organiseert-een-solidariteitsactie/
CATEGORIES:Activiteit Leden
ATTACH;FMTTYPE=image/jpeg:https://bindusvzw.be/wp-content/uploads/2025/03/logo-ttl.jpg
END:VEVENT
BEGIN:VEVENT
DTSTART;TZID=Europe/Helsinki:20250417T130000
DTEND;TZID=Europe/Helsinki:20250417T170000
DTSTAMP:20260420T021045
CREATED:20250617T124519Z
LAST-MODIFIED:20250617T125147Z
UID:10001254-1744894800-1744909200@bindusvzw.be
SUMMARY:The Touch of love brengt hulde aan onze ouderen
DESCRIPTION:Verbindende activiteit in een residentie \n⏰ 13u-17u \n❔ Iedereen is van harte welkom om samen met ons de ouderen te bedanken voor hun bijdrage aan de samenleving.\nOp het programma: elkaar leren kennen\, culturele uitwisseling met behulp van Turkse specialiteiten zoals\nTurkse koffie\, thee\, börek en sazmuziek. \n📍 Haachtstesteenweg 173\, 1030 Schaarbeek \n🙌 In samenwerking met Turkish Lady en Music club \n💶 Deelname: helemaal gratis \n🖊️ inschrijven en meer informatie: 0486 40 86 14 \n 
URL:https://bindusvzw.be/activiteiten/the-touch-of-love-brengt-hulde-aan-onze-ouderen-2/
CATEGORIES:Activiteit Leden
ATTACH;FMTTYPE=image/jpeg:https://bindusvzw.be/wp-content/uploads/2025/03/logo-ttl.jpg
END:VEVENT
BEGIN:VEVENT
DTSTART;TZID=Europe/Helsinki:20250328T180000
DTEND;TZID=Europe/Helsinki:20250328T230000
DTSTAMP:20260420T021045
CREATED:20250310T102235Z
LAST-MODIFIED:20250326T083701Z
UID:10000460-1743184800-1743202800@bindusvzw.be
SUMMARY:The Touch of Love Academy organiseert een Iftar
DESCRIPTION:Oproep tot solidariteit voor Gaza\nLaten we in deze heilige maand van Ramadan samenkomen\nvoor een IFTAR van steun en delen \n🗓️ vrijdag 28 maart  \n⏰ Vanaf 18.00 uur met het breken van de vasten om 19.15 uur \n📍Zaal Diva\, Jerusalemstraat 39\, 1030 Brussel \n💶 30 euro per persoon \n🤝 In samenwerking met IHH Belgium \n✨ Geef een donatie via The Touch of Love\nIBAN BE94 0020 0156 7314 \n🖊️ inschrijven en meer informatie via 0486 40 86 14 of ttolacademy@gmail.com
URL:https://bindusvzw.be/activiteiten/the-touch-of-love-academy-organiseert-een-iftar/
LOCATION:Zaal Diva\, Jerusalemstraat 39\, Schaarbeek\, 1030\, België
CATEGORIES:Activiteit Leden,Regionale Activiteit Brussel
ATTACH;FMTTYPE=image/jpeg:https://bindusvzw.be/wp-content/uploads/2025/03/logo-ttl.jpg
END:VEVENT
BEGIN:VEVENT
DTSTART;TZID=Europe/Helsinki:20241213T100000
DTEND;TZID=Europe/Helsinki:20241213T130000
DTSTAMP:20260420T021045
CREATED:20241204T093449Z
LAST-MODIFIED:20241204T093659Z
UID:10000237-1734084000-1734094800@bindusvzw.be
SUMMARY:The Touch of Love Academy organiseert een ontbijtactie
DESCRIPTION:Ontbijtactie ten voordele van kansarme kinderen in België\n🗓️ Vrijdag 13 december  \n⏰ 10-13u  \n📍LALE PIDE\, Haachtsesteenweg 129\, 1030 Schaarbeek \n✨ Iedereen is welkom om deel te nemen \n💝 Vrijblijvende donatie via BE 75001985730951 \n💶 Deelname: 20 euro inclusief koffie en thee \n🖊️ inschrijven en meer informatie via Hava Alp 0486 40 86 14
URL:https://bindusvzw.be/activiteiten/the-touch-of-love-academy-organiseert-een-ontbijtactie/
LOCATION:LALE PIDE\, Haachtsesteenweg 129\, Schaarbeek\, 1030\, België
CATEGORIES:Activiteit Leden
ATTACH;FMTTYPE=image/png:https://bindusvzw.be/wp-content/uploads/2024/12/versie-5.png
END:VEVENT
BEGIN:VEVENT
DTSTART;TZID=Europe/Helsinki:20241023T130000
DTEND;TZID=Europe/Helsinki:20241023T170000
DTSTAMP:20260420T021045
CREATED:20241029T110408Z
LAST-MODIFIED:20241029T111428Z
UID:10000063-1729688400-1729702800@bindusvzw.be
SUMMARY:The Touch of love brengt hulde aan onze ouderen
DESCRIPTION:Op 23 oktober organiseert The Touch of Love Academy (lidvereniging Brussel) een activiteit in samenwerking met Music Club (een lidvereniging uit Limburg) en een Brusselse organisatie Turkish Lady.
URL:https://bindusvzw.be/activiteiten/the-touch-of-love-brengt-hulde-aan-onze-ouderen/
LOCATION:Bindus Antwerpen\, Brederodestraat 188\, Antwerpen\, antwerpen\, 2000\, België
ATTACH;FMTTYPE=image/png:https://bindusvzw.be/wp-content/uploads/2024/10/20241014_Uitnodiging_Activiteit_TTOL.png
END:VEVENT
BEGIN:VEVENT
DTSTART;TZID=Europe/Helsinki:20231218T100000
DTEND;TZID=Europe/Helsinki:20231218T120000
DTSTAMP:20260420T021045
CREATED:20241211T094249Z
LAST-MODIFIED:20241211T094249Z
UID:10000333-1702893600-1702900800@bindusvzw.be
SUMMARY:Slotmoment VIVA FOR LIFE
DESCRIPTION:Overhandiging cheque ten voordele van het goede doel\n🗓️ Maandag 18 december 2023 \n⏰ Van 10.00 tot 12.00 \n📍 Sint-Joost-ten-Node \n🎊Vol trots kan de Touch of Love Academy maar liefst 445 euro schenken aan het goede doel \n 
URL:https://bindusvzw.be/activiteiten/slotmoment-viva-for-life/
LOCATION:Tekince\, Haachtsesteenweg 133\, Schaarbeek\, 1030\, België
CATEGORIES:Activiteit Leden
ATTACH;FMTTYPE=image/jpeg:https://bindusvzw.be/wp-content/uploads/2024/12/viva-for-life-cheque.jpg
END:VEVENT
BEGIN:VEVENT
DTSTART;TZID=Europe/Helsinki:20231213T100000
DTEND;TZID=Europe/Helsinki:20231213T120000
DTSTAMP:20260420T021045
CREATED:20241127T151436Z
LAST-MODIFIED:20241127T151436Z
UID:10000146-1702461600-1702468800@bindusvzw.be
SUMMARY:Ontbijtactie
DESCRIPTION:Ontbijt ten voordele van VIVA FOR LIFE\n🗓️ Zondag 13 december 2023 \n⏰ Van 10.00 tot 12.00 \n📍 Haachtsesteenweg 133\, 1030 Schaarbeek \n💶 Deelname: 20 euro per persoon \n✍️ Reserveren gewenst \n🤝 Meer informatie: www.sjtn.brussels en www.rtbf.be/vivaforlife \n📱 Hava Alp 0486 40 86 14 \n 
URL:https://bindusvzw.be/activiteiten/ontbijtactie/
LOCATION:Tekince\, Haachtsesteenweg 133\, Schaarbeek\, 1030\, België
CATEGORIES:Activiteit Leden
END:VEVENT
BEGIN:VEVENT
DTSTART;TZID=Europe/Helsinki:20231129T100000
DTEND;TZID=Europe/Helsinki:20231129T130000
DTSTAMP:20260420T021045
CREATED:20241211T102229Z
LAST-MODIFIED:20241211T102229Z
UID:10000335-1701252000-1701262800@bindusvzw.be
SUMMARY:The Touch of Love Academy neemt opnieuw deel aan VIVA FOR LIFE
DESCRIPTION:The Touch of Love Academy geeft samen met partners de aftrap voor VIVA FOR LIFE\n🗓️ Donderdag 29 november \n⏰ 10-13u  \n📍Gemeentehuis \, Sterrekundelaan 12\, 1210 Sint- Joost- ten Node \n✨ Samen met de verschillende partners wordt nagedacht over mogelijke acties in het kader van VIVA FOR LIFE. Wij kijken er alvast naar uit! \n🖊️ inschrijven en meer informatie via Hava Alp 0486 40 86 14
URL:https://bindusvzw.be/activiteiten/the-touch-of-love-academy-neemt-opnieuw-deel-aan-viva-for-life/
LOCATION:gemeentehuis\, Sterrenkundelaan 12\, Sint Joost ten Node\, België
CATEGORIES:Activiteit Leden
ATTACH;FMTTYPE=image/png:https://bindusvzw.be/wp-content/uploads/2024/12/versie-5.png
END:VEVENT
BEGIN:VEVENT
DTSTART;TZID=Europe/Helsinki:20230929T130000
DTEND;TZID=Europe/Helsinki:20230929T170000
DTSTAMP:20260420T021045
CREATED:20241211T101122Z
LAST-MODIFIED:20241211T101122Z
UID:10000334-1695992400-1696006800@bindusvzw.be
SUMMARY:The Touch of Love organiseert een seminarie
DESCRIPTION:Seminarie rond liefde\, trouw en gezin: “Een gezin zijn\, een gezin blijven”\n  \n🗓️ vrijdag 29 september  \n⏰ 13u-16u \n❔ Iedereen is van harte welkom \n📍 Haachtstesteenweg 173\, 1030 Schaarbeek \n✨ Met gastspreker Dr. Ertugul Tas (klinisch psycholoog) \n🙌 In samenwerking met Turkish Lady en SFT Clinic \n💶 Deelname: helemaal gratis \n🖊️ inschrijven en meer informatie: 0476 77 82 76 \n 
URL:https://bindusvzw.be/activiteiten/the-touch-of-love-organiseert-een-seminarie/
LOCATION:haachtsesteenweg 173\, 1030 Schaarbeek\, Haachtsesteenweg 173\, Schaarbeek\, 1030\, België
CATEGORIES:Activiteit Leden
END:VEVENT
END:VCALENDAR