BEGIN:VCALENDAR
VERSION:2.0
PRODID:-//Bindus vzw - ECPv6.15.20//NONSGML v1.0//EN
CALSCALE:GREGORIAN
METHOD:PUBLISH
X-WR-CALNAME:Bindus vzw
X-ORIGINAL-URL:https://bindusvzw.be
X-WR-CALDESC:Evenementen voor Bindus vzw
REFRESH-INTERVAL;VALUE=DURATION:PT1H
X-Robots-Tag:noindex
X-PUBLISHED-TTL:PT1H
BEGIN:VTIMEZONE
TZID:Europe/Helsinki
BEGIN:DAYLIGHT
TZOFFSETFROM:+0200
TZOFFSETTO:+0300
TZNAME:EEST
DTSTART:20240331T010000
END:DAYLIGHT
BEGIN:STANDARD
TZOFFSETFROM:+0300
TZOFFSETTO:+0200
TZNAME:EET
DTSTART:20241027T010000
END:STANDARD
BEGIN:DAYLIGHT
TZOFFSETFROM:+0200
TZOFFSETTO:+0300
TZNAME:EEST
DTSTART:20250330T010000
END:DAYLIGHT
BEGIN:STANDARD
TZOFFSETFROM:+0300
TZOFFSETTO:+0200
TZNAME:EET
DTSTART:20251026T010000
END:STANDARD
BEGIN:DAYLIGHT
TZOFFSETFROM:+0200
TZOFFSETTO:+0300
TZNAME:EEST
DTSTART:20260329T010000
END:DAYLIGHT
BEGIN:STANDARD
TZOFFSETFROM:+0300
TZOFFSETTO:+0200
TZNAME:EET
DTSTART:20261025T010000
END:STANDARD
END:VTIMEZONE
BEGIN:VEVENT
DTSTART;TZID=Europe/Helsinki:20250705T180000
DTEND;TZID=Europe/Helsinki:20250705T210000
DTSTAMP:20260421T023928
CREATED:20250630T134458Z
LAST-MODIFIED:20250630T134458Z
UID:10001272-1751738400-1751749200@bindusvzw.be
SUMMARY:Zomer van Antwerpen organiseert muziek in de wijk
DESCRIPTION:Muziek in de wijk – Zillebekelaan\n🗓️ zaterdag 05 juli   \n📍 Zillebekelaan 9\, 2600 Berchem \n❗Voor het ultieme feest moet je op de pleintjes in onze stad zijn.  Daar vieren we jouw zomer! Met muziek uit\nalle uithoeken van de wereld en met lokale talenten. Van Afrikaanse ritmes tot Franse tango\, voor ieder wat wils! \n Plein opent om 18u en sluit om 21u  19u30: Voorprogramma ( Ninja24o) 21u00: Hoofdprogramma (Kasiva Mutua (Kenia)) \n💶 Deelname: geheel gratis \n❔ Meer informatie via Agenda | Zomer van Antwerpen | Zomer van Antwerpen
URL:https://bindusvzw.be/activiteiten/zomer-van-antwerpen-organiseert-muziek-in-de-wijk-13/
LOCATION:Zomer van Antwerpen – Zillebekelaan\, Zillebekelaan 9\, Berchem\, 2600
END:VEVENT
BEGIN:VEVENT
DTSTART;TZID=Europe/Helsinki:20250704T190000
DTEND;TZID=Europe/Helsinki:20250704T220000
DTSTAMP:20260421T023928
CREATED:20250630T133221Z
LAST-MODIFIED:20250630T133526Z
UID:10001268-1751655600-1751666400@bindusvzw.be
SUMMARY:Zomer van Antwerpen organiseert muziek in de wijk
DESCRIPTION:Muziek in de wijk -Bist\n🗓️ vrijdag 4 juli   \n📍 Bist\, 2610 Wilrijk \n❗Voor het ultieme feest moet je op de pleintjes in onze stad zijn.  Daar vieren we jouw zomer! Met muziek uit\nalle uithoeken van de wereld en met lokale talenten. Van Afrikaanse ritmes tot Franse tango\, voor ieder wat wils! \n Plein opent om 19u en sluit om 22u  19u30: Voorprogramma ( Rob Moens) 21u00: Hoofdprogramma (Kasiva Mutua (Kenia)) \n💶 Deelname: geheel gratis \n❔ Meer informatie via Agenda | Zomer van Antwerpen | Zomer van Antwerpen
URL:https://bindusvzw.be/activiteiten/zomer-van-antwerpen-organiseert-muziek-in-de-wijk-9/
LOCATION:Zomer in de wijk – Bist\, Bist 42\, Wilrijk\, 2610\, België
END:VEVENT
BEGIN:VEVENT
DTSTART;TZID=Europe/Helsinki:20250703T180000
DTEND;TZID=Europe/Helsinki:20250703T210000
DTSTAMP:20260421T023928
CREATED:20250630T125715Z
LAST-MODIFIED:20250630T125715Z
UID:10001264-1751565600-1751576400@bindusvzw.be
SUMMARY:Zomer van Antwerpen organiseert muziek in de wijk
DESCRIPTION:Muziek in de wijk – Sint-Andriesplein\n🗓️ Donderdag 3 juli   \n📍 Sint- Andriesplaats\, 2000 Antwerpen \n❗Voor het ultieme feest moet je op de pleintjes in onze stad zijn.  Daar vieren we jouw zomer! Met muziek uit\nalle uithoeken van de wereld en met lokale talenten. Van Afrikaanse ritmes tot Franse tango\, voor ieder wat wils! \n Plein opent om 18u en sluit om 21u  18u30: Voorprogramma (Trio Nossa Saudade) 20u00: Hoofdprogramma (Kasiva Mutua (Kenia)) \n💶 Deelname: geheel gratis \n❔ Meer informatie via Agenda | Zomer van Antwerpen | Zomer van Antwerpen
URL:https://bindusvzw.be/activiteiten/zomer-van-antwerpen-organiseert-muziek-in-de-wijk-5/
LOCATION:Zomer in de wijk – Sint-Andriesplein\, Sint-Andriesplein\, Antwerpen\, 2000
END:VEVENT
BEGIN:VEVENT
DTSTART;TZID=Europe/Helsinki:20250702T180000
DTEND;TZID=Europe/Helsinki:20250702T210000
DTSTAMP:20260421T023928
CREATED:20250630T123115Z
LAST-MODIFIED:20250630T123115Z
UID:10001260-1751479200-1751490000@bindusvzw.be
SUMMARY:Zomer van Antwerpen organiseert muziek in de wijk
DESCRIPTION:Muziek in de wijk – Stuivenbergplein\n🗓️ Woensdag 2 juli   \n📍 Stuivenbergplein 54 \, 2060 Antwerpen \n❗Voor het ultieme feest moet je op de pleintjes in onze stad zijn.  Daar vieren we jouw zomer! Met muziek uit\nalle uithoeken van de wereld en met lokale talenten. Van Afrikaanse ritmes tot Franse tango\, voor ieder wat wils! \n Plein opent om 18u en sluit om 21u  18u30: Voorprogramma (Verbruggen/Iqbal/Moesen Trio) 20u00: Hoofdprogramma (Kasiva Mutua (Kenia)) \n💶 Deelname: geheel gratis \n❔ Meer informatie via Agenda | Zomer van Antwerpen | Zomer van Antwerpen
URL:https://bindusvzw.be/activiteiten/zomer-van-antwerpen-organiseert-muziek-in-de-wijk/
LOCATION:Zomer in de wijk- Stuivenbergplein\, Stuivenbergplein 54\, Antwerpen\, 2060
END:VEVENT
END:VCALENDAR